BEGIN:VCALENDAR
VERSION:2.0
PRODID:-//Osanis Inclusion Services Inc. - ECPv6.15.20//NONSGML v1.0//EN
CALSCALE:GREGORIAN
METHOD:PUBLISH
X-WR-CALNAME:Osanis Inclusion Services Inc.
X-ORIGINAL-URL:https://osanisinclusion.ca
X-WR-CALDESC:Events for Osanis Inclusion Services Inc.
REFRESH-INTERVAL;VALUE=DURATION:PT1H
X-Robots-Tag:noindex
X-PUBLISHED-TTL:PT1H
BEGIN:VTIMEZONE
TZID:America/Vancouver
BEGIN:DAYLIGHT
TZOFFSETFROM:-0800
TZOFFSETTO:-0700
TZNAME:PDT
DTSTART:20240310T100000
END:DAYLIGHT
BEGIN:STANDARD
TZOFFSETFROM:-0700
TZOFFSETTO:-0800
TZNAME:PST
DTSTART:20241103T090000
END:STANDARD
BEGIN:DAYLIGHT
TZOFFSETFROM:-0800
TZOFFSETTO:-0700
TZNAME:PDT
DTSTART:20250309T100000
END:DAYLIGHT
BEGIN:STANDARD
TZOFFSETFROM:-0700
TZOFFSETTO:-0800
TZNAME:PST
DTSTART:20251102T090000
END:STANDARD
BEGIN:DAYLIGHT
TZOFFSETFROM:-0800
TZOFFSETTO:-0700
TZNAME:PDT
DTSTART:20260308T100000
END:DAYLIGHT
BEGIN:STANDARD
TZOFFSETFROM:-0700
TZOFFSETTO:-0800
TZNAME:PST
DTSTART:20261101T090000
END:STANDARD
END:VTIMEZONE
BEGIN:VEVENT
DTSTART;TZID=America/Vancouver:20250130T090000
DTEND;TZID=America/Vancouver:20250323T235000
DTSTAMP:20260421T163227
CREATED:20241109T041338Z
LAST-MODIFIED:20241109T041338Z
UID:2481-1738227600-1742773800@osanisinclusion.ca
SUMMARY:SEXABA
DESCRIPTION:Happy SexABA 2025! Join us for our 5th annual year\, online starting Saturday Feb 01\, 2025 through Sunday Feb 02\, 2024 for a full two day Conference on sexual behavior\, sexuality\, and gender through a lens of neurodiversity affirmation\, harm reduction\, and human rights. Can’t make it live online? All recordings will be available until March 31\, 2025.  \nAlso consider also joining us online Thursday Jan 30\, 2025 and Friday Jan 31\, 2025 for four 3hr live\, interactive Pre-Conference Workshops. Can’t make it live online? All recordings of workshops will also be available until March 31\, 2025. \n12 BACB CEUs will be available across the 2 day Conference\, and an additional 12 BACB CEUs will be available across the 4 Pre-Conference Workshops\, for a total of 24 possible BACB CEUs across all conference offerings. \nAll BACB CEUs will be available for both live online attendance\, as well as asynchronous online attendance. \nReally want to be here\, but can’t do the ticket price? Reach out to info@sexaba.com to inquire about our scholarships. \nIf you have any questions about the conference\, you can also reach us at info@sexaba.com! \nWe can’t wait to see you!
URL:https://osanisinclusion.ca/event/sexaba/
LOCATION:Virtual Event
CATEGORIES:Education,Online Event,Zoom Event
ATTACH;FMTTYPE=image/png:https://osanisinclusion.ca/wp-content/uploads/2024/11/Sexaba.png
END:VEVENT
BEGIN:VEVENT
DTSTART;TZID=America/Vancouver:20250304T183000
DTEND;TZID=America/Vancouver:20250306T200000
DTSTAMP:20260421T163227
CREATED:20250304T010635Z
LAST-MODIFIED:20250304T010945Z
UID:2915-1741113000-1741291200@osanisinclusion.ca
SUMMARY:Explosive Behaviour in Teens: Strategies To Empower Families
DESCRIPTION:When our teens are showing up in explosive ways\, we sometimes blame ourselves. Listen to a therapist explain some causes of explosive behaviour and strategies that support parents and teens. ( Online Events )\n\nDates & Times:\nMarch 4\, 5\, 6\, 11\,& 25th 6:30 pm – 8:00pm\nMarch 12\, 12:00 pm – 1:30 pm\n\nWatch Now: https://youtu.be/USkd1QIeNdc?si=GF4rJik-GH0ljYIb\nRSVP:https://familysmart.ca/monthly-events/
URL:https://osanisinclusion.ca/event/explosive-behaviour-in-teens-strategies-to-empower-families/
LOCATION:Virtual Event
CATEGORIES:Education,Online Event
ATTACH;FMTTYPE=image/jpeg:https://osanisinclusion.ca/wp-content/uploads/2025/03/FamilySmart-Monthly-Event-March-2025_BC.jpg
END:VEVENT
BEGIN:VEVENT
DTSTART;TZID=America/Vancouver:20250305T173000
DTEND;TZID=America/Vancouver:20250305T193000
DTSTAMP:20260421T163228
CREATED:20250304T011914Z
LAST-MODIFIED:20250304T012106Z
UID:2924-1741195800-1741203000@osanisinclusion.ca
SUMMARY:Help For the Hard Times Workshop
DESCRIPTION:For parents and caregivers whose children have been at the ER or have had a hospital stay for mental health or substance use issues.\n\n \nDetails for 1-hour Workshops:\n\nSession 1: How to support a safety plan at home (Part 1)\n\nSession 2: How to support a safety plan at home (Part 2)\nSession 3: How to take care of yourself and your family after a crisis\nSession 4: How to find the resources you need\n\nDates: Offered every month at various times\nCost: Free of Charge\n\nFor more information and registration please visit:www.familysmart.ca/workshops
URL:https://osanisinclusion.ca/event/help-for-the-hard-times-workshop/
LOCATION:Virtual Event
CATEGORIES:Education,Health & wellness,Online Event
ATTACH;FMTTYPE=image/jpeg:https://osanisinclusion.ca/wp-content/uploads/2025/03/Help-for-The-Hard-Times-Workshop.jpg
END:VEVENT
BEGIN:VEVENT
DTSTART;TZID=America/Vancouver:20250306T180000
DTEND;TZID=America/Vancouver:20250306T200000
DTSTAMP:20260421T163228
CREATED:20250304T012036Z
LAST-MODIFIED:20250304T012036Z
UID:2927-1741284000-1741291200@osanisinclusion.ca
SUMMARY:Help For the Hard Times Workshop
DESCRIPTION:For parents and caregivers whose children have been at the ER or have had a hospital stay for mental health or substance use issues.\n\n \nDetails for 1-hour Workshops:\n\nSession 1: How to support a safety plan at home (Part 1)\n\nSession 2: How to support a safety plan at home (Part 2)\nSession 3: How to take care of yourself and your family after a crisis\nSession 4: How to find the resources you need\n\nDates: Offered every month at various times\nCost: Free of Charge\n\nFor more information and registration please visit:www.familysmart.ca/workshops
URL:https://osanisinclusion.ca/event/help-for-the-hard-times-workshop-2/
LOCATION:Virtual Event
CATEGORIES:Education,Health & wellness,Online Event
ATTACH;FMTTYPE=image/jpeg:https://osanisinclusion.ca/wp-content/uploads/2025/03/Help-for-The-Hard-Times-Workshop.jpg
END:VEVENT
BEGIN:VEVENT
DTSTART;TZID=America/Vancouver:20250311T120000
DTEND;TZID=America/Vancouver:20250311T130000
DTSTAMP:20260421T163228
CREATED:20250109T234151Z
LAST-MODIFIED:20250109T234151Z
UID:2734-1741694400-1741698000@osanisinclusion.ca
SUMMARY:Gender Marvelous
DESCRIPTION:Welcome to a space where families come together to share their experiences\, ask questions\, and support one another as we navigate the journey of raising our queer\, gender-diverse and/or Two-Spirit children and youth. Join the conversation\, find strength and encouragement\, and connect with a network of families who understand. All queer and 2SLGBTQIA+ families are welcome. Let’s support each other and grow together! \nFamily Support Institute of BC (FSI) is a provincial not-for-profit society committed to supporting families who have a family member with a disability. FSI is unique in Canada and the only grassroots family to family organization that has a broad volunteer base. FSI SUPPORTS AND SERVICES ARE FREE TO ANY FAMILY
URL:https://osanisinclusion.ca/event/gender-marvelous-2-2-2-2/
LOCATION:Virtual Event
CATEGORIES:Education,Online Event
ATTACH;FMTTYPE=image/jpeg:https://osanisinclusion.ca/wp-content/uploads/2025/01/Gender-Marvelous.jpg
END:VEVENT
BEGIN:VEVENT
DTSTART;TZID=America/Vancouver:20250311T120000
DTEND;TZID=America/Vancouver:20250311T130000
DTSTAMP:20260421T163228
CREATED:20250304T012200Z
LAST-MODIFIED:20250304T012200Z
UID:2929-1741694400-1741698000@osanisinclusion.ca
SUMMARY:Help For the Hard Times Workshop
DESCRIPTION:For parents and caregivers whose children have been at the ER or have had a hospital stay for mental health or substance use issues.\n\n \nDetails for 1-hour Workshops:\n\nSession 1: How to support a safety plan at home (Part 1)\n\nSession 2: How to support a safety plan at home (Part 2)\nSession 3: How to take care of yourself and your family after a crisis\nSession 4: How to find the resources you need\n\nDates: Offered every month at various times\nCost: Free of Charge\n\nFor more information and registration please visit:www.familysmart.ca/workshops
URL:https://osanisinclusion.ca/event/help-for-the-hard-times-workshop-2-2/
LOCATION:Virtual Event
CATEGORIES:Education,Health & wellness,Online Event
ATTACH;FMTTYPE=image/jpeg:https://osanisinclusion.ca/wp-content/uploads/2025/03/Help-for-The-Hard-Times-Workshop.jpg
END:VEVENT
BEGIN:VEVENT
DTSTART;TZID=America/Vancouver:20250311T183000
DTEND;TZID=America/Vancouver:20250311T200000
DTSTAMP:20260421T163228
CREATED:20250225T150540Z
LAST-MODIFIED:20250225T150540Z
UID:2911-1741717800-1741723200@osanisinclusion.ca
SUMMARY:SEA: For Adults online workshop
DESCRIPTION:A 90-minute online suicide prevention workshop developed by NEED2 to provide foundational information about suicide that is accessible and relevant to adults\, no matter their role in the community. \nDate: March 11\, 2025\nTime: 6:30 – 8pm \nOnce you’ve registered\, you will receive the Zoom link the morning of the workshop.
URL:https://osanisinclusion.ca/event/sea-for-adults-online-workshop/
CATEGORIES:Education,Online Event
ATTACH;FMTTYPE=image/png:https://osanisinclusion.ca/wp-content/uploads/2025/02/SEA-for-Adults.png
END:VEVENT
BEGIN:VEVENT
DTSTART;TZID=America/Vancouver:20250311T183000
DTEND;TZID=America/Vancouver:20250311T200000
DTSTAMP:20260421T163228
CREATED:20250304T010917Z
LAST-MODIFIED:20250304T010917Z
UID:2918-1741717800-1741723200@osanisinclusion.ca
SUMMARY:Explosive Behaviour in Teens: Strategies To Empower Families
DESCRIPTION:When our teens are showing up in explosive ways\, we sometimes blame ourselves. Listen to a therapist explain some causes of explosive behaviour and strategies that support parents and teens. ( Online Events )\n\nDates & Times:\nMarch 4\, 5\, 6\, 11\,& 25th 6:30 pm – 8:00pm\nMarch 12\, 12:00 pm – 1:30 pm\n\nWatch Now: https://youtu.be/USkd1QIeNdc?si=GF4rJik-GH0ljYIb\nRSVP:https://familysmart.ca/monthly-events/
URL:https://osanisinclusion.ca/event/explosive-behaviour-in-teens-strategies-to-empower-families-2/
LOCATION:Virtual Event
CATEGORIES:Education,Online Event
ATTACH;FMTTYPE=image/jpeg:https://osanisinclusion.ca/wp-content/uploads/2025/03/FamilySmart-Monthly-Event-March-2025_BC.jpg
END:VEVENT
BEGIN:VEVENT
DTSTART;TZID=America/Vancouver:20250312T120000
DTEND;TZID=America/Vancouver:20250312T133000
DTSTAMP:20260421T163228
CREATED:20250304T011056Z
LAST-MODIFIED:20250304T011056Z
UID:2922-1741780800-1741786200@osanisinclusion.ca
SUMMARY:Explosive Behaviour in Teens: Strategies To Empower Families
DESCRIPTION:When our teens are showing up in explosive ways\, we sometimes blame ourselves. Listen to a therapist explain some causes of explosive behaviour and strategies that support parents and teens. ( Online Events )\n\nDates & Times:\nMarch 4\, 5\, 6\, 11\,& 25th 6:30 pm – 8:00pm\nMarch 12\, 12:00 pm – 1:30 pm\n\nWatch Now: https://youtu.be/USkd1QIeNdc?si=GF4rJik-GH0ljYIb\nRSVP:https://familysmart.ca/monthly-events/
URL:https://osanisinclusion.ca/event/explosive-behaviour-in-teens-strategies-to-empower-families-2-2-2/
LOCATION:Virtual Event
CATEGORIES:Education,Online Event
ATTACH;FMTTYPE=image/jpeg:https://osanisinclusion.ca/wp-content/uploads/2025/03/FamilySmart-Monthly-Event-March-2025_BC.jpg
END:VEVENT
BEGIN:VEVENT
DTSTART;TZID=America/Vancouver:20250312T180000
DTEND;TZID=America/Vancouver:20250312T190000
DTSTAMP:20260421T163228
CREATED:20250131T121153Z
LAST-MODIFIED:20250131T121153Z
UID:2853-1741802400-1741806000@osanisinclusion.ca
SUMMARY:You Gotta Have Friends
DESCRIPTION:“ You Gotta Have Friends” aims to highlight the vital role that relationships play in enhancing the quality of life for people with disabilities. We will explore the emotional\, social\, and psychological benefits of having strong\, supportive friendships\, emphasizing how these connections can foster a sense of belonging and community. We will exchange ideas\, stories and strategies together (you might even make a friend or two-) Shelley Nessman is the Director of Family Support and Leadership at PLAN and is co- founder of In the Company of Others
URL:https://osanisinclusion.ca/event/you-gotta-have-friends-2/
LOCATION:Virtual Event
CATEGORIES:Community Event,Creative Art,Education,Online Event,Zoom Event
ATTACH;FMTTYPE=image/jpeg:https://osanisinclusion.ca/wp-content/uploads/2025/01/You-gotta-have-friends.jpg
END:VEVENT
BEGIN:VEVENT
DTSTART;TZID=America/Vancouver:20250319T120000
DTEND;TZID=America/Vancouver:20250319T130000
DTSTAMP:20260421T163228
CREATED:20250219T100307Z
LAST-MODIFIED:20250219T100517Z
UID:2908-1742385600-1742389200@osanisinclusion.ca
SUMMARY:Vicarious Trauma in the Workplace
DESCRIPTION:Is Your Workplace Prepared for Vicarious Trauma? Learn How to Build a Trauma-Informed Culture\nVicarious trauma can quietly impact your team\, but you can take action. Join our webinar on March 19th as we explore how understanding vicarious trauma can help you create a healthier\, more resilient workplace. Learn to recognize the signs\, implement strategies like the Stress Pain Container\, and develop a trauma-informed culture that supports your team’s well-being. \nRegister now to secure your spot and protect both individuals and your organization!
URL:https://osanisinclusion.ca/event/vicarious-trauma-in-the-workplace/
LOCATION:Virtual Event
CATEGORIES:Community Event,Education,Online Event,Zoom Event
ATTACH;FMTTYPE=image/png:https://osanisinclusion.ca/wp-content/uploads/2025/02/Vicarious-Trauma.png
END:VEVENT
BEGIN:VEVENT
DTSTART;TZID=America/Vancouver:20250325T100000
DTEND;TZID=America/Vancouver:20250325T110000
DTSTAMP:20260421T163228
CREATED:20250317T233616Z
LAST-MODIFIED:20250317T234914Z
UID:2968-1742896800-1742900400@osanisinclusion.ca
SUMMARY:Control Exposure Risks from Unregulated Substances
DESCRIPTION:Join us on March 25th from 10am to 11am for an informative webinar on managing exposure risks from unregulated substances in the workplace. Hear from expert speakers with decades of health and safety experience as they share key strategies and best practices for addressing the risks of unregulated substance exposure\, with a focus on the social services sector. \nRegister to secure your spot!
URL:https://osanisinclusion.ca/event/control-exposure-risks-from-unregulated-substances/
LOCATION:Virtual Event
CATEGORIES:Community Event,Education,Health & wellness,Online Event
ATTACH;FMTTYPE=image/png:https://osanisinclusion.ca/wp-content/uploads/2025/03/Controlling-Exposure-Risk.png
END:VEVENT
BEGIN:VEVENT
DTSTART;TZID=America/Vancouver:20250325T120000
DTEND;TZID=America/Vancouver:20250325T130000
DTSTAMP:20260421T163228
CREATED:20250109T234218Z
LAST-MODIFIED:20250109T234218Z
UID:2736-1742904000-1742907600@osanisinclusion.ca
SUMMARY:Gender Marvelous
DESCRIPTION:Welcome to a space where families come together to share their experiences\, ask questions\, and support one another as we navigate the journey of raising our queer\, gender-diverse and/or Two-Spirit children and youth. Join the conversation\, find strength and encouragement\, and connect with a network of families who understand. All queer and 2SLGBTQIA+ families are welcome. Let’s support each other and grow together! \nFamily Support Institute of BC (FSI) is a provincial not-for-profit society committed to supporting families who have a family member with a disability. FSI is unique in Canada and the only grassroots family to family organization that has a broad volunteer base. FSI SUPPORTS AND SERVICES ARE FREE TO ANY FAMILY
URL:https://osanisinclusion.ca/event/gender-marvelous-2-2-2-2-2/
LOCATION:Virtual Event
CATEGORIES:Education,Online Event
ATTACH;FMTTYPE=image/jpeg:https://osanisinclusion.ca/wp-content/uploads/2025/01/Gender-Marvelous.jpg
END:VEVENT
BEGIN:VEVENT
DTSTART;TZID=America/Vancouver:20250325T183000
DTEND;TZID=America/Vancouver:20250325T200000
DTSTAMP:20260421T163228
CREATED:20250304T011016Z
LAST-MODIFIED:20250304T011016Z
UID:2920-1742927400-1742932800@osanisinclusion.ca
SUMMARY:Explosive Behaviour in Teens: Strategies To Empower Families
DESCRIPTION:When our teens are showing up in explosive ways\, we sometimes blame ourselves. Listen to a therapist explain some causes of explosive behaviour and strategies that support parents and teens. ( Online Events )\n\nDates & Times:\nMarch 4\, 5\, 6\, 11\,& 25th 6:30 pm – 8:00pm\nMarch 12\, 12:00 pm – 1:30 pm\n\nWatch Now: https://youtu.be/USkd1QIeNdc?si=GF4rJik-GH0ljYIb\nRSVP:https://familysmart.ca/monthly-events/
URL:https://osanisinclusion.ca/event/explosive-behaviour-in-teens-strategies-to-empower-families-2-2/
LOCATION:Virtual Event
CATEGORIES:Education,Online Event
ATTACH;FMTTYPE=image/jpeg:https://osanisinclusion.ca/wp-content/uploads/2025/03/FamilySmart-Monthly-Event-March-2025_BC.jpg
END:VEVENT
BEGIN:VEVENT
DTSTART;TZID=America/Vancouver:20250326T120000
DTEND;TZID=America/Vancouver:20250326T130000
DTSTAMP:20260421T163228
CREATED:20250304T024933Z
LAST-MODIFIED:20250304T024933Z
UID:2934-1742990400-1742994000@osanisinclusion.ca
SUMMARY:Improving Wellness with BounceBack®: A Free Cognitive-Behavioural Therapy Program
DESCRIPTION:Explore BounceBack®\, the Canadian Mental Health Association’s free\, evidence-based mental health program designed to reduce anxiety and depression symptoms by up to 50%. Grounded in Cognitive-Behavioural Therapy (CBT)\, this program offers BC residents aged 13+ practical strategies to manage stress\, worry\, unhelpful thinking\, and more. Learn how self-selected workbooks and personalized support from a telephone coach over 4-6 sessions can help you take control of your mental well-being and navigate life’s challenges. \n\n\n\n\nDon’t miss this opportunity to learn how BounceBack® can make a difference in your life. Register today \n\n\n\n\nBy the end of this webinar\, participants will be able to: \n\n\n\n\n\nUnderstand the structure of BounceBack® program\, including its focus on Cognitive-Behavioural Therapy (CBT) principles.\nLearn how the program for BC residents aged 13 and over can improve their mental wellbeing.\nHighlight evidence-based strategies participants can learn\, such as managing stress\, reducing worry\, addressing unhelpful thinking\, and facing mild to moderate anxiety and depression.\n\n\n\n\nAbout our presenter:\n\n\n\n\n\n\n \nKate Longpre is the National Manager of the Canadian Mental Health Association’s (CMHA) BounceBack® program.  She has managed early intervention mental health programs at CMHA since 2019. Prior to joining CMHA\, Kate worked in refugee resettlement supporting the settlement and inclusion of refugees and newcomers in communities across Canada.   During this time\, Kate founded the We Speak Translate project a first of its kind partnership with Google Translate.  The We Speak Translate project trained individuals\, representing diverse sectors\, in how to use the Google Translate app to create more welcoming and inclusive communities for newcomers to Canada.  Kate has a Masters in Community Development from the University of Victoria.
URL:https://osanisinclusion.ca/event/improving-wellness-with-bounceback-a-free-cognitive-behavioural-therapy-program/
LOCATION:Virtual Event
CATEGORIES:Education,Health & wellness,Online Event,Zoom Event
ATTACH;FMTTYPE=image/jpeg:https://osanisinclusion.ca/wp-content/uploads/2025/03/iStock-1405778995-2048x1365-1.jpg
END:VEVENT
END:VCALENDAR