BEGIN:VCALENDAR
VERSION:2.0
PRODID:-//Osanis Inclusion Services Inc. - ECPv6.15.20//NONSGML v1.0//EN
CALSCALE:GREGORIAN
METHOD:PUBLISH
X-WR-CALNAME:Osanis Inclusion Services Inc.
X-ORIGINAL-URL:https://osanisinclusion.ca
X-WR-CALDESC:Events for Osanis Inclusion Services Inc.
REFRESH-INTERVAL;VALUE=DURATION:PT1H
X-Robots-Tag:noindex
X-PUBLISHED-TTL:PT1H
BEGIN:VTIMEZONE
TZID:America/Vancouver
BEGIN:DAYLIGHT
TZOFFSETFROM:-0800
TZOFFSETTO:-0700
TZNAME:PDT
DTSTART:20240310T100000
END:DAYLIGHT
BEGIN:STANDARD
TZOFFSETFROM:-0700
TZOFFSETTO:-0800
TZNAME:PST
DTSTART:20241103T090000
END:STANDARD
BEGIN:DAYLIGHT
TZOFFSETFROM:-0800
TZOFFSETTO:-0700
TZNAME:PDT
DTSTART:20250309T100000
END:DAYLIGHT
BEGIN:STANDARD
TZOFFSETFROM:-0700
TZOFFSETTO:-0800
TZNAME:PST
DTSTART:20251102T090000
END:STANDARD
BEGIN:DAYLIGHT
TZOFFSETFROM:-0800
TZOFFSETTO:-0700
TZNAME:PDT
DTSTART:20260308T100000
END:DAYLIGHT
BEGIN:STANDARD
TZOFFSETFROM:-0700
TZOFFSETTO:-0800
TZNAME:PST
DTSTART:20261101T090000
END:STANDARD
END:VTIMEZONE
BEGIN:VEVENT
DTSTART;TZID=America/Vancouver:20250206T160000
DTEND;TZID=America/Vancouver:20250313T183000
DTSTAMP:20260421T092002
CREATED:20250131T124850Z
LAST-MODIFIED:20250131T124850Z
UID:2858-1738857600-1741890600@osanisinclusion.ca
SUMMARY:Food For Thought
DESCRIPTION:Individual Youth and Family support and education (13 – 18 years) appointments.  We promote family and community capacity to protect and support youth and their families through access to supportive counselling\, intervention\, mediation\, parent education\, system navigation\, outreach and referral.  We aim to build upon youth (13 – 18 years) and family strengths\, improve family relationships and the understanding of teen development.
URL:https://osanisinclusion.ca/event/food-for-thought/
LOCATION:Family Centre\, 511 Constance Ave\, Victoria\, BC\, V9A 6N5\, Canada
CATEGORIES:Community Event,Education,In-Person Event,Kids & Family
ATTACH;FMTTYPE=image/jpeg:https://osanisinclusion.ca/wp-content/uploads/2025/01/Food-For-Thought.jpg
END:VEVENT
BEGIN:VEVENT
DTSTART;TZID=America/Vancouver:20250312T100000
DTEND;TZID=America/Vancouver:20250312T150000
DTSTAMP:20260421T092002
CREATED:20250307T025809Z
LAST-MODIFIED:20250307T025809Z
UID:2940-1741773600-1741791600@osanisinclusion.ca
SUMMARY:Community Care Fair
DESCRIPTION:Join us for a day of health\, wellness and community. Learn more about how VNFC can support your wellness journey and connect with many local services. There will be a variety of health and wellness providers offering their services. Door prizes! Refreshments provided. Cultural supports will be available.
URL:https://osanisinclusion.ca/event/community-care-fair/
LOCATION:Victoria Native Friendship Centre\, 231 Regina Ave\, Victoria\, BC\, V8Z 3V9\, Canada
CATEGORIES:Community Event,Health & wellness,In-Person Event
ATTACH;FMTTYPE=image/jpeg:https://osanisinclusion.ca/wp-content/uploads/2025/03/unnamed-3.jpg
END:VEVENT
BEGIN:VEVENT
DTSTART;TZID=America/Vancouver:20250312T130000
DTEND;TZID=America/Vancouver:20250312T150000
DTSTAMP:20260421T092002
CREATED:20250307T031453Z
LAST-MODIFIED:20250307T031453Z
UID:2948-1741784400-1741791600@osanisinclusion.ca
SUMMARY:Antidepressant Skill Workshop
DESCRIPTION:Request a MHRP Program or Workshop\n\n\n\nInterested in our peer support\, counselling\, respite support\, or educational workshops? Fill out the form here and one of their team members will reach out to you by phone within 1-2 days to get you booked in. \nQuestions about how this work? Email them at admin@mhrpsi.ca or call them directly: 250-384-4225
URL:https://osanisinclusion.ca/event/antidepressant-skill-workshop/
LOCATION:Mental Health Recovery Partners – South Island (MHRP SI)\, 941 Kings Rd\, Victoria\, BC\, V8T 1W7\, Canada
CATEGORIES:Education,Health & wellness,In-Person Event
ATTACH;FMTTYPE=image/jpeg:https://osanisinclusion.ca/wp-content/uploads/2025/03/MHRP.jpg
END:VEVENT
END:VCALENDAR