BEGIN:VCALENDAR
VERSION:2.0
PRODID:-//Osanis Inclusion Services Inc. - ECPv6.15.20//NONSGML v1.0//EN
CALSCALE:GREGORIAN
METHOD:PUBLISH
X-ORIGINAL-URL:https://osanisinclusion.ca
X-WR-CALDESC:Events for Osanis Inclusion Services Inc.
REFRESH-INTERVAL;VALUE=DURATION:PT1H
X-Robots-Tag:noindex
X-PUBLISHED-TTL:PT1H
BEGIN:VTIMEZONE
TZID:America/Vancouver
BEGIN:DAYLIGHT
TZOFFSETFROM:-0800
TZOFFSETTO:-0700
TZNAME:PDT
DTSTART:20230312T100000
END:DAYLIGHT
BEGIN:STANDARD
TZOFFSETFROM:-0700
TZOFFSETTO:-0800
TZNAME:PST
DTSTART:20231105T090000
END:STANDARD
BEGIN:DAYLIGHT
TZOFFSETFROM:-0800
TZOFFSETTO:-0700
TZNAME:PDT
DTSTART:20240310T100000
END:DAYLIGHT
BEGIN:STANDARD
TZOFFSETFROM:-0700
TZOFFSETTO:-0800
TZNAME:PST
DTSTART:20241103T090000
END:STANDARD
BEGIN:DAYLIGHT
TZOFFSETFROM:-0800
TZOFFSETTO:-0700
TZNAME:PDT
DTSTART:20250309T100000
END:DAYLIGHT
BEGIN:STANDARD
TZOFFSETFROM:-0700
TZOFFSETTO:-0800
TZNAME:PST
DTSTART:20251102T090000
END:STANDARD
END:VTIMEZONE
BEGIN:VEVENT
DTSTART;TZID=America/Vancouver:20240912T103000
DTEND;TZID=America/Vancouver:20241212T113000
DTSTAMP:20260422T050547
CREATED:20241004T002304Z
LAST-MODIFIED:20241004T002304Z
UID:2317-1726137000-1734003000@osanisinclusion.ca
SUMMARY:Joy of Music - by West Coast Reach Association
DESCRIPTION:A lively\, monthly music program for those with diverse-abilities (and their caregivers). – On the second Thursday morning of each month starting Sept. 12th\, 2024\, at McTavish Academy of Art in North Saanich.
URL:https://osanisinclusion.ca/event/joy-of-music-by-west-coast-reach-association/
LOCATION:McTavish Academy of Art (Gymnasium)\, 1720 McTavish Rd\, North Saanich\, BC\, V8L 5T9\, Canada
CATEGORIES:Community Event,Creative Art,In-Person Event,Live Performance,Music
ATTACH;FMTTYPE=image/png:https://osanisinclusion.ca/wp-content/uploads/2024/10/unnamed-2-1.png
END:VEVENT
BEGIN:VEVENT
DTSTART;TZID=America/Vancouver:20241025T080000
DTEND;TZID=America/Vancouver:20241025T160000
DTSTAMP:20260422T050547
CREATED:20240906T235407Z
LAST-MODIFIED:20240906T235704Z
UID:2181-1729843200-1729872000@osanisinclusion.ca
SUMMARY:Embracing Success: Educating Students with Down Syndrome
DESCRIPTION:This one-day conference is designed for educators\, including classroom teachers\, resource teachers\, education assistants and other professionals who want to learn strategies to support students with Down syndrome and other developmental disabilities. Learn from the Down Syndrome Resource Foundation’s experienced multi-disciplinary team. Join us in person or take part virtually! \nDate: October 25\, 2024 \nTime: 8am – 4pm \nLocation: Cedar Hill Golf Course\, 1400 Derby Rd\, Victoria \nPrice: $150 ($100 Early Bird until Sept 30) \nLunch and snacks included!
URL:https://osanisinclusion.ca/event/embracing-success-educating-students-with-down-syndrome/
LOCATION:Cedar Hill Golf Course\, 1400 Derby Rd\, Victoria\, BC\, V8P 1T1\, Canada
CATEGORIES:Community Event,Education
ATTACH;FMTTYPE=image/png:https://osanisinclusion.ca/wp-content/uploads/2024/09/young-girl-and-boy-with-down-syndrome-smiling-and-hugging.png
END:VEVENT
BEGIN:VEVENT
DTSTART;TZID=America/Vancouver:20241025T080000
DTEND;TZID=America/Vancouver:20241025T160000
DTSTAMP:20260422T050547
CREATED:20241004T012039Z
LAST-MODIFIED:20241004T012229Z
UID:2351-1729843200-1729872000@osanisinclusion.ca
SUMMARY:Embracing Success: Educating Students with Down Syndrome (Conference)
DESCRIPTION:Join us for a one-day conference designed to equip you with the knowledge and strategies to empower students with Down syndrome and other developmental disabilities. This event is specifically tailored for classroom teachers\, resource teachers\, education assistants and other school professionals. \nRegister here: https://fundraise.dsrf.org/event/embracing-success-2024/e614498 \nLunch and snacks included! \nTopics and Sessions \n\nLearner Profile of a Student with Down Syndrome\nProactive Positive Behavior Support Strategies\nTeaching and Consequence PBS Strategies\nMental Wellness for Educators and more!
URL:https://osanisinclusion.ca/event/embracing-success-educating-students-with-down-syndrome-conference/
LOCATION:Cedar Hill Golf Course\, 1400 Derby Rd\, Victoria\, BC\, V8P 1T1\, Canada
CATEGORIES:Community Event,Education,In-Person Event
ATTACH;FMTTYPE=image/jpeg:https://osanisinclusion.ca/wp-content/uploads/2024/10/embracing-success.jpg
END:VEVENT
END:VCALENDAR