BEGIN:VCALENDAR
VERSION:2.0
PRODID:-//Osanis Inclusion Services Inc. - ECPv6.15.20//NONSGML v1.0//EN
CALSCALE:GREGORIAN
METHOD:PUBLISH
X-ORIGINAL-URL:https://osanisinclusion.ca
X-WR-CALDESC:Events for Osanis Inclusion Services Inc.
REFRESH-INTERVAL;VALUE=DURATION:PT1H
X-Robots-Tag:noindex
X-PUBLISHED-TTL:PT1H
BEGIN:VTIMEZONE
TZID:America/Vancouver
BEGIN:DAYLIGHT
TZOFFSETFROM:-0800
TZOFFSETTO:-0700
TZNAME:PDT
DTSTART:20230312T100000
END:DAYLIGHT
BEGIN:STANDARD
TZOFFSETFROM:-0700
TZOFFSETTO:-0800
TZNAME:PST
DTSTART:20231105T090000
END:STANDARD
BEGIN:DAYLIGHT
TZOFFSETFROM:-0800
TZOFFSETTO:-0700
TZNAME:PDT
DTSTART:20240310T100000
END:DAYLIGHT
BEGIN:STANDARD
TZOFFSETFROM:-0700
TZOFFSETTO:-0800
TZNAME:PST
DTSTART:20241103T090000
END:STANDARD
BEGIN:DAYLIGHT
TZOFFSETFROM:-0800
TZOFFSETTO:-0700
TZNAME:PDT
DTSTART:20250309T100000
END:DAYLIGHT
BEGIN:STANDARD
TZOFFSETFROM:-0700
TZOFFSETTO:-0800
TZNAME:PST
DTSTART:20251102T090000
END:STANDARD
END:VTIMEZONE
BEGIN:VEVENT
DTSTART;TZID=America/Vancouver:20241130T170000
DTEND;TZID=America/Vancouver:20241130T190000
DTSTAMP:20260421T231440
CREATED:20241109T035550Z
LAST-MODIFIED:20241109T035550Z
UID:2474-1732986000-1732993200@osanisinclusion.ca
SUMMARY:42nd Peninsula Co-op Santa Claus Parade
DESCRIPTION:The 42nd Peninsula Co-op Santa Claus Parade presented by Chek will kick off at 5:00pm on Saturday\, November 30\, 2024 at Government and Belleville. \nWe will once again be collecting food and cash for the Mustard Seed Street Church and Food Bank. They will be giving out hot chocolate at Douglas and Humboldt starting at 4:30pm. \nThe Victoria Disability Resource Center will have live audio description this year at their location at Government and Belleville. Please reach out to https://drcvictoria.com/ to find out more information. \nSanta and Mrs Claus will be taking pictures by donation following the parade. Centennial Square. Join everyone as the DVBA kicks off Lights of Wonder November 30th. Come and enjoy the lights and bring the family!
URL:https://osanisinclusion.ca/event/42nd-peninsula-co-op-santa-claus-parade-2/
LOCATION:Downtown Victoria\, Government + Belleville\, Victoria\, BC\, V8W 1W5\, Canada
CATEGORIES:Community Event,Food & Drink,In-Person Event,Outdoor,Parade
ATTACH;FMTTYPE=image/jpeg:https://osanisinclusion.ca/wp-content/uploads/2024/11/Santa-Claus-Parade.jpg
END:VEVENT
END:VCALENDAR