BEGIN:VCALENDAR
VERSION:2.0
PRODID:-//Osanis Inclusion Services Inc. - ECPv6.15.20//NONSGML v1.0//EN
CALSCALE:GREGORIAN
METHOD:PUBLISH
X-ORIGINAL-URL:https://osanisinclusion.ca
X-WR-CALDESC:Events for Osanis Inclusion Services Inc.
REFRESH-INTERVAL;VALUE=DURATION:PT1H
X-Robots-Tag:noindex
X-PUBLISHED-TTL:PT1H
BEGIN:VTIMEZONE
TZID:America/Vancouver
BEGIN:DAYLIGHT
TZOFFSETFROM:-0800
TZOFFSETTO:-0700
TZNAME:PDT
DTSTART:20240310T100000
END:DAYLIGHT
BEGIN:STANDARD
TZOFFSETFROM:-0700
TZOFFSETTO:-0800
TZNAME:PST
DTSTART:20241103T090000
END:STANDARD
BEGIN:DAYLIGHT
TZOFFSETFROM:-0800
TZOFFSETTO:-0700
TZNAME:PDT
DTSTART:20250309T100000
END:DAYLIGHT
BEGIN:STANDARD
TZOFFSETFROM:-0700
TZOFFSETTO:-0800
TZNAME:PST
DTSTART:20251102T090000
END:STANDARD
BEGIN:DAYLIGHT
TZOFFSETFROM:-0800
TZOFFSETTO:-0700
TZNAME:PDT
DTSTART:20260308T100000
END:DAYLIGHT
BEGIN:STANDARD
TZOFFSETFROM:-0700
TZOFFSETTO:-0800
TZNAME:PST
DTSTART:20261101T090000
END:STANDARD
END:VTIMEZONE
BEGIN:VEVENT
DTSTART;VALUE=DATE:20250409
DTEND;VALUE=DATE:20250411
DTSTAMP:20260421T175816
CREATED:20250317T234824Z
LAST-MODIFIED:20250317T234824Z
UID:2971-1744156800-1744329599@osanisinclusion.ca
SUMMARY:Caring for Communities Health and Safety Conference
DESCRIPTION:Join us at the Caring for Communities Health and Safety Conference on April 9th and 10th in Prince George. Hosted by the Federation of Community Social Services of BC and CSSHSA\, this two-day event will cover vital topics such as mental health\, decolonization\, and trauma-informed workplaces\, specifically for the community social services sector. Choose from engaging pre-conference workshops and breakout sessions. Don’t miss the chance to learn\, connect\, and enhance your skills. \nRegister now!
URL:https://osanisinclusion.ca/event/caring-for-communities-health-and-safety-conference/
LOCATION:The Federation of Community Social Services BC (FCSSBC)\, Canada
CATEGORIES:Community Event,Education,Health & wellness,In-Person Event
ATTACH;FMTTYPE=image/jpeg:https://osanisinclusion.ca/wp-content/uploads/2025/03/Caring-For-Communities-scaled.jpg
END:VEVENT
END:VCALENDAR