BEGIN:VCALENDAR
VERSION:2.0
PRODID:-//Osanis Inclusion Services Inc. - ECPv6.15.20//NONSGML v1.0//EN
CALSCALE:GREGORIAN
METHOD:PUBLISH
X-ORIGINAL-URL:https://osanisinclusion.ca
X-WR-CALDESC:Events for Osanis Inclusion Services Inc.
REFRESH-INTERVAL;VALUE=DURATION:PT1H
X-Robots-Tag:noindex
X-PUBLISHED-TTL:PT1H
BEGIN:VTIMEZONE
TZID:America/Vancouver
BEGIN:DAYLIGHT
TZOFFSETFROM:-0800
TZOFFSETTO:-0700
TZNAME:PDT
DTSTART:20240310T100000
END:DAYLIGHT
BEGIN:STANDARD
TZOFFSETFROM:-0700
TZOFFSETTO:-0800
TZNAME:PST
DTSTART:20241103T090000
END:STANDARD
BEGIN:DAYLIGHT
TZOFFSETFROM:-0800
TZOFFSETTO:-0700
TZNAME:PDT
DTSTART:20250309T100000
END:DAYLIGHT
BEGIN:STANDARD
TZOFFSETFROM:-0700
TZOFFSETTO:-0800
TZNAME:PST
DTSTART:20251102T090000
END:STANDARD
BEGIN:DAYLIGHT
TZOFFSETFROM:-0800
TZOFFSETTO:-0700
TZNAME:PDT
DTSTART:20260308T100000
END:DAYLIGHT
BEGIN:STANDARD
TZOFFSETFROM:-0700
TZOFFSETTO:-0800
TZNAME:PST
DTSTART:20261101T090000
END:STANDARD
END:VTIMEZONE
BEGIN:VEVENT
DTSTART;TZID=America/Vancouver:20250708T153000
DTEND;TZID=America/Vancouver:20250826T173000
DTSTAMP:20260421T082324
CREATED:20250710T015627Z
LAST-MODIFIED:20250710T015627Z
UID:3712-1751988600-1756229400@osanisinclusion.ca
SUMMARY:Summer of Love
DESCRIPTION:Calling all teens! Come to the Fernwood NH this summer on Tuesdays to make art- free of cost\, with snacks and supplies provided!  Contact us for any questions around age range or accessibility.This program was made possible by Zoë Cassidy’s creative legacy and the generosity of his friends and family.
URL:https://osanisinclusion.ca/event/summer-of-love/
LOCATION:FNH Studio\, 1240 Gladstone Ave\, Victoria\, BC\, V8T 1G6\, Canada
CATEGORIES:Community Event,In-Person Event,Seasonal Event
ATTACH;FMTTYPE=image/jpeg:https://osanisinclusion.ca/wp-content/uploads/2025/07/unnamed-18.jpg
END:VEVENT
BEGIN:VEVENT
DTSTART;TZID=America/Vancouver:20250730T183000
DTEND;TZID=America/Vancouver:20250730T200000
DTSTAMP:20260421T082324
CREATED:20250703T203615Z
LAST-MODIFIED:20250703T203615Z
UID:3654-1753900200-1753905600@osanisinclusion.ca
SUMMARY:Aging Caregivers
DESCRIPTION:We cannot slow the aging process in ourselves or in the people we care for! As we get older\, our ability to care for our family member becomes more and more difficult. Planning our own future\, and the future of our loved ones can be a terrifying process. Will we be able to provide the necessary care? Will they be well cared for in the future\, after we are gone? What can we do to make the future easier? Connecting with other families in similar situations is the best way to problem solve and figure out what will work best for our specific situations. Join our call with other “mature” parents and caregivers and we can problem solve together! \nCLICK HERE TO REGISTER\nYou are invited to join FSI CONTINUING CONVERSATIONS\, a private Facebook Group intended to continue conversations of support or provide an alternative platform for support. www.facebook.com/groups/fsicontinuingconversations/ \nAfter the session you are encouraged to share your feedback. This helps FSI improve our content to better serve the needs of families. \nAll FSI Zoom sessions can be accessed by telephone only if access to computers and/or internet is a barrier. If you need assistance registering for any session\, please call our office at 1-800-441-5403.
URL:https://osanisinclusion.ca/event/aging-caregivers-2-2/
LOCATION:Virtual Event
CATEGORIES:Education,Online Event,Zoom Event
ATTACH;FMTTYPE=image/jpeg:https://osanisinclusion.ca/wp-content/uploads/2025/07/FHO-AGING-CARERS.jpg
END:VEVENT
END:VCALENDAR