BEGIN:VCALENDAR
VERSION:2.0
PRODID:-//Osanis Inclusion Services Inc. - ECPv6.15.20//NONSGML v1.0//EN
CALSCALE:GREGORIAN
METHOD:PUBLISH
X-ORIGINAL-URL:https://osanisinclusion.ca
X-WR-CALDESC:Events for Osanis Inclusion Services Inc.
REFRESH-INTERVAL;VALUE=DURATION:PT1H
X-Robots-Tag:noindex
X-PUBLISHED-TTL:PT1H
BEGIN:VTIMEZONE
TZID:America/Vancouver
BEGIN:DAYLIGHT
TZOFFSETFROM:-0800
TZOFFSETTO:-0700
TZNAME:PDT
DTSTART:20240310T100000
END:DAYLIGHT
BEGIN:STANDARD
TZOFFSETFROM:-0700
TZOFFSETTO:-0800
TZNAME:PST
DTSTART:20241103T090000
END:STANDARD
BEGIN:DAYLIGHT
TZOFFSETFROM:-0800
TZOFFSETTO:-0700
TZNAME:PDT
DTSTART:20250309T100000
END:DAYLIGHT
BEGIN:STANDARD
TZOFFSETFROM:-0700
TZOFFSETTO:-0800
TZNAME:PST
DTSTART:20251102T090000
END:STANDARD
BEGIN:DAYLIGHT
TZOFFSETFROM:-0800
TZOFFSETTO:-0700
TZNAME:PDT
DTSTART:20260308T100000
END:DAYLIGHT
BEGIN:STANDARD
TZOFFSETFROM:-0700
TZOFFSETTO:-0800
TZNAME:PST
DTSTART:20261101T090000
END:STANDARD
END:VTIMEZONE
BEGIN:VEVENT
DTSTART;TZID=America/Vancouver:20250708T153000
DTEND;TZID=America/Vancouver:20250826T173000
DTSTAMP:20260421T154502
CREATED:20250710T015627Z
LAST-MODIFIED:20250710T015627Z
UID:3712-1751988600-1756229400@osanisinclusion.ca
SUMMARY:Summer of Love
DESCRIPTION:Calling all teens! Come to the Fernwood NH this summer on Tuesdays to make art- free of cost\, with snacks and supplies provided!  Contact us for any questions around age range or accessibility.This program was made possible by Zoë Cassidy’s creative legacy and the generosity of his friends and family.
URL:https://osanisinclusion.ca/event/summer-of-love/
LOCATION:FNH Studio\, 1240 Gladstone Ave\, Victoria\, BC\, V8T 1G6\, Canada
CATEGORIES:Community Event,In-Person Event,Seasonal Event
ATTACH;FMTTYPE=image/jpeg:https://osanisinclusion.ca/wp-content/uploads/2025/07/unnamed-18.jpg
END:VEVENT
BEGIN:VEVENT
DTSTART;TZID=America/Vancouver:20250715T100000
DTEND;TZID=America/Vancouver:20250715T110000
DTSTAMP:20260421T154502
CREATED:20250625T201847Z
LAST-MODIFIED:20250625T201847Z
UID:3392-1752573600-1752577200@osanisinclusion.ca
SUMMARY:Community of Practice: Safety in Social Housing
DESCRIPTION:Join us for a dynamic and engaging Community of Practice session focused on Safety in Social Housing. This meeting is an opportunity for health and safety professionals in the social services sector to come together\, share experiences\, and explore practical strategies for addressing the unique health and safety challenges in social housing environments. \nDuring this one-hour session\, we’ll discuss the key safety concerns that impact both residents and staff in social housing\, and highlight effective approaches to creating safer\, more supportive spaces. Through small breakout discussions\, you’ll have the chance to collaborate with peers\, guided by OHS and PHS Advisors\, as you explore real-world issues and share solutions. Whether you’re navigating the complexities of emergency shelters or supportive housing\, your insights and experiences are valuable. \nAt the end of the session\, we’ll reconvene to share key themes and takeaways\, and discuss next steps for continued collaboration and improvement in the sector. \nIf you’re responsible for health and safety in a social service organization\, this is the perfect opportunity to connect with like-minded professionals and contribute to advancing safety practices in your community. \nPlease note that this meeting is exclusive to health and safety professionals in the following WorkSafeBC Classification Units: \n\n766007 – Counselling or Social Services (not elsewhere specified)\n766010 – Life and Job Skills Training\n766017 – Residential Social Service Facility\n\nRegister Here
URL:https://osanisinclusion.ca/event/community-of-practice-safety-in-social-housing/
LOCATION:Virtual Event
CATEGORIES:Education,Online Event,Zoom Event
ATTACH;FMTTYPE=image/jpeg:https://osanisinclusion.ca/wp-content/uploads/2025/06/Safety-in-Social-Housing.jpg
END:VEVENT
BEGIN:VEVENT
DTSTART;TZID=America/Vancouver:20250715T133000
DTEND;TZID=America/Vancouver:20250715T160000
DTSTAMP:20260421T154502
CREATED:20250517T012145Z
LAST-MODIFIED:20250517T012145Z
UID:3166-1752586200-1752595200@osanisinclusion.ca
SUMMARY:Wellness Recovery Action Plan (WRAP) by MHRP
DESCRIPTION:Mental Health Recovery Partners South Island will be facilitating another Wellness Recovery Action Plan (WRAP). There is no fee to participate. \nWRAP is an evidence-based personal relapse prevention plan that supports participants with developing their own personal wellness plan. In this workshop participants will learn about wellness tools and create action plans to put them into practice in their everyday life. Participants learn how to maintain their wellness by recognizing stressors and early warning signs and by developing coping strategies including having a crisis plan. This workshop is offered several times a year and is co-facilitated by two trained WRAP facilitators. \nThe next WRAP will be held in-person for six Tuesdays from 1:30pm-4pm at MHRP SI Boardroom on the following dates: \nJune 10th \nJune 17th \nJune 24th \nJuly 8th \nJuly 15th \nJuly 22nd \nPlease share this with anyone who might be interested. To register\, please visit: https://mhrp.ca/programs-and-services/program-request-form
URL:https://osanisinclusion.ca/event/wellness-recovery-action-plan-wrap-by-mhrp-2-2-2-2/
LOCATION:MHRPI SI Boardroom\, 941 Kings Rd\, Victoria\, BC\, V8T1W7\, Canada
CATEGORIES:Education,Health & wellness,In-Person Event
ATTACH;FMTTYPE=image/png:https://osanisinclusion.ca/wp-content/uploads/2025/05/image001-1.png
END:VEVENT
END:VCALENDAR