BEGIN:VCALENDAR
VERSION:2.0
PRODID:-//Osanis Inclusion Services Inc. - ECPv6.15.20//NONSGML v1.0//EN
CALSCALE:GREGORIAN
METHOD:PUBLISH
X-ORIGINAL-URL:https://osanisinclusion.ca
X-WR-CALDESC:Events for Osanis Inclusion Services Inc.
REFRESH-INTERVAL;VALUE=DURATION:PT1H
X-Robots-Tag:noindex
X-PUBLISHED-TTL:PT1H
BEGIN:VTIMEZONE
TZID:America/Vancouver
BEGIN:DAYLIGHT
TZOFFSETFROM:-0800
TZOFFSETTO:-0700
TZNAME:PDT
DTSTART:20240310T100000
END:DAYLIGHT
BEGIN:STANDARD
TZOFFSETFROM:-0700
TZOFFSETTO:-0800
TZNAME:PST
DTSTART:20241103T090000
END:STANDARD
BEGIN:DAYLIGHT
TZOFFSETFROM:-0800
TZOFFSETTO:-0700
TZNAME:PDT
DTSTART:20250309T100000
END:DAYLIGHT
BEGIN:STANDARD
TZOFFSETFROM:-0700
TZOFFSETTO:-0800
TZNAME:PST
DTSTART:20251102T090000
END:STANDARD
BEGIN:DAYLIGHT
TZOFFSETFROM:-0800
TZOFFSETTO:-0700
TZNAME:PDT
DTSTART:20260308T100000
END:DAYLIGHT
BEGIN:STANDARD
TZOFFSETFROM:-0700
TZOFFSETTO:-0800
TZNAME:PST
DTSTART:20261101T090000
END:STANDARD
END:VTIMEZONE
BEGIN:VEVENT
DTSTART;TZID=America/Vancouver:20250916T183000
DTEND;TZID=America/Vancouver:20251028T203000
DTSTAMP:20260421T104204
CREATED:20250912T232152Z
LAST-MODIFIED:20250913T005726Z
UID:4228-1758047400-1761683400@osanisinclusion.ca
SUMMARY:Healthy Boundaries
DESCRIPTION:Learn to foster mutual respect and strengthen your family dynamic by setting effective boundaries in a single-parent household. \n 
URL:https://osanisinclusion.ca/event/healthy-boundaries/
LOCATION:Men’s Therapy Center\, 301-3491 Saanich Rd.\, Victoria\, BC\, V8X 1W8\, Canada
CATEGORIES:Education,Health & wellness,In-Person Event
ATTACH;FMTTYPE=image/jpeg:https://osanisinclusion.ca/wp-content/uploads/2025/09/unnamed-8.jpg
ORGANIZER;CN="1Up Victoria Single Parent Resource Centre":MAILTO:info@1-up.ca
END:VEVENT
BEGIN:VEVENT
DTSTART;TZID=America/Vancouver:20250925T093000
DTEND;TZID=America/Vancouver:20251107T233000
DTSTAMP:20260421T104204
CREATED:20250913T003102Z
LAST-MODIFIED:20250913T003102Z
UID:4236-1758792600-1762558200@osanisinclusion.ca
SUMMARY:Mindful Parenting
DESCRIPTION:Learn to embrace the beautiful chaos of single parenthood with presence and self-compassion\, nurturing both your child’s well-being and your own.
URL:https://osanisinclusion.ca/event/mindful-parenting/
LOCATION:Men’s Therapy Center\, 301-3491 Saanich Rd.\, Victoria\, BC\, V8X 1W8\, Canada
CATEGORIES:Education,Health & wellness,In-Person Event
ATTACH;FMTTYPE=image/jpeg:https://osanisinclusion.ca/wp-content/uploads/2025/09/unnamed-7.jpg
ORGANIZER;CN="1Up Victoria Single Parent Resource Centre":MAILTO:info@1-up.ca
END:VEVENT
BEGIN:VEVENT
DTSTART;TZID=America/Vancouver:20251007T180000
DTEND;TZID=America/Vancouver:20251125T190000
DTSTAMP:20260421T104204
CREATED:20250913T022333Z
LAST-MODIFIED:20250913T022333Z
UID:4254-1759860000-1764097200@osanisinclusion.ca
SUMMARY:Learn to Cope with Stress
DESCRIPTION:Mental health challenges shouldn’t get in the way of doing what you love. Our programs help overcome barriers and get you on the right track to where you’d like to be. \nOur free mental wellness programs\, Y Mind and Mind Medicine\, help participants learn how to manage stress and mild-to-moderate anxiety (individuals experiencing severe anxiety and stress that significantly impacts their ability to perform daily activities likely require more support than what Y Mind is intended to provide). Our programs are evidence-based and teach Acceptance and Commitment Therapy (ACT) and mindfulness.\nTo participate\, you may self-refer\, you do not need a diagnosis of anxiety\, and you do not need to be a Y member \nMORE INFO HERE
URL:https://osanisinclusion.ca/event/learn-to-cope-with-stress/
LOCATION:YMCA\, 202-1314 Lakepoint Way\, Victoria\, BC\, V9B 0S2\, Canada
CATEGORIES:Health & wellness,In-Person Event
ATTACH;FMTTYPE=image/jpeg:https://osanisinclusion.ca/wp-content/uploads/2025/09/unnamed-12.jpg
END:VEVENT
BEGIN:VEVENT
DTSTART;VALUE=DATE:20251027
DTEND;VALUE=DATE:20251029
DTSTAMP:20260421T104204
CREATED:20250719T023519Z
LAST-MODIFIED:20250719T023519Z
UID:3853-1761523200-1761695999@osanisinclusion.ca
SUMMARY:Building Healthy Workplace Cultures
DESCRIPTION:Join us for two days of in-person inspiration\, collaboration and learning!\nBottom Line 2025 is about advancing psychological health and safety in the workplace by building a sense of community. Together we’ll reveal the power of connection and compassion in creating workplaces that protect and support mental health for all. \n\nPrevention Focus: Learn proactive strategies to prevent psychological harm.\nPractical Solutions: Discover actionable steps to drive real change in your organization.\nExpert Insights: Explore perspectives from workers and leaders across diverse sectors.\n\nLearn from top workplace mental health experts as we take a deep dive into pressing issues\, practical approaches\, real experiences and lived expertise. \n\nGet practical tools to enhance your workplace\nNetwork with industry leaders and innovators\nJoin the movement for better mental health\n\nRegister Here\nAbout the Conference\nSince 2002\, the Canadian Mental Health Association’s Bottom Line Conference has brought together business leaders\, workers\, union representatives\, policy makers\, and researchers to share real experiences\, successes\, ideas\, and expertise on improving mental health in Canadian workplaces. The event attracts over 350 delegates from across BC and beyond. \nWe respectfully acknowledge xʷməθkʷəy̓əm (Musqueam)\, Skwxwú7mesh (Squamish)\, səl̓ilwətaʔɬ (Tsleil-Waututh)\, Lkwungen (Songhees) and Wyomilth (Esquimalt) peoples on whose traditional\, unceded lands the conference will be held. ​
URL:https://osanisinclusion.ca/event/building-healthy-workplace-cultures/
LOCATION:The Westin Bayshore\, Vancouver\, 1601 Bayshore Dr.\, Vancouver\, BC\, V6G 2V4\, Canada
CATEGORIES:Conference,Education,In-Person Event
ATTACH;FMTTYPE=image/jpeg:https://osanisinclusion.ca/wp-content/uploads/2025/07/unnamed-19.jpg
END:VEVENT
END:VCALENDAR