BEGIN:VCALENDAR
VERSION:2.0
PRODID:-//Osanis Inclusion Services Inc. - ECPv6.15.20//NONSGML v1.0//EN
CALSCALE:GREGORIAN
METHOD:PUBLISH
X-ORIGINAL-URL:https://osanisinclusion.ca
X-WR-CALDESC:Events for Osanis Inclusion Services Inc.
REFRESH-INTERVAL;VALUE=DURATION:PT1H
X-Robots-Tag:noindex
X-PUBLISHED-TTL:PT1H
BEGIN:VTIMEZONE
TZID:America/Vancouver
BEGIN:DAYLIGHT
TZOFFSETFROM:-0800
TZOFFSETTO:-0700
TZNAME:PDT
DTSTART:20240310T100000
END:DAYLIGHT
BEGIN:STANDARD
TZOFFSETFROM:-0700
TZOFFSETTO:-0800
TZNAME:PST
DTSTART:20241103T090000
END:STANDARD
BEGIN:DAYLIGHT
TZOFFSETFROM:-0800
TZOFFSETTO:-0700
TZNAME:PDT
DTSTART:20250309T100000
END:DAYLIGHT
BEGIN:STANDARD
TZOFFSETFROM:-0700
TZOFFSETTO:-0800
TZNAME:PST
DTSTART:20251102T090000
END:STANDARD
BEGIN:DAYLIGHT
TZOFFSETFROM:-0800
TZOFFSETTO:-0700
TZNAME:PDT
DTSTART:20260308T100000
END:DAYLIGHT
BEGIN:STANDARD
TZOFFSETFROM:-0700
TZOFFSETTO:-0800
TZNAME:PST
DTSTART:20261101T090000
END:STANDARD
END:VTIMEZONE
BEGIN:VEVENT
DTSTART;TZID=America/Vancouver:20250325T100000
DTEND;TZID=America/Vancouver:20250325T110000
DTSTAMP:20260421T191613
CREATED:20250317T233616Z
LAST-MODIFIED:20250317T234914Z
UID:2968-1742896800-1742900400@osanisinclusion.ca
SUMMARY:Control Exposure Risks from Unregulated Substances
DESCRIPTION:Join us on March 25th from 10am to 11am for an informative webinar on managing exposure risks from unregulated substances in the workplace. Hear from expert speakers with decades of health and safety experience as they share key strategies and best practices for addressing the risks of unregulated substance exposure\, with a focus on the social services sector. \nRegister to secure your spot!
URL:https://osanisinclusion.ca/event/control-exposure-risks-from-unregulated-substances/
LOCATION:Virtual Event
CATEGORIES:Community Event,Education,Health & wellness,Online Event
ATTACH;FMTTYPE=image/png:https://osanisinclusion.ca/wp-content/uploads/2025/03/Controlling-Exposure-Risk.png
END:VEVENT
END:VCALENDAR