BEGIN:VCALENDAR
VERSION:2.0
PRODID:-//Osanis Inclusion Services Inc. - ECPv6.15.20//NONSGML v1.0//EN
CALSCALE:GREGORIAN
METHOD:PUBLISH
X-ORIGINAL-URL:https://osanisinclusion.ca
X-WR-CALDESC:Events for Osanis Inclusion Services Inc.
REFRESH-INTERVAL;VALUE=DURATION:PT1H
X-Robots-Tag:noindex
X-PUBLISHED-TTL:PT1H
BEGIN:VTIMEZONE
TZID:America/Vancouver
BEGIN:DAYLIGHT
TZOFFSETFROM:-0800
TZOFFSETTO:-0700
TZNAME:PDT
DTSTART:20230312T100000
END:DAYLIGHT
BEGIN:STANDARD
TZOFFSETFROM:-0700
TZOFFSETTO:-0800
TZNAME:PST
DTSTART:20231105T090000
END:STANDARD
BEGIN:DAYLIGHT
TZOFFSETFROM:-0800
TZOFFSETTO:-0700
TZNAME:PDT
DTSTART:20240310T100000
END:DAYLIGHT
BEGIN:STANDARD
TZOFFSETFROM:-0700
TZOFFSETTO:-0800
TZNAME:PST
DTSTART:20241103T090000
END:STANDARD
BEGIN:DAYLIGHT
TZOFFSETFROM:-0800
TZOFFSETTO:-0700
TZNAME:PDT
DTSTART:20250309T100000
END:DAYLIGHT
BEGIN:STANDARD
TZOFFSETFROM:-0700
TZOFFSETTO:-0800
TZNAME:PST
DTSTART:20251102T090000
END:STANDARD
END:VTIMEZONE
BEGIN:VEVENT
DTSTART;TZID=America/Vancouver:20241113T143000
DTEND;TZID=America/Vancouver:20241113T160000
DTSTAMP:20260419T071955
CREATED:20241104T221510Z
LAST-MODIFIED:20241104T221510Z
UID:2402-1731508200-1731513600@osanisinclusion.ca
SUMMARY:Drop-in Floor Hockey for Individuals with Diverse Abilities (18yrs+)
DESCRIPTION:Participants of all levels and abilities welcome! \nWhen: Every Wednesday from 2:30pm to 4:00pm starting September 18\, 2024 \nWhere: Victoria West Community Center\n             521 Craigflower Road\n              Victoria\, BC \n              
URL:https://osanisinclusion.ca/event/drop-in-floor-hockey-for-individuals-with-diverse-abilities-18yrs-2-2/
LOCATION:Victoria West Community Center\, 521 Craigflower Rd\, Victoria\, BC\, V9A 6Z5\, Canada
CATEGORIES:Community Event,In-Person Event,Kids & Family,Sports & Fitness
ATTACH;FMTTYPE=application/pdf:https://osanisinclusion.ca/wp-content/uploads/2024/09/Floor-Hockey-Poster-Sept-2024-1.pdf
END:VEVENT
BEGIN:VEVENT
DTSTART;TZID=America/Vancouver:20241120T130000
DTEND;TZID=America/Vancouver:20241120T143000
DTSTAMP:20260419T071955
CREATED:20240923T203221Z
LAST-MODIFIED:20241120T231418Z
UID:2296-1732107600-1732113000@osanisinclusion.ca
SUMMARY:Drop-in Floor Hockey for Individuals with Diverse Abilities (18yrs+)
DESCRIPTION:This is a FREE event. Participants of all levels and abilities welcome! \nAll the equipment is provided and all that is needed is athletic wear and water bottle. \nThis is an opportunity to meet others\, be active and have fun. It is held every Wednesday from 1:00 – 2:30 at SJ Willis Educational Center in Victoria.  If an individual has a support worker\, they are welcome to come as well. \nPlease note: The volunteer staff does no personal care. \nAt SJ Willis\, the gym is huge and if you want to just come and hang out in the gym during this time without playing floor hockey\, this is also an option. \nWhen: Every Wednesday from 1:30pm to 2:30pm \nWhere: SJ Willis High School (Gym)\n              2970 Glasgow St\, \n              Victoria\, BC \n              V8T 5B9
URL:https://osanisinclusion.ca/event/drop-in-floor-hockey-for-individuals-with-diverse-abilities-18yrs-2/
LOCATION:SJ Willis High School\, 923 Topaz Avenue\, Victoria\, BC\, V8T 2M2\, Canada
CATEGORIES:Community Event,In-Person Event,Kids & Family,Sports & Fitness
ATTACH;FMTTYPE=application/pdf:https://osanisinclusion.ca/wp-content/uploads/2024/09/Floor-Hockey-Poster-Sept-2024-1.pdf
END:VEVENT
BEGIN:VEVENT
DTSTART;TZID=America/Vancouver:20241127T130000
DTEND;TZID=America/Vancouver:20241127T143000
DTSTAMP:20260419T071955
CREATED:20241120T231446Z
LAST-MODIFIED:20241120T231840Z
UID:2628-1732712400-1732717800@osanisinclusion.ca
SUMMARY:Drop-in Floor Hockey for Individuals with Diverse Abilities (18yrs+)
DESCRIPTION:This is a FREE event. Participants of all levels and abilities welcome! \nAll the equipment is provided and all that is needed is athletic wear and water bottle. \nThis is an opportunity to meet others\, be active and have fun. It is held every Wednesday from 1:00 – 2:30 at SJ Willis Educational Center in Victoria.  If an individual has a support worker\, they are welcome to come as well. \nPlease note: The volunteer staff does no personal care. \nAt SJ Willis\, the gym is huge and if you want to just come and hang out in the gym during this time without playing floor hockey\, this is also an option. \nWhen: Every Wednesday from 1:30pm to 2:30pm \nWhere: SJ Willis High School (Gym)\n              2970 Glasgow St\, \n              Victoria\, BC \n              V8T 5B9
URL:https://osanisinclusion.ca/event/drop-in-floor-hockey-diverse-abilities-nov27/
LOCATION:SJ Willis High School\, 923 Topaz Avenue\, Victoria\, BC\, V8T 2M2\, Canada
CATEGORIES:Community Event,In-Person Event,Kids & Family,Sports & Fitness
ATTACH;FMTTYPE=application/pdf:https://osanisinclusion.ca/wp-content/uploads/2024/09/Floor-Hockey-Poster-Sept-2024-1.pdf
END:VEVENT
END:VCALENDAR