BEGIN:VCALENDAR
VERSION:2.0
PRODID:-//Osanis Inclusion Services Inc. - ECPv6.15.20//NONSGML v1.0//EN
CALSCALE:GREGORIAN
METHOD:PUBLISH
X-ORIGINAL-URL:https://osanisinclusion.ca
X-WR-CALDESC:Events for Osanis Inclusion Services Inc.
REFRESH-INTERVAL;VALUE=DURATION:PT1H
X-Robots-Tag:noindex
X-PUBLISHED-TTL:PT1H
BEGIN:VTIMEZONE
TZID:America/Vancouver
BEGIN:DAYLIGHT
TZOFFSETFROM:-0800
TZOFFSETTO:-0700
TZNAME:PDT
DTSTART:20230312T100000
END:DAYLIGHT
BEGIN:STANDARD
TZOFFSETFROM:-0700
TZOFFSETTO:-0800
TZNAME:PST
DTSTART:20231105T090000
END:STANDARD
BEGIN:DAYLIGHT
TZOFFSETFROM:-0800
TZOFFSETTO:-0700
TZNAME:PDT
DTSTART:20240310T100000
END:DAYLIGHT
BEGIN:STANDARD
TZOFFSETFROM:-0700
TZOFFSETTO:-0800
TZNAME:PST
DTSTART:20241103T090000
END:STANDARD
BEGIN:DAYLIGHT
TZOFFSETFROM:-0800
TZOFFSETTO:-0700
TZNAME:PDT
DTSTART:20250309T100000
END:DAYLIGHT
BEGIN:STANDARD
TZOFFSETFROM:-0700
TZOFFSETTO:-0800
TZNAME:PST
DTSTART:20251102T090000
END:STANDARD
END:VTIMEZONE
BEGIN:VEVENT
DTSTART;TZID=America/Vancouver:20240701T110000
DTEND;TZID=America/Vancouver:20240701T222200
DTSTAMP:20260423T164600
CREATED:20240626T203546Z
LAST-MODIFIED:20240626T221559Z
UID:1740-1719831600-1719872520@osanisinclusion.ca
SUMMARY:Victoria's Canada Day
DESCRIPTION:Come celebrate Canada Day in Victoria at the Inner Harbour & Legislative Precinct. \nSchedule of Events on Monday\, July 1\, 2024 at Legislature Lawns: \n\n11 a.m.                                  Drumming\n11 a.m. to 6 p.m.               Family Zone\n11 a.m. to 10:30 p.m.      International Food Village\n3 p.m.                                   Welcome\n3:15 p.m.                             Lekwungen Traditional Dancers\n3:35 p.m.                            National Anthem – The Fates\n3:55 p.m.                            Blasé Blasé\n4:40 p.m.                           Yvonne Kushe\n5:25 p.m.                            Posh Coat\n6:25 p.m.                            Cities\n7:30 p.m.                            Mauvey\n8:30 p.m.                            Hey Ocean!\n9:30 p.m.                            DJ Shub\n10:15 p.m.                           Drone Show\n10:22 p.m.                          Fireworks
URL:https://osanisinclusion.ca/event/victorias-canada-day/
LOCATION:City Of Victoria\, 501 Belleville St.\, Victoria\,\, BC\, V8V 2L8\, Canada
CATEGORIES:Community Event,Food & Drink,Kids & Family,Live Performance,Outdoor
ATTACH;FMTTYPE=image/jpeg:https://osanisinclusion.ca/wp-content/uploads/2024/06/Canada-Day2.jpg
END:VEVENT
BEGIN:VEVENT
DTSTART;TZID=America/Vancouver:20240705T193000
DTEND;TZID=America/Vancouver:20240705T210000
DTSTAMP:20260423T164600
CREATED:20240621T020827Z
LAST-MODIFIED:20240624T230245Z
UID:1672-1720207800-1720213200@osanisinclusion.ca
SUMMARY:Comedy For A Cause
DESCRIPTION:Welcome to Comedy for a Cause! Get ready to laugh your socks off for a good cause at this hilarious event happening at the Vic Theatre. The event happens on Fri\, Jul 05\, 2024\, at 7:30 PM for a night of non-stop comedy and entertainment. Don’t miss out on the chance to support a great cause while enjoying some top-notch comedy talent! \nDoors open at 6:30 PM. Rush Seating. WARNING: adult content.
URL:https://osanisinclusion.ca/event/comedy-for-a-cause/
LOCATION:Vic Theatre\, 808 Douglas Street\, Victoria\, BC\, V8W 2B6\, Canada
CATEGORIES:Community Event,Live Performance
ATTACH;FMTTYPE=image/jpeg:https://osanisinclusion.ca/wp-content/uploads/2024/06/comedy-for-a-cause.jpeg
END:VEVENT
BEGIN:VEVENT
DTSTART;VALUE=DATE:20240707
DTEND;VALUE=DATE:20240708
DTSTAMP:20260423T164600
CREATED:20240626T204423Z
LAST-MODIFIED:20240703T001157Z
UID:1749-1720310400-1720396799@osanisinclusion.ca
SUMMARY:Victoria Pride Parade 2024
DESCRIPTION:Come celebrate the 30th anniversary of continuous Pride parades in Victoria!\nThis year’s Pride Parade starts on Sunday\, July 7\, 2024\, at 11 AM. This large\, colourful parade—with as many as 140 entries and 70\,000+ spectators—is one of our favourite moments of the year! The Songhees Nation and other Indigenous and Two-Spirit guests of honour will open the parade at Fisgard and Douglas.\n \nAccessible Viewing Area with Live Audio Description\nThis space is for persons with disabilities (and their date\, friends\, family\, attendants) who want to enjoy the parade in an accessible setting (Maximum five people per group\, including person with disability). Tents and seating will be set up\, as well as water and snacks provided! The space will be set up in front of the Empress Hotel\, near the intersection of Government St. and Belleville St. \nRegistration is highly recommended! Register by Thursday\, July 4th at 4pm or come and take your chance on the day of the parade! \nIf you would like to view the parade from the accessible viewing area\, or if you have any questions\, contact Wendy at director@drcvictoria.com or 250-595-0044\, extension 107! \n 
URL:https://osanisinclusion.ca/event/pride-parade-2024/
LOCATION:Victoria Pride Society\, Douglas St\, Victoria\, BC\, Canada
CATEGORIES:Community Event,Food & Drink,Kids & Family,Live Performance,Music,Outdoor
ATTACH;FMTTYPE=image/jpeg:https://osanisinclusion.ca/wp-content/uploads/2024/06/2023-Pride-Parade_KZ-Photography_5028.jpg
END:VEVENT
BEGIN:VEVENT
DTSTART;TZID=America/Vancouver:20240709T180000
DTEND;TZID=America/Vancouver:20240820T200000
DTSTAMP:20260423T164600
CREATED:20240704T005427Z
LAST-MODIFIED:20240704T005546Z
UID:1817-1720548000-1724184000@osanisinclusion.ca
SUMMARY:Music In the Park
DESCRIPTION:Get ready to groove this summer with a series of musical performances in various Saanich parks every Tuesday from 6-8 p.m. for eight weeks. Residents are encouraged to use public transport or bike to the performances. \nThe list of artists is as follows: \n\nJuly 9 at Majestic Park\, 4380 Majestic Drive – Vinyl Wave;\nJuly 16 at Beckwith Park\, 857 Beckwith Road – Groove Kitchen;\nJuly 23 at Brydon Park\, End of Viewmont Avenue – Back Beat;\nJuly 30 at Hyacinth Park\, 700 Marigold Road – Late Shift;\nAugust 6 at Prospect Lake Park\, 331 Prospect Lake Road) – Rock of Ages;\nAugust 13 at Rutledge Park\,  Inverness & Cloverdale – The Shenanigans;\nAugust 20 at Rudd Park\, 3259 Irma – Best Laid Plans.
URL:https://osanisinclusion.ca/event/music-in-the-park/
LOCATION:BC
CATEGORIES:Community Event,Food & Drink,Kids & Family,Live Performance,Music,Outdoor
ATTACH;FMTTYPE=image/jpeg:https://osanisinclusion.ca/wp-content/uploads/2024/07/music-in-the-park.jpg
ORGANIZER;CN="Saanich Parks%2C Recreation and Commuity Services":MAILTO:recmarketing@saanich.ca
END:VEVENT
BEGIN:VEVENT
DTSTART;TZID=America/Vancouver:20240727T100000
DTEND;TZID=America/Vancouver:20240728T170000
DTSTAMP:20260423T164600
CREATED:20240626T220112Z
LAST-MODIFIED:20240626T221200Z
UID:1763-1722074400-1722186000@osanisinclusion.ca
SUMMARY:ArtisTREE Festival
DESCRIPTION:ArtisTREE Festival is a two day arts festival taking place at historic Government House located on the traditional territory of the Songhees and Esquimalt First Nations. Featuring up to 150 juried artisan booths to both shop at and inspire\, as well as a live music stage\, art installations\, en plein air artist demonstrations and Indigenous art and culture showcase. Family Friendly! Children’s crafts\, activities and performers are part of the fun all weekend long. Experience the magic that will take place over 36 acres in the heart of Victoria’s Rockland neighbourhood. Leave the car at home. Walk\, bike or stroll to the event. Shuttles will be available for transport. See website for shuttle information. Accessibility friendly. Food trucks and beverage carts onsite. \nSaturday July 27 – 10am – 7pm\nSunday July 28 – 10am – 5pm\nSenior Shopping on Sunday from 10am-11am \nwww.artistreefestival.com
URL:https://osanisinclusion.ca/event/artistree-festival/
LOCATION:Goverment House\, 1401 Rockland Ave\, Victoria\, BC\, V8S 1V9\, Canada
CATEGORIES:Community Event,Creative Art,Outdoor
ATTACH;FMTTYPE=image/webp:https://osanisinclusion.ca/wp-content/uploads/2024/06/Untitled_design_85-6879111.webp
END:VEVENT
END:VCALENDAR