BEGIN:VCALENDAR
VERSION:2.0
PRODID:-//Osanis Inclusion Services Inc. - ECPv6.15.20//NONSGML v1.0//EN
CALSCALE:GREGORIAN
METHOD:PUBLISH
X-ORIGINAL-URL:https://osanisinclusion.ca
X-WR-CALDESC:Events for Osanis Inclusion Services Inc.
REFRESH-INTERVAL;VALUE=DURATION:PT1H
X-Robots-Tag:noindex
X-PUBLISHED-TTL:PT1H
BEGIN:VTIMEZONE
TZID:America/Vancouver
BEGIN:DAYLIGHT
TZOFFSETFROM:-0800
TZOFFSETTO:-0700
TZNAME:PDT
DTSTART:20240310T100000
END:DAYLIGHT
BEGIN:STANDARD
TZOFFSETFROM:-0700
TZOFFSETTO:-0800
TZNAME:PST
DTSTART:20241103T090000
END:STANDARD
BEGIN:DAYLIGHT
TZOFFSETFROM:-0800
TZOFFSETTO:-0700
TZNAME:PDT
DTSTART:20250309T100000
END:DAYLIGHT
BEGIN:STANDARD
TZOFFSETFROM:-0700
TZOFFSETTO:-0800
TZNAME:PST
DTSTART:20251102T090000
END:STANDARD
BEGIN:DAYLIGHT
TZOFFSETFROM:-0800
TZOFFSETTO:-0700
TZNAME:PDT
DTSTART:20260308T100000
END:DAYLIGHT
BEGIN:STANDARD
TZOFFSETFROM:-0700
TZOFFSETTO:-0800
TZNAME:PST
DTSTART:20261101T090000
END:STANDARD
END:VTIMEZONE
BEGIN:VEVENT
DTSTART;TZID=America/Vancouver:20251113T173000
DTEND;TZID=America/Vancouver:20251127T183000
DTSTAMP:20260421T154531
CREATED:20251023T204815Z
LAST-MODIFIED:20251023T204815Z
UID:5980-1763055000-1764268200@osanisinclusion.ca
SUMMARY:Understanding ADHD for Adults
DESCRIPTION:ADHD impacts all areas of life\, and understanding is a pivotal starting point for moving forward. \nThis program is designed for those who are newly diagnosed and are embarking on a personal journey of self-discovery. \ \nPLEASE NOTE: This program is not a webinar and requires your active participation to fully benefit from it. Sessions will not be recorded to protect your privacy. \nJoin us to unravel the complexities of Adult ADHD in an interactive\, supportive\, and collaborative environment. \nAfter this program you should be able to: \n\nUnderstand the wide range of Adult ADHD symptoms.\nBecome aware of how ADHD can impact various aspects of life.\nTake proactive steps to explore non-medication approaches to managing ADHD.\nIdentify how ADHD medications work and how they can improve daily functioning.\nAccess resources that can bring positive changes to lives of people with ADHD\n\nFacilitated by Dr. Gurdeep Parhar (MD) and Dr. Anita Parhar (PhD)\, this program draws from their extensive knowledge gained through years of dedicated work at the Adult ADHD Centre.  Dr. Gurdeep Parhar and Dr. Anita Parhar bring a wealth of clinical and practical insights through the cumulative experience of over 15\,000 patient experiences\, which is the foundation of this program. \nBegins Thursday\, November 13\, 2025 – 3 weeks\nDates: November 13\, 20 & 27\, 2025\nTime: 5:30pm PST/ 6:30pm MST/ 8:30pm – 10pm EST/ 9:30pm AST\nWhere: Virtual on Zoom \nPlease note that this program is refundable up to 48hrs before the program starts. As of November 11th\, the registration fee is non-refundable. Thank you for your understanding.  \nFacilitators: Dr. Gurdeep Parhar & Dr. Anita Parhar \nFee: $30 + HST \n\nPlease note that this program will be offered in January\, March\, September and November every year. This program is a good intro to ADHD prior to taking our Adult ADHD Group Coaching programs. \nPlease note that this program is refundable up to 48hrs before the program starts. Once the program begins\, registration fee is non-refundable. Thank you for your understanding.
URL:https://osanisinclusion.ca/event/understanding-your-childs-adhd-2-2/
LOCATION:Virtual Event
CATEGORIES:Education,Online Event,Zoom Event
ATTACH;FMTTYPE=image/webp:https://osanisinclusion.ca/wp-content/uploads/2025/08/Website-Blog-covers-1-1.png.webp
END:VEVENT
END:VCALENDAR