BEGIN:VCALENDAR
VERSION:2.0
PRODID:-//Osanis Inclusion Services Inc. - ECPv6.15.20//NONSGML v1.0//EN
CALSCALE:GREGORIAN
METHOD:PUBLISH
X-ORIGINAL-URL:https://osanisinclusion.ca
X-WR-CALDESC:Events for Osanis Inclusion Services Inc.
REFRESH-INTERVAL;VALUE=DURATION:PT1H
X-Robots-Tag:noindex
X-PUBLISHED-TTL:PT1H
BEGIN:VTIMEZONE
TZID:America/Vancouver
BEGIN:DAYLIGHT
TZOFFSETFROM:-0800
TZOFFSETTO:-0700
TZNAME:PDT
DTSTART:20240310T100000
END:DAYLIGHT
BEGIN:STANDARD
TZOFFSETFROM:-0700
TZOFFSETTO:-0800
TZNAME:PST
DTSTART:20241103T090000
END:STANDARD
BEGIN:DAYLIGHT
TZOFFSETFROM:-0800
TZOFFSETTO:-0700
TZNAME:PDT
DTSTART:20250309T100000
END:DAYLIGHT
BEGIN:STANDARD
TZOFFSETFROM:-0700
TZOFFSETTO:-0800
TZNAME:PST
DTSTART:20251102T090000
END:STANDARD
BEGIN:DAYLIGHT
TZOFFSETFROM:-0800
TZOFFSETTO:-0700
TZNAME:PDT
DTSTART:20260308T100000
END:DAYLIGHT
BEGIN:STANDARD
TZOFFSETFROM:-0700
TZOFFSETTO:-0800
TZNAME:PST
DTSTART:20261101T090000
END:STANDARD
END:VTIMEZONE
BEGIN:VEVENT
DTSTART;TZID=America/Vancouver:20250818T070000
DTEND;TZID=America/Vancouver:20250829T170000
DTSTAMP:20260421T191712
CREATED:20250816T014838Z
LAST-MODIFIED:20250816T014838Z
UID:4042-1755500400-1756486800@osanisinclusion.ca
SUMMARY:The ADHD Growth Summit
DESCRIPTION:In celebration of our new ADHD community\, we are throwing a party and you are invited. Join us virtually for two weeks of body doubling\, interactive workshops\, breakthrough moments\, and finding your people. \nThis Summit brings together over 30 extraordinary ADHD voices and experts ranging from coaches\, creators\, clinicians\, entrepreneurs\, and educators. \nThey represent the full richness of ADHD culture. It’s innovation\, honesty\, adaptability\, and depth. They’re here to answer the questions you’ve been wanting to ask and the keys to their success.
URL:https://osanisinclusion.ca/event/the-adhd-growth-summit/
CATEGORIES:Conference,Online Event,Zoom Event
ATTACH;FMTTYPE=image/jpeg:https://osanisinclusion.ca/wp-content/uploads/2025/08/Shimmer-ADHD-Growth-Summit.jpg
END:VEVENT
BEGIN:VEVENT
DTSTART;VALUE=DATE:20250825
DTEND;VALUE=DATE:20250828
DTSTAMP:20260421T191712
CREATED:20250625T232317Z
LAST-MODIFIED:20250625T232317Z
UID:3401-1756080000-1756339199@osanisinclusion.ca
SUMMARY:BC Summer Institute 2025
DESCRIPTION:The BC Summer Institute: Partnerships for Inclusive Learning conference\, organized by the Family Support Institute\, is happening in August\, and the early bird registration deadline is coming up soon! \nThis virtual conference for educators\, paraprofessionals\, and members of school-based teams in BC provides a professional learning experience around facilitating inclusive practice in the classroom. \nMonday\, August 25 to Wednesday\, August 27\, 2025 \nEarly Bird registration is by Tuesday\, July 15\, 2025 \nEarly Bird pricing – $395 \nRegular pricing – $450
URL:https://osanisinclusion.ca/event/bc-summer-institute-2025/
LOCATION:Virtual Event
CATEGORIES:Education,Online Event,Zoom Event
ATTACH;FMTTYPE=image/jpeg:https://osanisinclusion.ca/wp-content/uploads/2025/06/FSI-Inclusive-Learning.jpg
END:VEVENT
BEGIN:VEVENT
DTSTART;TZID=America/Vancouver:20250825T190000
DTEND;TZID=America/Vancouver:20250825T203000
DTSTAMP:20260421T191712
CREATED:20250703T210826Z
LAST-MODIFIED:20250703T210826Z
UID:3658-1756148400-1756153800@osanisinclusion.ca
SUMMARY:Journey Through Grief
DESCRIPTION:Parents\, grandparents\, and caregivers of a child or family member with a disability who journey through aspects of grief are invited to come together in a safe space for connection\, understanding\, inspiration\, capacity building\, and non-judgemental support. Whether your experience is a new diagnosis\, life stage\, or loss\, we welcome you to join the conversation circle. We are inclusive of diverse perspectives and belief systems. \nCLICK TO REGISTER\nFamily Support Institute of BC (FSI) is a provincial not-for-profit society committed to supporting families who have a family member with a disability. FSI is unique in Canada and the only grassroots family to family organization that has a broad volunteer base. FSI SUPPORTS AND SERVICES ARE FREE TO ANY FAMILY \nYou are invited to join FSI CONTINUING CONVERSATIONS\, a private Facebook Group intended to continue conversations of support or provide an alternative platform for support. www.facebook.com/groups/fsicontinuingconversations/ \nAfter the session you are encouraged to share your feedback. This helps FSI improve our content to better serve the needs of families. \nhttps://app.smartsheet.com/b/form/52ef23e13270439d9d97d32a0b229bbc \n  \nAll FSI Zoom sessions can be accessed by telephone only if access to computers and/or internet is a barrier.   If you need assistance registering for any session\, please call our office at 1-800-441-5403. 
URL:https://osanisinclusion.ca/event/journey-through-grief-2/
LOCATION:Virtual Event
CATEGORIES:Education,Online Event,Zoom Event
ATTACH;FMTTYPE=image/jpeg:https://osanisinclusion.ca/wp-content/uploads/2025/07/Family-Hangout-GRIEF.jpg
END:VEVENT
END:VCALENDAR