BEGIN:VCALENDAR
VERSION:2.0
PRODID:-//Osanis Inclusion Services Inc. - ECPv6.15.20//NONSGML v1.0//EN
CALSCALE:GREGORIAN
METHOD:PUBLISH
X-ORIGINAL-URL:https://osanisinclusion.ca
X-WR-CALDESC:Events for Osanis Inclusion Services Inc.
REFRESH-INTERVAL;VALUE=DURATION:PT1H
X-Robots-Tag:noindex
X-PUBLISHED-TTL:PT1H
BEGIN:VTIMEZONE
TZID:America/Vancouver
BEGIN:DAYLIGHT
TZOFFSETFROM:-0800
TZOFFSETTO:-0700
TZNAME:PDT
DTSTART:20240310T100000
END:DAYLIGHT
BEGIN:STANDARD
TZOFFSETFROM:-0700
TZOFFSETTO:-0800
TZNAME:PST
DTSTART:20241103T090000
END:STANDARD
BEGIN:DAYLIGHT
TZOFFSETFROM:-0800
TZOFFSETTO:-0700
TZNAME:PDT
DTSTART:20250309T100000
END:DAYLIGHT
BEGIN:STANDARD
TZOFFSETFROM:-0700
TZOFFSETTO:-0800
TZNAME:PST
DTSTART:20251102T090000
END:STANDARD
BEGIN:DAYLIGHT
TZOFFSETFROM:-0800
TZOFFSETTO:-0700
TZNAME:PDT
DTSTART:20260308T100000
END:DAYLIGHT
BEGIN:STANDARD
TZOFFSETFROM:-0700
TZOFFSETTO:-0800
TZNAME:PST
DTSTART:20261101T090000
END:STANDARD
END:VTIMEZONE
BEGIN:VEVENT
DTSTART;TZID=America/Vancouver:20250720T183000
DTEND;TZID=America/Vancouver:20250720T200000
DTSTAMP:20260421T175952
CREATED:20250705T003259Z
LAST-MODIFIED:20250705T003512Z
UID:3685-1753036200-1753041600@osanisinclusion.ca
SUMMARY:Dads Matter
DESCRIPTION:What is it? Dads supporting dads ! A place where dads can share their own experiences and get guidance and support from other dads. Dads with kids with disabilities. \nWhen: Every Sunday. Attend one\, three or as many as you want. \nWhere it Happens: Zoom online\, Register Here \nAges: Dads of Children – All Ages \nCost: Free \n  \n \nGet in Touch: For more information\, please call Ben Postmus at 250-231-7712\nWebsite: https://diversefamilyroots.ca
URL:https://osanisinclusion.ca/event/dads-matter-2/
LOCATION:Virtual Event
CATEGORIES:Education,Online Event,Zoom Event
ATTACH;FMTTYPE=image/jpeg:https://osanisinclusion.ca/wp-content/uploads/2025/07/Dads-Matter2.jpg
END:VEVENT
END:VCALENDAR