BEGIN:VCALENDAR
VERSION:2.0
PRODID:-//Osanis Inclusion Services Inc. - ECPv6.15.20//NONSGML v1.0//EN
CALSCALE:GREGORIAN
METHOD:PUBLISH
X-ORIGINAL-URL:https://osanisinclusion.ca
X-WR-CALDESC:Events for Osanis Inclusion Services Inc.
REFRESH-INTERVAL;VALUE=DURATION:PT1H
X-Robots-Tag:noindex
X-PUBLISHED-TTL:PT1H
BEGIN:VTIMEZONE
TZID:America/Vancouver
BEGIN:DAYLIGHT
TZOFFSETFROM:-0800
TZOFFSETTO:-0700
TZNAME:PDT
DTSTART:20240310T100000
END:DAYLIGHT
BEGIN:STANDARD
TZOFFSETFROM:-0700
TZOFFSETTO:-0800
TZNAME:PST
DTSTART:20241103T090000
END:STANDARD
BEGIN:DAYLIGHT
TZOFFSETFROM:-0800
TZOFFSETTO:-0700
TZNAME:PDT
DTSTART:20250309T100000
END:DAYLIGHT
BEGIN:STANDARD
TZOFFSETFROM:-0700
TZOFFSETTO:-0800
TZNAME:PST
DTSTART:20251102T090000
END:STANDARD
BEGIN:DAYLIGHT
TZOFFSETFROM:-0800
TZOFFSETTO:-0700
TZNAME:PDT
DTSTART:20260308T100000
END:DAYLIGHT
BEGIN:STANDARD
TZOFFSETFROM:-0700
TZOFFSETTO:-0800
TZNAME:PST
DTSTART:20261101T090000
END:STANDARD
END:VTIMEZONE
BEGIN:VEVENT
DTSTART;TZID=America/Vancouver:20250604T130000
DTEND;TZID=America/Vancouver:20250604T140000
DTSTAMP:20260421T151102
CREATED:20250603T145046Z
LAST-MODIFIED:20250603T145342Z
UID:3194-1749042000-1749045600@osanisinclusion.ca
SUMMARY:Early Years and School Age Navigation
DESCRIPTION:Caring for little ones with extra support needs is marked by joy\, fear\, and overwhelm\, usually all in the same day! Navigating the toddler and preschool years\, or anticipating school years on the horizon\, can be a uniquely challenging time. Join this Family Hangout for supportive sessions on navigating the early years. We are here to listen\, provide resources\, and create a safe place to discuss the parenting experience of young children with diverse abilities. \nRegister Here
URL:https://osanisinclusion.ca/event/early-years-and-school-age-navigation-2/
LOCATION:Virtual Event
CATEGORIES:Education,Online Event,Zoom Event
ATTACH;FMTTYPE=image/jpeg:https://osanisinclusion.ca/wp-content/uploads/2025/06/unnamed-9.jpg
END:VEVENT
BEGIN:VEVENT
DTSTART;TZID=America/Vancouver:20250605T190000
DTEND;TZID=America/Vancouver:20250605T200000
DTSTAMP:20260421T151102
CREATED:20250603T151816Z
LAST-MODIFIED:20250603T151816Z
UID:3203-1749150000-1749153600@osanisinclusion.ca
SUMMARY:FASD - Thinking Outside Of The Box
DESCRIPTION:Empowering conversations for individuals affected by Fetal Alcohol Spectrum Disorders (FASD) and those who support them. A Family Hangout that provides a safe place to share and connect. \nRegister Here
URL:https://osanisinclusion.ca/event/fasd-thinking-outside-of-the-box-3/
LOCATION:Virtual Event
CATEGORIES:Education,Online Event,Zoom Event
ATTACH;FMTTYPE=image/jpeg:https://osanisinclusion.ca/wp-content/uploads/2025/06/unnamed-10.jpg
END:VEVENT
BEGIN:VEVENT
DTSTART;TZID=America/Vancouver:20250611T093000
DTEND;TZID=America/Vancouver:20250611T153000
DTSTAMP:20260421T151102
CREATED:20250606T002136Z
LAST-MODIFIED:20250606T002136Z
UID:3224-1749634200-1749655800@osanisinclusion.ca
SUMMARY:Decolonizing Neurodivergence and Autism
DESCRIPTION:Presented by Len Pierre and Allison Balfour \nThis full-day\, strengths-based training offers a practical and culturally grounded introduction to Autism and Neurodivergence (e.g.\, Attention Deficit Hyper Activity Disorder\, learning differences) for those working in or alongside Indigenous communities. \nGrounded in the belief that all minds are sacred\, this course emphasizes respectful\, relationship-based ways of supporting Autistic and otherwise Neurodivergent children\, youth\, and adults. \nRead more about it here
URL:https://osanisinclusion.ca/event/decolonizing-neurodivergence-and-autism/
LOCATION:Virtual Event
CATEGORIES:Education,Online Event,Zoom Event
ATTACH;FMTTYPE=image/jpeg:https://osanisinclusion.ca/wp-content/uploads/2025/06/ACT.jpg
END:VEVENT
BEGIN:VEVENT
DTSTART;TZID=America/Vancouver:20250611T183000
DTEND;TZID=America/Vancouver:20250611T200000
DTSTAMP:20260421T151102
CREATED:20250528T115540Z
LAST-MODIFIED:20250528T115540Z
UID:3178-1749666600-1749672000@osanisinclusion.ca
SUMMARY:Mental Health and Preparing for the Transition to Post Secondary
DESCRIPTION:After high school\, post-secondary education for our youth can be exciting but also stressful if they have struggled with their mental health. You’re not alone. Discover some ways we can prepare our youth for school and support their mental health and independence while they are at school. \nLearn from Dawn Schell from the University of Victoria\, Melissa Feddersen from the University of British Columbia (Okanagan) and Victoria Keddis\, a parent with lived experience. \nJoin us to watch a video presentation together and stay for a facilitated conversation by our Family Peer Support Workers. \n6:30pm-8:00pm Pacific Time (most of British Columbia)\n7:30pm-9:00pm Mountain Time (Alberta) \nThese events are funded for parents and caregivers living in the Province of British Columbia and for CASA families in Alberta. If you are from another province or territory\, or live outside of Canada\, we welcome you to visit our video library at www.familysmart.ca/videos and use our resources. Thank you. \n\n\nRegister
URL:https://osanisinclusion.ca/event/mental-health-and-preparing-for-the-transition-to-post-secondary/
LOCATION:Virtual Event
CATEGORIES:Community Event,Online Event,Zoom Event
ATTACH;FMTTYPE=image/png:https://osanisinclusion.ca/wp-content/uploads/2025/05/FS_Itk_OnlineEvent_Small.png
END:VEVENT
BEGIN:VEVENT
DTSTART;TZID=America/Vancouver:20250612T190000
DTEND;TZID=America/Vancouver:20250612T200000
DTSTAMP:20260421T151102
CREATED:20250603T151907Z
LAST-MODIFIED:20250603T151907Z
UID:3206-1749754800-1749758400@osanisinclusion.ca
SUMMARY:FASD - Thinking Outside Of The Box
DESCRIPTION:Empowering conversations for individuals affected by Fetal Alcohol Spectrum Disorders (FASD) and those who support them. A Family Hangout that provides a safe place to share and connect. \nRegister Here
URL:https://osanisinclusion.ca/event/fasd-thinking-outside-of-the-box-3-2/
LOCATION:Virtual Event
CATEGORIES:Education,Online Event,Zoom Event
ATTACH;FMTTYPE=image/jpeg:https://osanisinclusion.ca/wp-content/uploads/2025/06/unnamed-10.jpg
END:VEVENT
BEGIN:VEVENT
DTSTART;TZID=America/Vancouver:20250617T183000
DTEND;TZID=America/Vancouver:20250617T200000
DTSTAMP:20260421T151102
CREATED:20250528T115642Z
LAST-MODIFIED:20250528T115642Z
UID:3180-1750185000-1750190400@osanisinclusion.ca
SUMMARY:Mental Health and Preparing for the Transition to Post Secondary
DESCRIPTION:After high school\, post-secondary education for our youth can be exciting but also stressful if they have struggled with their mental health. You’re not alone. Discover some ways we can prepare our youth for school and support their mental health and independence while they are at school. \nLearn from Dawn Schell from the University of Victoria\, Melissa Feddersen from the University of British Columbia (Okanagan) and Victoria Keddis\, a parent with lived experience. \nJoin us to watch a video presentation together and stay for a facilitated conversation by our Family Peer Support Workers. \n6:30pm-8:00pm Pacific Time (most of British Columbia)\n7:30pm-9:00pm Mountain Time (Alberta) \nThese events are funded for parents and caregivers living in the Province of British Columbia and for CASA families in Alberta. If you are from another province or territory\, or live outside of Canada\, we welcome you to visit our video library at www.familysmart.ca/videos and use our resources. Thank you. \n\n\nRegister
URL:https://osanisinclusion.ca/event/mental-health-and-preparing-for-the-transition-to-post-secondary-2/
LOCATION:Virtual Event
CATEGORIES:Community Event,Online Event,Zoom Event
ATTACH;FMTTYPE=image/png:https://osanisinclusion.ca/wp-content/uploads/2025/05/FS_Itk_OnlineEvent_Small.png
END:VEVENT
BEGIN:VEVENT
DTSTART;TZID=America/Vancouver:20250618T130000
DTEND;TZID=America/Vancouver:20250618T140000
DTSTAMP:20260421T151102
CREATED:20250603T145257Z
LAST-MODIFIED:20250603T145257Z
UID:3197-1750251600-1750255200@osanisinclusion.ca
SUMMARY:Early Years and School Age Navigation
DESCRIPTION:Caring for little ones with extra support needs is marked by joy\, fear\, and overwhelm\, usually all in the same day! Navigating the toddler and preschool years\, or anticipating school years on the horizon\, can be a uniquely challenging time. Join this Family Hangout for supportive sessions on navigating the early years. We are here to listen\, provide resources\, and create a safe place to discuss the parenting experience of young children with diverse abilities. \nRegister Here
URL:https://osanisinclusion.ca/event/early-years-and-school-age-navigation-2-2/
LOCATION:Virtual Event
CATEGORIES:Education,Online Event,Zoom Event
ATTACH;FMTTYPE=image/jpeg:https://osanisinclusion.ca/wp-content/uploads/2025/06/unnamed-9.jpg
END:VEVENT
BEGIN:VEVENT
DTSTART;TZID=America/Vancouver:20250624T190000
DTEND;TZID=America/Vancouver:20250624T200000
DTSTAMP:20260421T151102
CREATED:20250613T132448Z
LAST-MODIFIED:20250613T132500Z
UID:3262-1750791600-1750795200@osanisinclusion.ca
SUMMARY:Indigenous Joy (Virtual)
DESCRIPTION:We are excited to be hosting Indigenous Joy!\nThis virtual event is happening on \nTuesday\, June 24\, 2025\, from 7-8 PM. \nJoin us for an evening of community\, fun activities\, laughter\, connecting with your Fed Family\, and\nCelebrating Indigenous culture. \nTo register for this event\, click below. \n\nRegister to Attend
URL:https://osanisinclusion.ca/event/indigenous-joy/
LOCATION:Virtual Event
CATEGORIES:Online Event,Zoom Event
ATTACH;FMTTYPE=image/png:https://osanisinclusion.ca/wp-content/uploads/2025/06/Indigenous-Joy-1.png
END:VEVENT
BEGIN:VEVENT
DTSTART;TZID=America/Vancouver:20250626T150000
DTEND;TZID=America/Vancouver:20250626T170000
DTSTAMP:20260421T151102
CREATED:20250619T234226Z
LAST-MODIFIED:20250620T000346Z
UID:3320-1750950000-1750957200@osanisinclusion.ca
SUMMARY:Round Table: Last Day of School 2025 - Inclusive Education Update
DESCRIPTION:The end of the 2024/25 school year is approaching. Join us for an engaging Round Table as advocates from the inclusion movement share their insights and reflections on the state of inclusive education in Canada. This session will provide an in-depth look at the progress\, challenges\, and future directions of inclusive education in four Canadian provinces\, highlighting key developments and advocacy efforts. Don’t miss this opportunity to hear directly from leaders driving change in inclusive education. \nRegister Here
URL:https://osanisinclusion.ca/event/round-table-last-day-of-school-2025-inclusive-education-update/
LOCATION:Virtual Event
CATEGORIES:Education,Online Event,Zoom Event
ATTACH;FMTTYPE=image/png:https://osanisinclusion.ca/wp-content/uploads/2025/06/Inclusion-Canada.png
END:VEVENT
BEGIN:VEVENT
DTSTART;TZID=America/Vancouver:20250626T190000
DTEND;TZID=America/Vancouver:20250626T200000
DTSTAMP:20260421T151102
CREATED:20250603T151939Z
LAST-MODIFIED:20250603T151953Z
UID:3208-1750964400-1750968000@osanisinclusion.ca
SUMMARY:FASD - Thinking Outside Of The Box
DESCRIPTION:Empowering conversations for individuals affected by Fetal Alcohol Spectrum Disorders (FASD) and those who support them. A Family Hangout that provides a safe place to share and connect. \nRegister Here
URL:https://osanisinclusion.ca/event/fasd-thinking-outside-of-the-box-3-2-2/
LOCATION:Virtual Event
CATEGORIES:Education,Online Event,Zoom Event
ATTACH;FMTTYPE=image/jpeg:https://osanisinclusion.ca/wp-content/uploads/2025/06/unnamed-10.jpg
END:VEVENT
END:VCALENDAR