BEGIN:VCALENDAR
VERSION:2.0
PRODID:-//Osanis Inclusion Services Inc. - ECPv6.15.20//NONSGML v1.0//EN
CALSCALE:GREGORIAN
METHOD:PUBLISH
X-ORIGINAL-URL:https://osanisinclusion.ca
X-WR-CALDESC:Events for Osanis Inclusion Services Inc.
REFRESH-INTERVAL;VALUE=DURATION:PT1H
X-Robots-Tag:noindex
X-PUBLISHED-TTL:PT1H
BEGIN:VTIMEZONE
TZID:America/Vancouver
BEGIN:DAYLIGHT
TZOFFSETFROM:-0800
TZOFFSETTO:-0700
TZNAME:PDT
DTSTART:20240310T100000
END:DAYLIGHT
BEGIN:STANDARD
TZOFFSETFROM:-0700
TZOFFSETTO:-0800
TZNAME:PST
DTSTART:20241103T090000
END:STANDARD
BEGIN:DAYLIGHT
TZOFFSETFROM:-0800
TZOFFSETTO:-0700
TZNAME:PDT
DTSTART:20250309T100000
END:DAYLIGHT
BEGIN:STANDARD
TZOFFSETFROM:-0700
TZOFFSETTO:-0800
TZNAME:PST
DTSTART:20251102T090000
END:STANDARD
BEGIN:DAYLIGHT
TZOFFSETFROM:-0800
TZOFFSETTO:-0700
TZNAME:PDT
DTSTART:20260308T100000
END:DAYLIGHT
BEGIN:STANDARD
TZOFFSETFROM:-0700
TZOFFSETTO:-0800
TZNAME:PST
DTSTART:20261101T090000
END:STANDARD
END:VTIMEZONE
BEGIN:VEVENT
DTSTART;VALUE=DATE:20250621
DTEND;VALUE=DATE:20250809
DTSTAMP:20260419T201157
CREATED:20250331T012424Z
LAST-MODIFIED:20250331T022520Z
UID:3011-1750464000-1754697599@osanisinclusion.ca
SUMMARY:Easter Seals Summer Camp 2025
DESCRIPTION:Easter Seals has been offering summer camp experiences to children and adults with physical and cognitive disabilities since 1968. \nFrom day camps to week-long overnight camps\, to in-person and virtual\, there are options available for all interests and for all children and adults with disabilities ages 6 and up. Trained counsellors bring out the fun and silly in every activity\, creating experiences that instill confidence and memories that last a lifetime. \nFor more information\, visit: https://www.eastersealsbcy.ca/summercamp/
URL:https://osanisinclusion.ca/event/easter-seals-summer-camp-2025/
CATEGORIES:Summer Camp
ATTACH;FMTTYPE=image/png:https://osanisinclusion.ca/wp-content/uploads/2025/03/Easter-Seals-Summer-Camp.png
END:VEVENT
END:VCALENDAR