BEGIN:VCALENDAR
VERSION:2.0
PRODID:-//Osanis Inclusion Services Inc. - ECPv6.15.20//NONSGML v1.0//EN
CALSCALE:GREGORIAN
METHOD:PUBLISH
X-ORIGINAL-URL:https://osanisinclusion.ca
X-WR-CALDESC:Events for Osanis Inclusion Services Inc.
REFRESH-INTERVAL;VALUE=DURATION:PT1H
X-Robots-Tag:noindex
X-PUBLISHED-TTL:PT1H
BEGIN:VTIMEZONE
TZID:America/Vancouver
BEGIN:DAYLIGHT
TZOFFSETFROM:-0800
TZOFFSETTO:-0700
TZNAME:PDT
DTSTART:20230312T100000
END:DAYLIGHT
BEGIN:STANDARD
TZOFFSETFROM:-0700
TZOFFSETTO:-0800
TZNAME:PST
DTSTART:20231105T090000
END:STANDARD
BEGIN:DAYLIGHT
TZOFFSETFROM:-0800
TZOFFSETTO:-0700
TZNAME:PDT
DTSTART:20240310T100000
END:DAYLIGHT
BEGIN:STANDARD
TZOFFSETFROM:-0700
TZOFFSETTO:-0800
TZNAME:PST
DTSTART:20241103T090000
END:STANDARD
BEGIN:DAYLIGHT
TZOFFSETFROM:-0800
TZOFFSETTO:-0700
TZNAME:PDT
DTSTART:20250309T100000
END:DAYLIGHT
BEGIN:STANDARD
TZOFFSETFROM:-0700
TZOFFSETTO:-0800
TZNAME:PST
DTSTART:20251102T090000
END:STANDARD
END:VTIMEZONE
BEGIN:VEVENT
DTSTART;TZID=America/Vancouver:20240925T143000
DTEND;TZID=America/Vancouver:20240925T160000
DTSTAMP:20260421T155737
CREATED:20240920T190720Z
LAST-MODIFIED:20240920T190720Z
UID:2291-1727274600-1727280000@osanisinclusion.ca
SUMMARY:Drop-in Floor Hockey for Individuals with Diverse Abilities (18yrs+)
DESCRIPTION:Participants of all levels and abilities welcome! \nWhen: Every Wednesday from 2:30pm to 4:00pm starting September 18\, 2024 \nWhere: Victoria West Community Center\n               521 Craigflower Road\n                Victoria\, BC\n                V9A 6Z5     
URL:https://osanisinclusion.ca/event/drop-in-floor-hockey-for-individuals-with-diverse-abilities-18yrs/
LOCATION:Victoria West Community Center\, 521 Craigflower Rd\, Victoria\, BC\, V9A 6Z5\, Canada
CATEGORIES:Community Event,In-Person Event,Kids & Family,Sports & Fitness
ATTACH;FMTTYPE=application/pdf:https://osanisinclusion.ca/wp-content/uploads/2024/09/Floor-Hockey-Poster-Sept-2024.pdf
END:VEVENT
END:VCALENDAR