BEGIN:VCALENDAR
VERSION:2.0
PRODID:-//Osanis Inclusion Services Inc. - ECPv6.15.20//NONSGML v1.0//EN
CALSCALE:GREGORIAN
METHOD:PUBLISH
X-WR-CALNAME:Osanis Inclusion Services Inc.
X-ORIGINAL-URL:https://osanisinclusion.ca
X-WR-CALDESC:Events for Osanis Inclusion Services Inc.
REFRESH-INTERVAL;VALUE=DURATION:PT1H
X-Robots-Tag:noindex
X-PUBLISHED-TTL:PT1H
BEGIN:VTIMEZONE
TZID:America/Vancouver
BEGIN:DAYLIGHT
TZOFFSETFROM:-0800
TZOFFSETTO:-0700
TZNAME:PDT
DTSTART:20230312T100000
END:DAYLIGHT
BEGIN:STANDARD
TZOFFSETFROM:-0700
TZOFFSETTO:-0800
TZNAME:PST
DTSTART:20231105T090000
END:STANDARD
BEGIN:DAYLIGHT
TZOFFSETFROM:-0800
TZOFFSETTO:-0700
TZNAME:PDT
DTSTART:20240310T100000
END:DAYLIGHT
BEGIN:STANDARD
TZOFFSETFROM:-0700
TZOFFSETTO:-0800
TZNAME:PST
DTSTART:20241103T090000
END:STANDARD
BEGIN:DAYLIGHT
TZOFFSETFROM:-0800
TZOFFSETTO:-0700
TZNAME:PDT
DTSTART:20250309T100000
END:DAYLIGHT
BEGIN:STANDARD
TZOFFSETFROM:-0700
TZOFFSETTO:-0800
TZNAME:PST
DTSTART:20251102T090000
END:STANDARD
END:VTIMEZONE
BEGIN:VEVENT
DTSTART;TZID=America/Vancouver:20241201T150000
DTEND;TZID=America/Vancouver:20241201T190000
DTSTAMP:20260422T215545
CREATED:20241109T040243Z
LAST-MODIFIED:20241109T040243Z
UID:2478-1733065200-1733079600@osanisinclusion.ca
SUMMARY:Esquimalt Celebration of Lights
DESCRIPTION:Esquimalt’s Celebration of Lights is a magical event for the whole family. Lights\, Music\, Food\, Santa and it is FREE to the whole community. It is a community event where people can come together to celebrate the holiday season with lights and festivities. We also feature a Music Bingo in the spring of each year to help support our upcoming Esquimalt Celebration of Lights. \nHope to see you all there for the start of the parade at 5 pm on December 1st\, 2024 for the parade and at the Arena right after for a visit with Santa\, a hot dog from the Lions and singing with your neighbours.
URL:https://osanisinclusion.ca/event/esquimalt-celebration-of-lights/
CATEGORIES:Community Event,Food & Drink,Live Performance,Music,Outdoor,Parade
ATTACH;FMTTYPE=image/jpeg:https://osanisinclusion.ca/wp-content/uploads/2024/11/unnamed.jpg
END:VEVENT
END:VCALENDAR