BEGIN:VCALENDAR
VERSION:2.0
PRODID:-//Osanis Inclusion Services Inc. - ECPv6.15.20//NONSGML v1.0//EN
CALSCALE:GREGORIAN
METHOD:PUBLISH
X-ORIGINAL-URL:https://osanisinclusion.ca
X-WR-CALDESC:Events for Osanis Inclusion Services Inc.
REFRESH-INTERVAL;VALUE=DURATION:PT1H
X-Robots-Tag:noindex
X-PUBLISHED-TTL:PT1H
BEGIN:VTIMEZONE
TZID:America/Vancouver
BEGIN:DAYLIGHT
TZOFFSETFROM:-0800
TZOFFSETTO:-0700
TZNAME:PDT
DTSTART:20230312T100000
END:DAYLIGHT
BEGIN:STANDARD
TZOFFSETFROM:-0700
TZOFFSETTO:-0800
TZNAME:PST
DTSTART:20231105T090000
END:STANDARD
BEGIN:DAYLIGHT
TZOFFSETFROM:-0800
TZOFFSETTO:-0700
TZNAME:PDT
DTSTART:20240310T100000
END:DAYLIGHT
BEGIN:STANDARD
TZOFFSETFROM:-0700
TZOFFSETTO:-0800
TZNAME:PST
DTSTART:20241103T090000
END:STANDARD
BEGIN:DAYLIGHT
TZOFFSETFROM:-0800
TZOFFSETTO:-0700
TZNAME:PDT
DTSTART:20250309T100000
END:DAYLIGHT
BEGIN:STANDARD
TZOFFSETFROM:-0700
TZOFFSETTO:-0800
TZNAME:PST
DTSTART:20251102T090000
END:STANDARD
END:VTIMEZONE
BEGIN:VEVENT
DTSTART;TZID=America/Vancouver:20240921T120000
DTEND;TZID=America/Vancouver:20240921T190000
DTSTAMP:20260422T193812
CREATED:20240904T022015Z
LAST-MODIFIED:20240906T230743Z
UID:2143-1726920000-1726945200@osanisinclusion.ca
SUMMARY:Recovery Day Victoria 2024
DESCRIPTION:In honor of Recovery Month (September)\, Umbrella Society\, @New Roads Therapeutic Recovery Community (Our Place Society)\, and our funders (Victoria Community Action Team\, Island Health\, BC Government) will partner to deliver a new\, re-energized\, and refreshed celebration of recovery for individuals\, families\, friends\, and communities affected by substance use disorders and other addictions.\n\nRDV’24 is a free\, family friendly\, and inclusive\, alcohol/substance free\, single day annual event for anyone to attend who has an interest in celebrating recovery\, honoring those who have recovered\, and giving hope to those seeking sustainable recovery from active addiction.\n\nEvent elements will include (but may not be limited to) music\, comedy\, and other entertainment on the main stage; food trucks\, artisans marketspace\, a resource providers marketspace\, 4-on-4 street hockey tournament\, a kids stage and “Family Fun Land” inflatable fun park for kids\, parents\, and adults. There will also be crafting and therapeutic arts workshops\, face painting\, and more.\n\nMain Event runs from Noon until 7pmStreet Hockey Tournament runs from 9am until 5pm
URL:https://osanisinclusion.ca/event/recovery-day-victoria-2024/
LOCATION:Central Park\, 909 Pembroke St\, Victoria\, BC\, V8T 4Z5\, Canada
CATEGORIES:Community Event,Food & Drink,Health & wellness,Live Performance,Outdoor
ATTACH;FMTTYPE=image/jpeg:https://osanisinclusion.ca/wp-content/uploads/2024/09/recovery-day-victoria.jpg
END:VEVENT
END:VCALENDAR