BEGIN:VCALENDAR
VERSION:2.0
PRODID:-//Osanis Inclusion Services Inc. - ECPv6.15.20//NONSGML v1.0//EN
CALSCALE:GREGORIAN
METHOD:PUBLISH
X-WR-CALNAME:Osanis Inclusion Services Inc.
X-ORIGINAL-URL:https://osanisinclusion.ca
X-WR-CALDESC:Events for Osanis Inclusion Services Inc.
REFRESH-INTERVAL;VALUE=DURATION:PT1H
X-Robots-Tag:noindex
X-PUBLISHED-TTL:PT1H
BEGIN:VTIMEZONE
TZID:America/Vancouver
BEGIN:DAYLIGHT
TZOFFSETFROM:-0800
TZOFFSETTO:-0700
TZNAME:PDT
DTSTART:20240310T100000
END:DAYLIGHT
BEGIN:STANDARD
TZOFFSETFROM:-0700
TZOFFSETTO:-0800
TZNAME:PST
DTSTART:20241103T090000
END:STANDARD
BEGIN:DAYLIGHT
TZOFFSETFROM:-0800
TZOFFSETTO:-0700
TZNAME:PDT
DTSTART:20250309T100000
END:DAYLIGHT
BEGIN:STANDARD
TZOFFSETFROM:-0700
TZOFFSETTO:-0800
TZNAME:PST
DTSTART:20251102T090000
END:STANDARD
BEGIN:DAYLIGHT
TZOFFSETFROM:-0800
TZOFFSETTO:-0700
TZNAME:PDT
DTSTART:20260308T100000
END:DAYLIGHT
BEGIN:STANDARD
TZOFFSETFROM:-0700
TZOFFSETTO:-0800
TZNAME:PST
DTSTART:20261101T090000
END:STANDARD
END:VTIMEZONE
BEGIN:VEVENT
DTSTART;TZID=America/Vancouver:20250717T183000
DTEND;TZID=America/Vancouver:20250717T193000
DTSTAMP:20260421T013416
CREATED:20250710T193336Z
LAST-MODIFIED:20250710T193336Z
UID:3755-1752777000-1752780600@osanisinclusion.ca
SUMMARY:Parenting Neurodivergent Children Support Group
DESCRIPTION:We believe that every parent & kinship caregivers are the expert of their own family. Sometimes it just takes a bit of space to hear yourself and the voices of other parents to find your way through. Parenting Support Groups provide a safe\, supportive place to share ideas\, information\, concerns\, challenges\, etc.\, with others who are also parenting. \nThe online event occurs weekly on Thursday at 6:30 pm and is FREE to join. \nOur groups are free and confidential and open to those in a parenting role who live in British Columbia\, Canada. \nIf you are completing this form after hours or over the weekend\, please note that we will make every effort to contact you the following business day. \nPlease note that our initial contact is via Email\, kindly ensure that you check your junk/spam mailbox. \n\nThank you\,\nPSS\nOffice@parentsupportbc.ca 
URL:https://osanisinclusion.ca/event/parenting-neurodivergent-children/
LOCATION:Virtual Event
CATEGORIES:Education,Online Event,Zoom Event
ATTACH;FMTTYPE=image/jpeg:https://osanisinclusion.ca/wp-content/uploads/2025/07/neurodivergent.jpg
END:VEVENT
BEGIN:VEVENT
DTSTART;TZID=America/Vancouver:20250717T190000
DTEND;TZID=America/Vancouver:20250717T203000
DTSTAMP:20260421T013416
CREATED:20250703T202747Z
LAST-MODIFIED:20250703T202747Z
UID:3648-1752778800-1752784200@osanisinclusion.ca
SUMMARY:FASD - Thinking Outside of the Box
DESCRIPTION:This family hangout is all about empowering conversations for individuals affected by FASD and those that support them. Join us for a family hangout that provides a safe place to share and connect. \nCLICK TO REGISTER\nWE ASK ALL REGISTRANTS TO PLEASE REVIEW FSI’S ZOOM MEETING GUIDELINES BEFORE ATTENDING \nFamily Support Institute of BC (FSI) is a provincial not-for-profit society committed to supporting families who have a family member with a disability. FSI is unique in Canada and the only grass roots family to family organization that has a broad volunteer base. \nFSI SUPPORTS AND SERVICES ARE FREE TO ANY FAMILY \nYou are invited to join FSI CONTINUING CONVERSATIONS\, a private Facebook Group intended to continue conversations of support or provide an alternative platform for support. www.facebook.com/groups/fsicontinuingconversations/ \n  \nAfter the session you are encouraged to share your feedback. This helps FSI improve our content to better serve the needs of families. \nhttps://app.smartsheet.com/b/form/52ef23e13270439d9d97d32a0b229bbc \n  \nAll FSI Zoom sessions can be accessed by telephone only if access to computers and/or internet is a barrier.   If you need assistance registering for any session\, please call our office at 1-800-441-5403. 
URL:https://osanisinclusion.ca/event/fasd-thinking-outside-box-2/
LOCATION:Virtual Event
CATEGORIES:Education,Online Event,Zoom Event
ATTACH;FMTTYPE=image/jpeg:https://osanisinclusion.ca/wp-content/uploads/2025/07/Family-Hangout-FASD-HO.jpg
END:VEVENT
END:VCALENDAR