BEGIN:VCALENDAR
VERSION:2.0
PRODID:-//Osanis Inclusion Services Inc. - ECPv6.15.20//NONSGML v1.0//EN
CALSCALE:GREGORIAN
METHOD:PUBLISH
X-ORIGINAL-URL:https://osanisinclusion.ca
X-WR-CALDESC:Events for Osanis Inclusion Services Inc.
REFRESH-INTERVAL;VALUE=DURATION:PT1H
X-Robots-Tag:noindex
X-PUBLISHED-TTL:PT1H
BEGIN:VTIMEZONE
TZID:America/Vancouver
BEGIN:DAYLIGHT
TZOFFSETFROM:-0800
TZOFFSETTO:-0700
TZNAME:PDT
DTSTART:20240310T100000
END:DAYLIGHT
BEGIN:STANDARD
TZOFFSETFROM:-0700
TZOFFSETTO:-0800
TZNAME:PST
DTSTART:20241103T090000
END:STANDARD
BEGIN:DAYLIGHT
TZOFFSETFROM:-0800
TZOFFSETTO:-0700
TZNAME:PDT
DTSTART:20250309T100000
END:DAYLIGHT
BEGIN:STANDARD
TZOFFSETFROM:-0700
TZOFFSETTO:-0800
TZNAME:PST
DTSTART:20251102T090000
END:STANDARD
BEGIN:DAYLIGHT
TZOFFSETFROM:-0800
TZOFFSETTO:-0700
TZNAME:PDT
DTSTART:20260308T100000
END:DAYLIGHT
BEGIN:STANDARD
TZOFFSETFROM:-0700
TZOFFSETTO:-0800
TZNAME:PST
DTSTART:20261101T090000
END:STANDARD
END:VTIMEZONE
BEGIN:VEVENT
DTSTART;TZID=America/Vancouver:20250610T120000
DTEND;TZID=America/Vancouver:20250610T130000
DTSTAMP:20260421T131548
CREATED:20250109T234426Z
LAST-MODIFIED:20250109T234426Z
UID:2746-1749556800-1749560400@osanisinclusion.ca
SUMMARY:Gender Marvelous
DESCRIPTION:Welcome to a space where families come together to share their experiences\, ask questions\, and support one another as we navigate the journey of raising our queer\, gender-diverse and/or Two-Spirit children and youth. Join the conversation\, find strength and encouragement\, and connect with a network of families who understand. All queer and 2SLGBTQIA+ families are welcome. Let’s support each other and grow together! \nFamily Support Institute of BC (FSI) is a provincial not-for-profit society committed to supporting families who have a family member with a disability. FSI is unique in Canada and the only grassroots family to family organization that has a broad volunteer base. FSI SUPPORTS AND SERVICES ARE FREE TO ANY FAMILY
URL:https://osanisinclusion.ca/event/gender-marvelous-2-2-2-2-2-2-2-2-2-2/
LOCATION:Virtual Event
CATEGORIES:Education,Online Event
ATTACH;FMTTYPE=image/jpeg:https://osanisinclusion.ca/wp-content/uploads/2025/01/Gender-Marvelous.jpg
END:VEVENT
BEGIN:VEVENT
DTSTART;TZID=America/Vancouver:20250610T190000
DTEND;TZID=America/Vancouver:20250610T200000
DTSTAMP:20260421T131548
CREATED:20250603T110421Z
LAST-MODIFIED:20250603T110421Z
UID:3185-1749582000-1749585600@osanisinclusion.ca
SUMMARY:Fed Family Chat
DESCRIPTION:This virtual event is an opportunity to hang out with other youth in and from care and have fun. Together we can shape how we want to spend our time together. \nThis Fed Family Chat will be taking place on \nTues\, June 10 from 7-8PM. \n\nSign Up for Fed Family Chat\n\nWe are so excited to share space and connect with you!
URL:https://osanisinclusion.ca/event/fed-family-chat/
LOCATION:Virtual Event
CATEGORIES:Community Event,Kids & Family,Online Event
ATTACH;FMTTYPE=image/jpeg:https://osanisinclusion.ca/wp-content/uploads/2025/06/unnamed-7.jpg
END:VEVENT
END:VCALENDAR