BEGIN:VCALENDAR
VERSION:2.0
PRODID:-//Osanis Inclusion Services Inc. - ECPv6.15.20//NONSGML v1.0//EN
CALSCALE:GREGORIAN
METHOD:PUBLISH
X-WR-CALNAME:Osanis Inclusion Services Inc.
X-ORIGINAL-URL:https://osanisinclusion.ca
X-WR-CALDESC:Events for Osanis Inclusion Services Inc.
REFRESH-INTERVAL;VALUE=DURATION:PT1H
X-Robots-Tag:noindex
X-PUBLISHED-TTL:PT1H
BEGIN:VTIMEZONE
TZID:America/Vancouver
BEGIN:DAYLIGHT
TZOFFSETFROM:-0800
TZOFFSETTO:-0700
TZNAME:PDT
DTSTART:20230312T100000
END:DAYLIGHT
BEGIN:STANDARD
TZOFFSETFROM:-0700
TZOFFSETTO:-0800
TZNAME:PST
DTSTART:20231105T090000
END:STANDARD
BEGIN:DAYLIGHT
TZOFFSETFROM:-0800
TZOFFSETTO:-0700
TZNAME:PDT
DTSTART:20240310T100000
END:DAYLIGHT
BEGIN:STANDARD
TZOFFSETFROM:-0700
TZOFFSETTO:-0800
TZNAME:PST
DTSTART:20241103T090000
END:STANDARD
BEGIN:DAYLIGHT
TZOFFSETFROM:-0800
TZOFFSETTO:-0700
TZNAME:PDT
DTSTART:20250309T100000
END:DAYLIGHT
BEGIN:STANDARD
TZOFFSETFROM:-0700
TZOFFSETTO:-0800
TZNAME:PST
DTSTART:20251102T090000
END:STANDARD
END:VTIMEZONE
BEGIN:VEVENT
DTSTART;TZID=America/Vancouver:20241126T100000
DTEND;TZID=America/Vancouver:20241126T110000
DTSTAMP:20260421T175849
CREATED:20241121T043516Z
LAST-MODIFIED:20241121T043516Z
UID:2640-1732615200-1732618800@osanisinclusion.ca
SUMMARY:CSSHSA First Aid Webinar
DESCRIPTION:Join us for an informative webinar on November 26th at 10 AM as we cover essential topics such as understanding your workplace’s first aid needs\, new first aid requirements effective November 1\, 2024\, developing and maintaining first aid procedures\, and more. Don’t miss out on this opportunity to stay up-to-date and ensure your workplace is prepared for any emergency. Register today!
URL:https://osanisinclusion.ca/event/csshsa-first-aid-webinar/
LOCATION:Virtual Event
CATEGORIES:Online Event,Zoom Event
ATTACH;FMTTYPE=image/jpeg:https://osanisinclusion.ca/wp-content/uploads/2024/11/First-Aid-Webinar.jpg
END:VEVENT
END:VCALENDAR