BEGIN:VCALENDAR
VERSION:2.0
PRODID:-//Osanis Inclusion Services Inc. - ECPv6.15.20//NONSGML v1.0//EN
CALSCALE:GREGORIAN
METHOD:PUBLISH
X-ORIGINAL-URL:https://osanisinclusion.ca
X-WR-CALDESC:Events for Osanis Inclusion Services Inc.
REFRESH-INTERVAL;VALUE=DURATION:PT1H
X-Robots-Tag:noindex
X-PUBLISHED-TTL:PT1H
BEGIN:VTIMEZONE
TZID:America/Vancouver
BEGIN:DAYLIGHT
TZOFFSETFROM:-0800
TZOFFSETTO:-0700
TZNAME:PDT
DTSTART:20230312T100000
END:DAYLIGHT
BEGIN:STANDARD
TZOFFSETFROM:-0700
TZOFFSETTO:-0800
TZNAME:PST
DTSTART:20231105T090000
END:STANDARD
BEGIN:DAYLIGHT
TZOFFSETFROM:-0800
TZOFFSETTO:-0700
TZNAME:PDT
DTSTART:20240310T100000
END:DAYLIGHT
BEGIN:STANDARD
TZOFFSETFROM:-0700
TZOFFSETTO:-0800
TZNAME:PST
DTSTART:20241103T090000
END:STANDARD
BEGIN:DAYLIGHT
TZOFFSETFROM:-0800
TZOFFSETTO:-0700
TZNAME:PDT
DTSTART:20250309T100000
END:DAYLIGHT
BEGIN:STANDARD
TZOFFSETFROM:-0700
TZOFFSETTO:-0800
TZNAME:PST
DTSTART:20251102T090000
END:STANDARD
END:VTIMEZONE
BEGIN:VEVENT
DTSTART;TZID=America/Vancouver:20240717T173000
DTEND;TZID=America/Vancouver:20240717T190000
DTSTAMP:20260422T073229
CREATED:20240712T221616Z
LAST-MODIFIED:20240712T222046Z
UID:2038-1721237400-1721242800@osanisinclusion.ca
SUMMARY:Community Engagement Sessions on the Accessible BC Act
DESCRIPTION:The VDRC (Victoria Disability Resource Centre) will be hosting two Community Engagement sessions on the Accessible BC Act.  To learn more about the Act and its importance for individuals with disabilities in BC\, you can attend in person or virtually. \nIn-person: July 17\, 2024 @ 5:30pm until 7:00pm. Food\, snacks and beverages will be provided. \nVirtual: July 24\, 2024 @ 5:30pm until 7:00pm. This will be via Zoom. The first 20 people who register will receive a $5 electronic gift card to Starbucks or Tim Hortons so they can enjoy a beverage during the session. \nBoth sessions will have ASL and live transcription. \nTo register for either session\, please contact Wendy at director@drcvictoria.com or 250-595-0044 ext. 107. There is no deadline for registration.
URL:https://osanisinclusion.ca/event/community-engagement-sessions-on-the-accessible-bc-act/
LOCATION:Victoria Disability Resource Centre\, 817A Fort Str.\, Victoria\, BC\, V8W 1H8\, Canada
CATEGORIES:Community Event,Online Event
ATTACH;FMTTYPE=image/jpeg:https://osanisinclusion.ca/wp-content/uploads/2024/07/remove-barriers.jpg
END:VEVENT
BEGIN:VEVENT
DTSTART;TZID=America/Vancouver:20240717T183000
DTEND;TZID=America/Vancouver:20240717T200000
DTSTAMP:20260422T073229
CREATED:20240704T214529Z
LAST-MODIFIED:20240704T214742Z
UID:1845-1721241000-1721246400@osanisinclusion.ca
SUMMARY:Aging Caregivers
DESCRIPTION:We cannot slow the aging process in ourselves or in the people we care for! As we get older\, our ability to care for our family member becomes more and more difficult. Planning our own future\, and the future of our loved ones can be a terrifying process. Will we be able to provide the necessary care? Will they be well cared for in the future\, after we are gone? What can we do to make the future easier? Connecting with other families in similar situations is the best way to problem solve and figure out what will work best for our specific situations. This is a new family hangout. Join our call with other “mature” parents and caregivers and we can problem solve together! \nCLICK HERE TO REGISTER\nYou are invited to join FSI CONTINUING CONVERSATIONS\, a private Facebook Group intended to continue conversations of support or provide an alternative platform for support. www.facebook.com/groups/fsicontinuingconversations/ \nAfter the session you are encouraged to share your feedback. This helps FSI improve our content to better serve the needs of families. \nAll FSI Zoom sessions can be accessed by telephone only if access to computers and/or internet is a barrier. If you need assistance registering for any session\, please call our office at 1-800-441-5403.
URL:https://osanisinclusion.ca/event/aging-caregivers/
CATEGORIES:Online Event
ATTACH;FMTTYPE=image/jpeg:https://osanisinclusion.ca/wp-content/uploads/2024/07/FHO-AGING-CARERS.jpg
END:VEVENT
END:VCALENDAR