BEGIN:VCALENDAR
VERSION:2.0
PRODID:-//Osanis Inclusion Services Inc. - ECPv6.15.20//NONSGML v1.0//EN
CALSCALE:GREGORIAN
METHOD:PUBLISH
X-ORIGINAL-URL:https://osanisinclusion.ca
X-WR-CALDESC:Events for Osanis Inclusion Services Inc.
REFRESH-INTERVAL;VALUE=DURATION:PT1H
X-Robots-Tag:noindex
X-PUBLISHED-TTL:PT1H
BEGIN:VTIMEZONE
TZID:America/Vancouver
BEGIN:DAYLIGHT
TZOFFSETFROM:-0800
TZOFFSETTO:-0700
TZNAME:PDT
DTSTART:20230312T100000
END:DAYLIGHT
BEGIN:STANDARD
TZOFFSETFROM:-0700
TZOFFSETTO:-0800
TZNAME:PST
DTSTART:20231105T090000
END:STANDARD
BEGIN:DAYLIGHT
TZOFFSETFROM:-0800
TZOFFSETTO:-0700
TZNAME:PDT
DTSTART:20240310T100000
END:DAYLIGHT
BEGIN:STANDARD
TZOFFSETFROM:-0700
TZOFFSETTO:-0800
TZNAME:PST
DTSTART:20241103T090000
END:STANDARD
BEGIN:DAYLIGHT
TZOFFSETFROM:-0800
TZOFFSETTO:-0700
TZNAME:PDT
DTSTART:20250309T100000
END:DAYLIGHT
BEGIN:STANDARD
TZOFFSETFROM:-0700
TZOFFSETTO:-0800
TZNAME:PST
DTSTART:20251102T090000
END:STANDARD
END:VTIMEZONE
BEGIN:VEVENT
DTSTART;TZID=America/Vancouver:20240704T190000
DTEND;TZID=America/Vancouver:20240704T203000
DTSTAMP:20260422T100648
CREATED:20240704T211628Z
LAST-MODIFIED:20240704T211721Z
UID:1826-1720119600-1720125000@osanisinclusion.ca
SUMMARY:FASD - Thinking Outside of the Box
DESCRIPTION:This family hangout is all about empowering conversations for individuals affected by FASD and those that support them. Join us for a family hangout that provides a safe place to share and connect. \n  \nCLICK TO REGISTER\n  \nFamily Support Institute of BC (FSI) is a provincial not-for-profit society committed to supporting families who have a family member with a disability. FSI is unique in Canada and the only grass roots family to family organization that has a broad volunteer base. \nFSI SUPPORTS AND SERVICES ARE FREE TO ANY FAMILY \nYou are invited to join FSI CONTINUING CONVERSATIONS\, a private Facebook Group intended to continue conversations of support or provide an alternative platform for support. www.facebook.com/groups/fsicontinuingconversations/ \n  \nAfter the session you are encouraged to share your feedback. This helps FSI improve our content to better serve the needs of families. \nhttps://app.smartsheet.com/b/form/52ef23e13270439d9d97d32a0b229bbc \n  \nAll FSI Zoom sessions can be accessed by telephone only if access to computers and/or internet is a barrier.   If you need assistance registering for any session\, please call our office at 1-800-441-5403.  \n  \n*FG
URL:https://osanisinclusion.ca/event/fasd-thinking-outside-of-the-box/
CATEGORIES:Online Event
ATTACH;FMTTYPE=image/jpeg:https://osanisinclusion.ca/wp-content/uploads/2024/07/Family-Hangout-FASD-HO.jpg
END:VEVENT
END:VCALENDAR