BEGIN:VCALENDAR
VERSION:2.0
PRODID:-//Osanis Inclusion Services Inc. - ECPv6.15.20//NONSGML v1.0//EN
CALSCALE:GREGORIAN
METHOD:PUBLISH
X-ORIGINAL-URL:https://osanisinclusion.ca
X-WR-CALDESC:Events for Osanis Inclusion Services Inc.
REFRESH-INTERVAL;VALUE=DURATION:PT1H
X-Robots-Tag:noindex
X-PUBLISHED-TTL:PT1H
BEGIN:VTIMEZONE
TZID:America/Vancouver
BEGIN:DAYLIGHT
TZOFFSETFROM:-0800
TZOFFSETTO:-0700
TZNAME:PDT
DTSTART:20240310T100000
END:DAYLIGHT
BEGIN:STANDARD
TZOFFSETFROM:-0700
TZOFFSETTO:-0800
TZNAME:PST
DTSTART:20241103T090000
END:STANDARD
BEGIN:DAYLIGHT
TZOFFSETFROM:-0800
TZOFFSETTO:-0700
TZNAME:PDT
DTSTART:20250309T100000
END:DAYLIGHT
BEGIN:STANDARD
TZOFFSETFROM:-0700
TZOFFSETTO:-0800
TZNAME:PST
DTSTART:20251102T090000
END:STANDARD
BEGIN:DAYLIGHT
TZOFFSETFROM:-0800
TZOFFSETTO:-0700
TZNAME:PDT
DTSTART:20260308T100000
END:DAYLIGHT
BEGIN:STANDARD
TZOFFSETFROM:-0700
TZOFFSETTO:-0800
TZNAME:PST
DTSTART:20261101T090000
END:STANDARD
END:VTIMEZONE
BEGIN:VEVENT
DTSTART;TZID=America/Vancouver:20250124T150000
DTEND;TZID=America/Vancouver:20250207T160000
DTSTAMP:20260421T163820
CREATED:20250125T151815Z
LAST-MODIFIED:20250125T152345Z
UID:2822-1737730800-1738944000@osanisinclusion.ca
SUMMARY:Y Mind Downtown - Information Session
DESCRIPTION:The Y Mind Groups offer a free 7-week in-person psychoeducational and support group for youth ages 13-30 who experience stress\, worry or anxiety. Participants learn healthy coping skills\, connect with other young people in the community\, and get support all in a safe and friendly environment. Programming is supervised by trained mental health professionals. Free gym membership while in the program. \nRegistration in the program is separate. Please note that attendance in all program sessions is required.
URL:https://osanisinclusion.ca/event/y-mind-downtown-information-session/
LOCATION:Virtual Event
CATEGORIES:Education,Online Event,Zoom Event
ATTACH;FMTTYPE=image/jpeg:https://osanisinclusion.ca/wp-content/uploads/2025/01/Y-Mind-Group-1.jpg
END:VEVENT
BEGIN:VEVENT
DTSTART;TZID=America/Vancouver:20250130T090000
DTEND;TZID=America/Vancouver:20250323T235000
DTSTAMP:20260421T163820
CREATED:20241109T041338Z
LAST-MODIFIED:20241109T041338Z
UID:2481-1738227600-1742773800@osanisinclusion.ca
SUMMARY:SEXABA
DESCRIPTION:Happy SexABA 2025! Join us for our 5th annual year\, online starting Saturday Feb 01\, 2025 through Sunday Feb 02\, 2024 for a full two day Conference on sexual behavior\, sexuality\, and gender through a lens of neurodiversity affirmation\, harm reduction\, and human rights. Can’t make it live online? All recordings will be available until March 31\, 2025.  \nAlso consider also joining us online Thursday Jan 30\, 2025 and Friday Jan 31\, 2025 for four 3hr live\, interactive Pre-Conference Workshops. Can’t make it live online? All recordings of workshops will also be available until March 31\, 2025. \n12 BACB CEUs will be available across the 2 day Conference\, and an additional 12 BACB CEUs will be available across the 4 Pre-Conference Workshops\, for a total of 24 possible BACB CEUs across all conference offerings. \nAll BACB CEUs will be available for both live online attendance\, as well as asynchronous online attendance. \nReally want to be here\, but can’t do the ticket price? Reach out to info@sexaba.com to inquire about our scholarships. \nIf you have any questions about the conference\, you can also reach us at info@sexaba.com! \nWe can’t wait to see you!
URL:https://osanisinclusion.ca/event/sexaba/
LOCATION:Virtual Event
CATEGORIES:Education,Online Event,Zoom Event
ATTACH;FMTTYPE=image/png:https://osanisinclusion.ca/wp-content/uploads/2024/11/Sexaba.png
END:VEVENT
BEGIN:VEVENT
DTSTART;TZID=America/Vancouver:20250203T160000
DTEND;TZID=America/Vancouver:20250203T173000
DTSTAMP:20260421T163820
CREATED:20250110T005644Z
LAST-MODIFIED:20250110T005644Z
UID:2769-1738598400-1738603800@osanisinclusion.ca
SUMMARY:Brave In Your Body
DESCRIPTION:A safe and inclusive virtual space to explore your relationship with body image.
URL:https://osanisinclusion.ca/event/brave-in-your-body-2-2-2/
LOCATION:Virtual Event
CATEGORIES:Education,Online Event
ATTACH;FMTTYPE=image/jpeg:https://osanisinclusion.ca/wp-content/uploads/2025/01/Brave-in-your-body.jpg
ORGANIZER;CN="Foundry":MAILTO:online@foundrybc.ca
END:VEVENT
BEGIN:VEVENT
DTSTART;TZID=America/Vancouver:20250205T100000
DTEND;TZID=America/Vancouver:20250205T113000
DTSTAMP:20260421T163820
CREATED:20250131T130034Z
LAST-MODIFIED:20250131T130034Z
UID:2863-1738749600-1738755000@osanisinclusion.ca
SUMMARY:Parenting Workshop
DESCRIPTION:What are Parenting Workshops?\n\n\nParenting Workshops are free\, interactive\, and informative online workshops on a variety of parenting topics. These workshops provide parents and caregivers with practical strategies for supporting the development of their children. \nThis workshop supports families by exploring expectations and boundaries.
URL:https://osanisinclusion.ca/event/parenting-workshop/
LOCATION:Virtual Event
CATEGORIES:Community Event,Education,Online Event,Zoom Event
ATTACH;FMTTYPE=image/jpeg:https://osanisinclusion.ca/wp-content/uploads/2025/01/Parenting-Workshops.jpg
END:VEVENT
BEGIN:VEVENT
DTSTART;TZID=America/Vancouver:20250206T120000
DTEND;TZID=America/Vancouver:20250206T130000
DTSTAMP:20260421T163820
CREATED:20250116T054603Z
LAST-MODIFIED:20250116T054720Z
UID:2805-1738843200-1738846800@osanisinclusion.ca
SUMMARY:Creating a Culture of Care Webinar
DESCRIPTION:For Community Social Services\n\n\n\n\nJoin us for an insightful one-hour webinar focused on two valuable resources designed to enhance mental health outcomes and foster a psychologically safe workplace in the Community Social Services (CSS) sector. In this session\, participants will gain an understanding of psychological health and safety\, why it’s critical for organizational well-being\, and how they can utilize the Community Social Services Health and Safety Association’s (CSSHSA) Wellness Exchange Program and the Pulse Check tool to support their teams. This webinar will equip you with practical tools to create a more resilient\, supportive environment for employees across the sector. \n\n\n\n\n\n\n\nBy the end of this webinar\, participants will be able to: \n\n\n\n\n\n\n\n\nUnderstand the CSSHSA Wellness Exchange Program and how it provides tools\, resources\, and support to enhance well-being and professional resilience for employees in the Community Social Services sector.\nIdentify the benefits of the Pulse Check tool for leaders\, including how it can help assess organizational psychosocial health and safety\, and identify gaps and areas for improvement.\nApply insights from the Wellness Exchange Program to foster mental health\, well-being\, and resilience within teams.\nEvaluate current practices for supporting employee mental health and well-being and use the Pulse Check tool to make data-driven decisions for improvement.\nIntegrate the Wellness Exchange Program and Pulse Check tool as key components of your organizational toolkit to create a supportive and healthy workplace environment.\n\n\n\n\n\n\n\n\nOur Presenter \n\n\n\n\n\n\n\n \n\n\n\n\n\n\n\nSuncha Satney is a Workplace Psychological Health and Safety Consultant at CSSHSA. She is passionate about guiding organizations in creating environments where people feel their best and do their best work. With many years of experience in Community Social Services as a frontline worker and Clinical Counselor\, she brings awareness\, education\, and strategies to support workplace mental health within the sector. She is a CMHA Certified Psychological Health and Safety Advisor. \n\n\n Register Here
URL:https://osanisinclusion.ca/event/creating-a-culture-of-care-webinar/
LOCATION:Virtual Event
CATEGORIES:Community Event,Education,Online Event
ATTACH;FMTTYPE=image/jpeg:https://osanisinclusion.ca/wp-content/uploads/2025/01/Creating-a-culture-of-care.jpg
END:VEVENT
BEGIN:VEVENT
DTSTART;TZID=America/Vancouver:20250211T120000
DTEND;TZID=America/Vancouver:20250211T130000
DTSTAMP:20260421T163820
CREATED:20250109T234032Z
LAST-MODIFIED:20250109T234032Z
UID:2730-1739275200-1739278800@osanisinclusion.ca
SUMMARY:Gender Marvelous
DESCRIPTION:Welcome to a space where families come together to share their experiences\, ask questions\, and support one another as we navigate the journey of raising our queer\, gender-diverse and/or Two-Spirit children and youth. Join the conversation\, find strength and encouragement\, and connect with a network of families who understand. All queer and 2SLGBTQIA+ families are welcome. Let’s support each other and grow together! \nFamily Support Institute of BC (FSI) is a provincial not-for-profit society committed to supporting families who have a family member with a disability. FSI is unique in Canada and the only grassroots family to family organization that has a broad volunteer base. FSI SUPPORTS AND SERVICES ARE FREE TO ANY FAMILY
URL:https://osanisinclusion.ca/event/gender-marvelous-2-2/
LOCATION:Virtual Event
CATEGORIES:Education,Online Event
ATTACH;FMTTYPE=image/jpeg:https://osanisinclusion.ca/wp-content/uploads/2025/01/Gender-Marvelous.jpg
END:VEVENT
BEGIN:VEVENT
DTSTART;TZID=America/Vancouver:20250212T180000
DTEND;TZID=America/Vancouver:20250212T190000
DTSTAMP:20260421T163820
CREATED:20250131T120902Z
LAST-MODIFIED:20250131T120902Z
UID:2849-1739383200-1739386800@osanisinclusion.ca
SUMMARY:You Gotta Have Friends
DESCRIPTION:“ You Gotta Have Friends” aims to highlight the vital role that relationships play in enhancing the quality of life for people with disabilities. We will explore the emotional\, social\, and psychological benefits of having strong\, supportive friendships\, emphasizing how these connections can foster a sense of belonging and community. We will exchange ideas\, stories and strategies together (you might even make a friend or two-) Shelley Nessman is the Director of Family Support and Leadership at PLAN and is co- founder of In the Company of Others
URL:https://osanisinclusion.ca/event/you-gotta-have-friends/
LOCATION:Virtual Event
CATEGORIES:Community Event,Creative Art,Education,Online Event,Zoom Event
ATTACH;FMTTYPE=image/jpeg:https://osanisinclusion.ca/wp-content/uploads/2025/01/You-gotta-have-friends.jpg
END:VEVENT
BEGIN:VEVENT
DTSTART;TZID=America/Vancouver:20250212T183000
DTEND;TZID=America/Vancouver:20250212T200000
DTSTAMP:20260421T163820
CREATED:20250125T154110Z
LAST-MODIFIED:20250125T154318Z
UID:2827-1739385000-1739390400@osanisinclusion.ca
SUMMARY:Emotion Regulation - Deepening Our Understanding - Special Live FamilySmart Event (online)
DESCRIPTION:Have you ever found yourself looking at your child’s emotional outburst and thinking\, “What the heck is happening?” or “This doesn’t make any sense\,” or “What on earth are they so upset about – it’s not that big a deal?”  If so\, you are certainly not alone!  Many parents describe feeling as though they’re walking on eggshells or avoiding taking their children out in fear of an emotional ‘meltdown’ which can be embarrassing\, upsetting\, and can lead to some pretty big emotions for the grown ups as well. \nIf this sounds like you\, or like someone you care about\, please join us for an evening filled with information about what can lead to big emotions and for some concrete strategies for responding skillfully to those situations.  Nicole will join us live on Zoom to lead us through an evening of learning which will expand upon some key points including: \n\nUnderstanding emotion dysregulation as a skills deficit\, and identifying strategies to grow those skills.\nHow to anticipate when big emotions will occur\, and exploring specific skills for responding to it.\nUnderstanding how the principle of attunement can be a roadmap for finding solutions that will work for you and your family.\nHoping for the best\, planning for the worst – so that everyone knows what to expect.\nHow to repair the relationship when it’s all gone wrong.\n\nPlease join us live online for an evening filled with information\, reflection\, and no doubt a good amount of laughter as well. \nSpeaker: Nicole Allen is a Registered Clinical Counsellor\, mom\, wife and dog lover who\, over the past decade\, has worked with young people and their caregivers to build relationships and emotion regulation strategies\, especially in times of mental health crisis. Nicole has private practices in Abbotsford and Fort Langley. \nThis event will be hosted on Zoom. \nThe presentation will begin at 6:30 pm and end at 8 pm Pacific Time. \nPlease note: The event is free.  Registration is required and limited. \nRegister here.
URL:https://osanisinclusion.ca/event/emotion-regulation-deepening-our-understanding-special-live-familysmart-event-online/
LOCATION:Virtual Event
CATEGORIES:Education,Online Event,Zoom Event
ATTACH;FMTTYPE=image/jpeg:https://osanisinclusion.ca/wp-content/uploads/2025/01/emotion.jpg
END:VEVENT
BEGIN:VEVENT
DTSTART;TZID=America/Vancouver:20250219T120000
DTEND;TZID=America/Vancouver:20250219T133000
DTSTAMP:20260421T163820
CREATED:20250207T171623Z
LAST-MODIFIED:20250207T171752Z
UID:2868-1739966400-1739971800@osanisinclusion.ca
SUMMARY:ADHD - The Real Deal
DESCRIPTION:ADHD doesn’t just affect the person living with ADHD\, it also affects those around them. As parents of kids living with ADHD\, we can benefit from learning what ADHD is and how to support our kids. Dr. Duncan dispels some myths and explains how and why the ADHD brain works the way it does. \nJoin us to learn from Dr. Don Duncan\, Child and Adolescent Psychiatrist. \nCome together and watch a video presentation and stay for a facilitated conversation by our Family Peer Support Workers. \n12:00pm-1:30pm Pacific Time (most of British Columbia)\n1:00pm-2:30pm Mountain Time (Alberta) \nRegister Here \nThese events are funded for parents and caregivers living in the Province of British Columbia and for CASA families in Alberta. If you are from another province or territory\, or live outside of Canada\, we welcome you to visit our video library at www.familysmart.ca/videos and use our resources. \nThank you.
URL:https://osanisinclusion.ca/event/adhd-the-real-deal/
LOCATION:Virtual Event
CATEGORIES:Education,Online Event,Zoom Event
ATTACH;FMTTYPE=image/png:https://osanisinclusion.ca/wp-content/uploads/2025/02/FS_Itk_OnlineEvent_Small.png
END:VEVENT
BEGIN:VEVENT
DTSTART;TZID=America/Vancouver:20250220T183000
DTEND;TZID=America/Vancouver:20250220T200000
DTSTAMP:20260421T163820
CREATED:20250207T172309Z
LAST-MODIFIED:20250207T172309Z
UID:2871-1740076200-1740081600@osanisinclusion.ca
SUMMARY:For Families: A Conversation About Eating Disorders
DESCRIPTION:Knowing how to help our kids who are experiencing an eating disorder can be a terrifying\, isolating and overwhelming experience. Learn about disordered eating\, what to be aware of\, the importance of connection\, and strategies that help support recovery. \nJoin us as Victoria Keddis hosts a conversation with Eating Disorders Therapist & Educator Carmen Kauffman\, and Rylee McKinlay\, a young person with lived experience\, and Terri McKinlay\, a  parent with lived experience. \nCome together and watch a video presentation and stay for a facilitated conversation by our Family Peer Support Workers. \nCarmen Kauffman\, Eating Disorders Therapist & Educator\, will be joining us live on Zoom to help answer some of your questions. \n6:30pm-8:00pm Pacific Time (most of British Columbia)\n7:30pm-9:00pm Mountain Time (Alberta) \nRegister Here \nThese events are funded for parents and caregivers living in the Province of British Columbia and for CASA families in Alberta. If you are from another province or territory\, or live outside of Canada\, we welcome you to visit our video library at www.familysmart.ca/videos and use our resources. \nThank you.
URL:https://osanisinclusion.ca/event/for-families-a-conversation-about-eating-disorders/
LOCATION:Virtual Event
CATEGORIES:Education,Health & wellness,Online Event,Zoom Event
ATTACH;FMTTYPE=image/png:https://osanisinclusion.ca/wp-content/uploads/2025/02/FS_Itk_OnlineEvent_Small.png
END:VEVENT
BEGIN:VEVENT
DTSTART;TZID=America/Vancouver:20250225T100000
DTEND;TZID=America/Vancouver:20250225T110000
DTSTAMP:20260421T163820
CREATED:20250116T060555Z
LAST-MODIFIED:20250116T060750Z
UID:2810-1740477600-1740481200@osanisinclusion.ca
SUMMARY:CSSHSA Violence Prevention Webinar
DESCRIPTION:Join us for an informative webinar on violence prevention! Our expert panel of speakers will share valuable insights\, practical strategies\, and best practices for creating a safer environment for both individuals and staff. \nIn this session\, you will learn about violence prevention requirements from a Human and Organizational Performance (HOP) perspective\, explore best practices in behavioral care planning\, understand the importance of effective follow-up after an incident\, and discover how CSSHSA can support your organization. \nHear from our experts: \n• Geri Grigg\, HEU’s Occupational Health & Safety Representative with over 15 years of experience in health and safety \n• Tigran Bajgoric\, CSSHSA’s Chief Executive Officer\, with over 15 years in health and safety\, driving key initiatives to enhance workplace safety in the social services sector \n• Kavita Kamat\, Laurel Behavior Support Services’ Clinical Director and Behavioural Analyst with over 20 years of experience working with children and adults from different cultural and socio-economic backgrounds \n• Farzad Kasad\, HSA’s Senior Labour Relations Officer\, with over 10 years of experience in health and safety. \nRegister here to secure your spot!
URL:https://osanisinclusion.ca/event/csshsa-violence-prevention-webinar/
LOCATION:Virtual Event
CATEGORIES:Education,Health & wellness,Online Event,Zoom Event
ATTACH;FMTTYPE=image/jpeg:https://osanisinclusion.ca/wp-content/uploads/2025/01/Violence-prevention.jpg
END:VEVENT
BEGIN:VEVENT
DTSTART;TZID=America/Vancouver:20250225T120000
DTEND;TZID=America/Vancouver:20250225T130000
DTSTAMP:20260421T163820
CREATED:20250109T234058Z
LAST-MODIFIED:20250109T234058Z
UID:2732-1740484800-1740488400@osanisinclusion.ca
SUMMARY:Gender Marvelous
DESCRIPTION:Welcome to a space where families come together to share their experiences\, ask questions\, and support one another as we navigate the journey of raising our queer\, gender-diverse and/or Two-Spirit children and youth. Join the conversation\, find strength and encouragement\, and connect with a network of families who understand. All queer and 2SLGBTQIA+ families are welcome. Let’s support each other and grow together! \nFamily Support Institute of BC (FSI) is a provincial not-for-profit society committed to supporting families who have a family member with a disability. FSI is unique in Canada and the only grassroots family to family organization that has a broad volunteer base. FSI SUPPORTS AND SERVICES ARE FREE TO ANY FAMILY
URL:https://osanisinclusion.ca/event/gender-marvelous-2-2-2/
LOCATION:Virtual Event
CATEGORIES:Education,Online Event
ATTACH;FMTTYPE=image/jpeg:https://osanisinclusion.ca/wp-content/uploads/2025/01/Gender-Marvelous.jpg
END:VEVENT
END:VCALENDAR