BEGIN:VCALENDAR
VERSION:2.0
PRODID:-//Osanis Inclusion Services Inc. - ECPv6.15.20//NONSGML v1.0//EN
CALSCALE:GREGORIAN
METHOD:PUBLISH
X-WR-CALNAME:Osanis Inclusion Services Inc.
X-ORIGINAL-URL:https://osanisinclusion.ca
X-WR-CALDESC:Events for Osanis Inclusion Services Inc.
REFRESH-INTERVAL;VALUE=DURATION:PT1H
X-Robots-Tag:noindex
X-PUBLISHED-TTL:PT1H
BEGIN:VTIMEZONE
TZID:America/Vancouver
BEGIN:DAYLIGHT
TZOFFSETFROM:-0800
TZOFFSETTO:-0700
TZNAME:PDT
DTSTART:20230312T100000
END:DAYLIGHT
BEGIN:STANDARD
TZOFFSETFROM:-0700
TZOFFSETTO:-0800
TZNAME:PST
DTSTART:20231105T090000
END:STANDARD
BEGIN:DAYLIGHT
TZOFFSETFROM:-0800
TZOFFSETTO:-0700
TZNAME:PDT
DTSTART:20240310T100000
END:DAYLIGHT
BEGIN:STANDARD
TZOFFSETFROM:-0700
TZOFFSETTO:-0800
TZNAME:PST
DTSTART:20241103T090000
END:STANDARD
BEGIN:DAYLIGHT
TZOFFSETFROM:-0800
TZOFFSETTO:-0700
TZNAME:PDT
DTSTART:20250309T100000
END:DAYLIGHT
BEGIN:STANDARD
TZOFFSETFROM:-0700
TZOFFSETTO:-0800
TZNAME:PST
DTSTART:20251102T090000
END:STANDARD
END:VTIMEZONE
BEGIN:VEVENT
DTSTART;TZID=America/Vancouver:20241203T183000
DTEND;TZID=America/Vancouver:20241203T200000
DTSTAMP:20260421T135555
CREATED:20241202T220245Z
LAST-MODIFIED:20241202T221459Z
UID:2655-1733250600-1733256000@osanisinclusion.ca
SUMMARY:Now What? A beginning conversation to support families moving from reacting to responding when our kids begin experimenting with substances
DESCRIPTION:ONLINE EVENT:  Now What? A beginning conversation to support families moving from reacting to responding when our kids begin experimenting with substances. \nLearning that our kids are trying substances can be scary. As families\, we are a valuable resource to help them navigate the choices they are making\, but it can be hard to know how to respond. This video introduces parents and caregivers to some ways that can help us move from reacting to our fears about substance use and towards a more thoughtful response that supports connection with our kids. \nVictoria Keddis\, a parent with lived experience hosts a conversation with Douglas Hardie a Registered Clinical Counsellor and Program Coordinator with Island Health supporting Child\, Youth and Family Mental Health and Substance Use Programs. \nCome together and watch a video presentation and stay for a facilitated conversation by our Family Peer Support Workers. \n6:30pm-8:00pm Pacific Time (most of British Columbia)\n7:30pm-9:00pm Mountain Time (Alberta) \nThese events are funded for parents and caregivers living in the Province of British Columbia and for CASA families in Alberta. If you are from another province or territory\, or live outside of Canada\, we welcome you to visit our video library at www.familysmart.ca/videos and use our resources. Thank you. \n\nRegister Here \nWatch video now: https://youtu.be/Qhqrbrw62Tg?si=Hpl_QjjBu2ph6-1D
URL:https://osanisinclusion.ca/event/now-what-a-beginning-conversation-to-support-families-moving-from-reacting-to-responding-when-our-kids-begin-experimenting-with-substances/
LOCATION:Virtual Event
CATEGORIES:Community Event,Education,Online Event
ATTACH;FMTTYPE=image/jpeg:https://osanisinclusion.ca/wp-content/uploads/2024/12/unnamed.jpg
END:VEVENT
BEGIN:VEVENT
DTSTART;TZID=America/Vancouver:20241204T120000
DTEND;TZID=America/Vancouver:20241204T133000
DTSTAMP:20260421T135555
CREATED:20241202T220545Z
LAST-MODIFIED:20241202T221421Z
UID:2658-1733313600-1733319000@osanisinclusion.ca
SUMMARY:Now What? A beginning conversation to support families moving from reacting to responding when our kids begin experimenting with substances
DESCRIPTION:ONLINE EVENT:  Now What? A beginning conversation to support families moving from reacting to responding when our kids begin experimenting with substances. \nLearning that our kids are trying substances can be scary. As families\, we are a valuable resource to help them navigate the choices they are making\, but it can be hard to know how to respond. This video introduces parents and caregivers to some ways that can help us move from reacting to our fears about substance use and towards a more thoughtful response that supports connection with our kids. \nVictoria Keddis\, a parent with lived experience hosts a conversation with Douglas Hardie a Registered Clinical Counsellor and Program Coordinator with Island Health supporting Child\, Youth and Family Mental Health and Substance Use Programs. \nCome together and watch a video presentation and stay for a facilitated conversation by our Family Peer Support Workers. \n12:00pm-1:30pm Pacific Time (most of British Columbia)\n1:00pm-2:30pm Mountain Time (Alberta) \nThese events are funded for parents and caregivers living in the Province of British Columbia and for CASA families in Alberta. If you are from another province or territory\, or live outside of Canada\, we welcome you to visit our video library at www.familysmart.ca/videos and use our resources. Thank you. \n\nRegister Here \nWatch video now: https://youtu.be/Qhqrbrw62Tg?si=Hpl_QjjBu2ph6-1D
URL:https://osanisinclusion.ca/event/now-what-a-beginning-conversation-to-support-families-moving-from-reacting-to-responding-when-our-kids-begin-experimenting-with-substances-2/
LOCATION:Virtual Event
CATEGORIES:Community Event,Education,Online Event
ATTACH;FMTTYPE=image/jpeg:https://osanisinclusion.ca/wp-content/uploads/2024/12/unnamed.jpg
END:VEVENT
BEGIN:VEVENT
DTSTART;TZID=America/Vancouver:20241205T183000
DTEND;TZID=America/Vancouver:20241205T200000
DTSTAMP:20260421T135555
CREATED:20241202T220822Z
LAST-MODIFIED:20241202T220822Z
UID:2660-1733423400-1733428800@osanisinclusion.ca
SUMMARY:Now What? A beginning conversation to support families moving from reacting to responding when our kids begin experimenting with substances
DESCRIPTION:ONLINE EVENT:  Now What? A beginning conversation to support families moving from reacting to responding when our kids begin experimenting with substances. \nLearning that our kids are trying substances can be scary. As families\, we are a valuable resource to help them navigate the choices they are making\, but it can be hard to know how to respond. This video introduces parents and caregivers to some ways that can help us move from reacting to our fears about substance use and towards a more thoughtful response that supports connection with our kids. \nVictoria Keddis\, a parent with lived experience hosts a conversation with Douglas Hardie a Registered Clinical Counsellor and Program Coordinator with Island Health supporting Child\, Youth and Family Mental Health and Substance Use Programs. \nCome together and watch a video presentation and stay for a facilitated conversation by our Family Peer Support Workers. \n6:30pm-8:00pm Pacific Time (most of British Columbia)\n7:30pm-9:00pm Mountain Time (Alberta) \nThese events are funded for parents and caregivers living in the Province of British Columbia and for CASA families in Alberta. If you are from another province or territory\, or live outside of Canada\, we welcome you to visit our video library at www.familysmart.ca/videos and use our resources. Thank you. \n\nRegister Here
URL:https://osanisinclusion.ca/event/now-what-a-beginning-conversation-to-support-families-moving-from-reacting-to-responding-when-our-kids-begin-experimenting-with-substances-2-2/
LOCATION:Virtual Event
CATEGORIES:Community Event,Education,Online Event
ATTACH;FMTTYPE=image/jpeg:https://osanisinclusion.ca/wp-content/uploads/2024/12/unnamed.jpg
END:VEVENT
BEGIN:VEVENT
DTSTART;TZID=America/Vancouver:20241210T120000
DTEND;TZID=America/Vancouver:20241210T130000
DTSTAMP:20260421T135555
CREATED:20241121T031913Z
LAST-MODIFIED:20241122T000859Z
UID:2636-1733832000-1733835600@osanisinclusion.ca
SUMMARY:Webinar: Strategies for Coping with the Winter Blues
DESCRIPTION:Join us for an engaging one-hour webinar designed to help you navigate the challenges of the winter months. We’ll work on individualized activity plans that align with your core values and support overall well-being. You’ll leave with actionable strategies help increase enjoyment and resilience during the shorter colder days. \n\n\n\n\n\n\n\n\nDistinguish between the Winter Blues and Seasonal Affective Disorder (SAD)\, identifying the key differences and symptoms of each.\nExamine how thoughts\, feelings\, and behaviors influence our mood and well-being during the winter months.\nGain practical knowledge of behavior activation and activity monitoring as tools for managing mood and enhancing mental health.\n\n\n\n\n\nOur Presenter \n\n\n\n\n\n\n\n \n\n\n\n\n\n\n\nSuncha Satney is a Workplace Psychological Health and Safety Consultant at CSSHSA. She is passionate about guiding organizations in creating environments where people feel their best and do their best work. With many years of experience in Community Social Services as a frontline worker and Clinical Counselor\, she brings awareness\, education\, and strategies to support workplace mental health within the sector. She is a CMHA Certified Psychological Health and Safety Advisor.
URL:https://osanisinclusion.ca/event/webinar-strategies-for-coping-with-the-winter-blues/
LOCATION:Virtual Event
CATEGORIES:Education,Online Event,Zoom Event
ATTACH;FMTTYPE=image/jpeg:https://osanisinclusion.ca/wp-content/uploads/2024/11/unnamed-2.jpg
END:VEVENT
BEGIN:VEVENT
DTSTART;TZID=America/Vancouver:20241210T183000
DTEND;TZID=America/Vancouver:20241210T200000
DTSTAMP:20260421T135555
CREATED:20241104T222951Z
LAST-MODIFIED:20241104T222951Z
UID:2404-1733855400-1733860800@osanisinclusion.ca
SUMMARY:Suicide Education & Awareness (SEA) - For Adults
DESCRIPTION:SEA: For Adults is a 90 minute suicide prevention workshop developed by NEED2 to provide foundational information about suicide that is accessible and relevant to adults; no matter their role in the community.\n\n\nIn this workshop we will discuss the stigma that surrounds suicide\, the importance of normalizing conversations around the topic and how we can support those around us that may be struggling.\n\nDecember 10th\, 6:30-8pm\nDelivered over zoom\n$25/person\n\nPlease email communityeducation@need2.ca to register.
URL:https://osanisinclusion.ca/event/suicide-education-awareness-sea-for-adults/
LOCATION:Virtual Event
CATEGORIES:Education,Health & wellness,Online Event
ATTACH;FMTTYPE=image/png:https://osanisinclusion.ca/wp-content/uploads/2024/11/Adult-SEA-Flyer-2.png
END:VEVENT
BEGIN:VEVENT
DTSTART;TZID=America/Vancouver:20241210T183000
DTEND;TZID=America/Vancouver:20241210T200000
DTSTAMP:20260421T135555
CREATED:20241202T220930Z
LAST-MODIFIED:20241202T221343Z
UID:2662-1733855400-1733860800@osanisinclusion.ca
SUMMARY:Now What? A beginning conversation to support families moving from reacting to responding when our kids begin experimenting with substances
DESCRIPTION:ONLINE EVENT:  Now What? A beginning conversation to support families moving from reacting to responding when our kids begin experimenting with substances. \nLearning that our kids are trying substances can be scary. As families\, we are a valuable resource to help them navigate the choices they are making\, but it can be hard to know how to respond. This video introduces parents and caregivers to some ways that can help us move from reacting to our fears about substance use and towards a more thoughtful response that supports connection with our kids. \nVictoria Keddis\, a parent with lived experience hosts a conversation with Douglas Hardie a Registered Clinical Counsellor and Program Coordinator with Island Health supporting Child\, Youth and Family Mental Health and Substance Use Programs. \nCome together and watch a video presentation and stay for a facilitated conversation by our Family Peer Support Workers. \n6:30pm-8:00pm Pacific Time (most of British Columbia)\n7:30pm-9:00pm Mountain Time (Alberta) \nThese events are funded for parents and caregivers living in the Province of British Columbia and for CASA families in Alberta. If you are from another province or territory\, or live outside of Canada\, we welcome you to visit our video library at www.familysmart.ca/videos and use our resources. Thank you. \n\nRegister Here \nWatch video now: https://youtu.be/Qhqrbrw62Tg?si=Hpl_QjjBu2ph6-1D
URL:https://osanisinclusion.ca/event/now-what-a-beginning-conversation-to-support-families-moving-from-reacting-to-responding-when-our-kids-begin-experimenting-with-substances-2-2-2/
LOCATION:Virtual Event
CATEGORIES:Community Event,Education,Online Event
ATTACH;FMTTYPE=image/jpeg:https://osanisinclusion.ca/wp-content/uploads/2024/12/unnamed.jpg
END:VEVENT
BEGIN:VEVENT
DTSTART;TZID=America/Vancouver:20241211T183000
DTEND;TZID=America/Vancouver:20241211T200000
DTSTAMP:20260421T135555
CREATED:20241202T221053Z
LAST-MODIFIED:20241202T221244Z
UID:2664-1733941800-1733947200@osanisinclusion.ca
SUMMARY:Now What? A beginning conversation to support families moving from reacting to responding when our kids begin experimenting with substances
DESCRIPTION:ONLINE EVENT:  Now What? A beginning conversation to support families moving from reacting to responding when our kids begin experimenting with substances. \nLearning that our kids are trying substances can be scary. As families\, we are a valuable resource to help them navigate the choices they are making\, but it can be hard to know how to respond. This video introduces parents and caregivers to some ways that can help us move from reacting to our fears about substance use and towards a more thoughtful response that supports connection with our kids. \nVictoria Keddis\, a parent with lived experience hosts a conversation with Douglas Hardie a Registered Clinical Counsellor and Program Coordinator with Island Health supporting Child\, Youth and Family Mental Health and Substance Use Programs. \nCome together and watch a video presentation and stay for a facilitated conversation by our Family Peer Support Workers. \n6:30pm-8:00pm Pacific Time (most of British Columbia)\n7:30pm-9:00pm Mountain Time (Alberta) \nThese events are funded for parents and caregivers living in the Province of British Columbia and for CASA families in Alberta. If you are from another province or territory\, or live outside of Canada\, we welcome you to visit our video library at www.familysmart.ca/videos and use our resources. Thank you. \n\nRegister Here \nWatch video now: https://youtu.be/Qhqrbrw62Tg?si=Hpl_QjjBu2ph6-1D
URL:https://osanisinclusion.ca/event/now-what-a-beginning-conversation-to-support-families-moving-from-reacting-to-responding-when-our-kids-begin-experimenting-with-substances-2-2-2-2/
LOCATION:Virtual Event
CATEGORIES:Community Event,Education,Online Event
ATTACH;FMTTYPE=image/jpeg:https://osanisinclusion.ca/wp-content/uploads/2024/12/unnamed.jpg
END:VEVENT
END:VCALENDAR