BEGIN:VCALENDAR
VERSION:2.0
PRODID:-//Osanis Inclusion Services Inc. - ECPv6.15.20//NONSGML v1.0//EN
CALSCALE:GREGORIAN
METHOD:PUBLISH
X-WR-CALNAME:Osanis Inclusion Services Inc.
X-ORIGINAL-URL:https://osanisinclusion.ca
X-WR-CALDESC:Events for Osanis Inclusion Services Inc.
REFRESH-INTERVAL;VALUE=DURATION:PT1H
X-Robots-Tag:noindex
X-PUBLISHED-TTL:PT1H
BEGIN:VTIMEZONE
TZID:America/Vancouver
BEGIN:DAYLIGHT
TZOFFSETFROM:-0800
TZOFFSETTO:-0700
TZNAME:PDT
DTSTART:20230312T100000
END:DAYLIGHT
BEGIN:STANDARD
TZOFFSETFROM:-0700
TZOFFSETTO:-0800
TZNAME:PST
DTSTART:20231105T090000
END:STANDARD
BEGIN:DAYLIGHT
TZOFFSETFROM:-0800
TZOFFSETTO:-0700
TZNAME:PDT
DTSTART:20240310T100000
END:DAYLIGHT
BEGIN:STANDARD
TZOFFSETFROM:-0700
TZOFFSETTO:-0800
TZNAME:PST
DTSTART:20241103T090000
END:STANDARD
BEGIN:DAYLIGHT
TZOFFSETFROM:-0800
TZOFFSETTO:-0700
TZNAME:PDT
DTSTART:20250309T100000
END:DAYLIGHT
BEGIN:STANDARD
TZOFFSETFROM:-0700
TZOFFSETTO:-0800
TZNAME:PST
DTSTART:20251102T090000
END:STANDARD
END:VTIMEZONE
BEGIN:VEVENT
DTSTART;TZID=America/Vancouver:20240815T100000
DTEND;TZID=America/Vancouver:20240815T113000
DTSTAMP:20260422T083447
CREATED:20240808T223524Z
LAST-MODIFIED:20240808T224138Z
UID:2134-1723716000-1723721400@osanisinclusion.ca
SUMMARY:Imposter Syndrome talk led by "LET'S" (Live Educate Transform Society)
DESCRIPTION:This webinar dives into imposter syndrome\, that nagging feeling of self-doubt that holds you back. We’ll explore what it is\, the signs to watch for\, and how colonialism and marginalization can fuel those feelings.  \nWe’ll also tackle practical tools to quiet that inner critic and build confidence:  \n\nLearn how to reframe your thinking patterns \n\n\nDiscover the power of language \n\n\nBuild strong support systems \n\n\nMinimize imposter syndrome in yourself and others \n\nJoin us for a safe space to explore this common experience and learn actionable steps to overcome it!  \n  \nPresented by: \nHeather McCain (they/them) is Executive Director of Live Educate Transform Society (LET’S)\, a non-profit they founded in 2005. Heather’s own experiences as an asexual\, disabled\, neurodivergent\, queer\, trans person led them to become a well-known and respected advocate\, educator\, and speaker. \nHeather is proudest to be called a Crip Doula. This is a community given Disability Justice term for someone who helps disabled people navigate our complex systems\, providing resources\, support\, and building community. This title was gifted by community members who have felt the positive effects of Heather’s work. \n  \nDate: August 15\, 2024 \nTime: 10:00AM – 11:30 AM (PST) \nLocation: Virtual session via Zoom \n*Once registered the link to the session will be sent out the day prior to the event. \n  \nRegistration closes two days before the event at 4:00 PM. To ensure your participation\, please register before this deadline.
URL:https://osanisinclusion.ca/event/imposter-syndrome-talk-led-by-lets-live-educate-transform-society/
CATEGORIES:Community Event,Education,Online Event,Zoom Event
ATTACH;FMTTYPE=image/jpeg:https://osanisinclusion.ca/wp-content/uploads/2024/08/unnamed-1-scaled.jpg
END:VEVENT
BEGIN:VEVENT
DTSTART;TZID=America/Vancouver:20240826T190000
DTEND;TZID=America/Vancouver:20240826T203000
DTSTAMP:20260422T083447
CREATED:20240704T215302Z
LAST-MODIFIED:20240704T215302Z
UID:1848-1724698800-1724704200@osanisinclusion.ca
SUMMARY:Journey Through Grief
DESCRIPTION:Parents\, grandparents\, and caregivers of a child or family member with a disability who journey through aspects of grief are invited to come together in a safe space for connection\, understanding\, inspiration\, capacity building\, and non-judgemental support. Whether your experience is a new diagnosis\, life stage\, or loss\, we welcome you to join the conversation circle. We are inclusive of diverse perspectives and belief systems. \nCLICK TO REGISTER\nFamily Support Institute of BC (FSI) is a provincial not-for-profit society committed to supporting families who have a family member with a disability. FSI is unique in Canada and the only grassroots family to family organization that has a broad volunteer base. FSI SUPPORTS AND SERVICES ARE FREE TO ANY FAMILY \nYou are invited to join FSI CONTINUING CONVERSATIONS\, a private Facebook Group intended to continue conversations of support or provide an alternative platform for support. www.facebook.com/groups/fsicontinuingconversations/ \nAfter the session you are encouraged to share your feedback. This helps FSI improve our content to better serve the needs of families. \nhttps://app.smartsheet.com/b/form/52ef23e13270439d9d97d32a0b229bbc \n  \nAll FSI Zoom sessions can be accessed by telephone only if access to computers and/or internet is a barrier.   If you need assistance registering for any session\, please call our office at 1-800-441-5403. 
URL:https://osanisinclusion.ca/event/journey-through-grief/
CATEGORIES:Online Event
ATTACH;FMTTYPE=image/jpeg:https://osanisinclusion.ca/wp-content/uploads/2024/07/Family-Hangout-GRIEF.jpg
END:VEVENT
BEGIN:VEVENT
DTSTART;TZID=America/Vancouver:20240828T130000
DTEND;TZID=America/Vancouver:20240828T140000
DTSTAMP:20260422T083447
CREATED:20240704T215517Z
LAST-MODIFIED:20240704T215756Z
UID:1851-1724850000-1724853600@osanisinclusion.ca
SUMMARY:Early Years and School Age Navigation
DESCRIPTION:Caring for little ones with extra support needs is marked by joy\, fear\, and overwhelm\, usually all in the same day! Navigating the toddler and preschool years or if the school years are on the horizon\, can be a uniquely challenging time. Join Cari Rawling\, (ECE/parent)\, and Heather Beach (parent)\, for supportive sessions on Navigating the Early Years. We are here to listen\, provide resources\, and create a safe place to discuss the parenting experience of young children with diverse abilities. \nCLICK HERE TO REGISTER\nFamily Support Institute of BC (FSI) is a provincial not-for-profit society committed to supporting families who have a family member with a disability. FSI is unique in Canada and the only grassroots family to family organization that has a broad volunteer base.\nFSI SUPPORTS AND SERVICES ARE FREE TO ANY FAMILY \nThe Family Support Institute of BC (FSI) is embarking on a community engagement journey to gather stories on what has and has not been working in the current system for Children and Youth with Support Needs (CYSN). We want to hear from you on how CYSN services and supports in BC can be improved\, so that our children and youth can get the help they so critically deserve. We will be gathering your stories and experiences in person and online\, in a way that best works for you. \nWant us to visit your community? We need your voice!\nPlease take our Engagement Survey and let us know the best way(s) we can engage with you and your family. \nYou are invited to join FSI CONTINUING CONVERSATIONS\, a private Facebook Group intended to continue conversations of support or provide an alternative platform for support. \nAfter the session you are encouraged to share your feedback. This helps FSI improve our content to better serve the needs of families. \nAll FSI Zoom sessions can be accessed by telephone only if access to computers and/or internet is a barrier. If you need assistance registering for any session\, please call our office at 1-800-441-5403.
URL:https://osanisinclusion.ca/event/early-years-and-school-age-navigation/
CATEGORIES:Online Event
ATTACH;FMTTYPE=image/jpeg:https://osanisinclusion.ca/wp-content/uploads/2024/07/Family-Hangout-Early-Years-2024.jpg
END:VEVENT
END:VCALENDAR