BEGIN:VCALENDAR
VERSION:2.0
PRODID:-//Osanis Inclusion Services Inc. - ECPv6.15.20//NONSGML v1.0//EN
CALSCALE:GREGORIAN
METHOD:PUBLISH
X-WR-CALNAME:Osanis Inclusion Services Inc.
X-ORIGINAL-URL:https://osanisinclusion.ca
X-WR-CALDESC:Events for Osanis Inclusion Services Inc.
REFRESH-INTERVAL;VALUE=DURATION:PT1H
X-Robots-Tag:noindex
X-PUBLISHED-TTL:PT1H
BEGIN:VTIMEZONE
TZID:America/Vancouver
BEGIN:DAYLIGHT
TZOFFSETFROM:-0800
TZOFFSETTO:-0700
TZNAME:PDT
DTSTART:20240310T100000
END:DAYLIGHT
BEGIN:STANDARD
TZOFFSETFROM:-0700
TZOFFSETTO:-0800
TZNAME:PST
DTSTART:20241103T090000
END:STANDARD
BEGIN:DAYLIGHT
TZOFFSETFROM:-0800
TZOFFSETTO:-0700
TZNAME:PDT
DTSTART:20250309T100000
END:DAYLIGHT
BEGIN:STANDARD
TZOFFSETFROM:-0700
TZOFFSETTO:-0800
TZNAME:PST
DTSTART:20251102T090000
END:STANDARD
BEGIN:DAYLIGHT
TZOFFSETFROM:-0800
TZOFFSETTO:-0700
TZNAME:PDT
DTSTART:20260308T100000
END:DAYLIGHT
BEGIN:STANDARD
TZOFFSETFROM:-0700
TZOFFSETTO:-0800
TZNAME:PST
DTSTART:20261101T090000
END:STANDARD
END:VTIMEZONE
BEGIN:VEVENT
DTSTART;TZID=America/Vancouver:20251129T140000
DTEND;TZID=America/Vancouver:20251129T163000
DTSTAMP:20260422T173157
CREATED:20251105T035254Z
LAST-MODIFIED:20251105T035254Z
UID:6408-1764424800-1764433800@osanisinclusion.ca
SUMMARY:Holiday Party!
DESCRIPTION:Join us for our annual Holiday Party hosted by the Greater Victoria Down Syndrome Society! Enjoy snacks\, games and songs. After the party\, gather with friends and family to watch the Santa Claus Parade in downtown Victoria. Mark your calendars for November 30th and don’t miss out on this heartwarming event!
URL:https://osanisinclusion.ca/event/holiday-party/
LOCATION:Church of our Lord\, 626 Blanshard Str.\, Victoria\, BC\, V8W 3G6\, Canada
CATEGORIES:Community Event,Creative Art,Food & Drink,Games,In-Person Event,Kids & Family,Seasonal Event
ATTACH;FMTTYPE=image/jpeg:https://osanisinclusion.ca/wp-content/uploads/2025/11/Holiday-Party.jpg
END:VEVENT
END:VCALENDAR