BEGIN:VCALENDAR
VERSION:2.0
PRODID:-//Osanis Inclusion Services Inc. - ECPv6.15.20//NONSGML v1.0//EN
CALSCALE:GREGORIAN
METHOD:PUBLISH
X-ORIGINAL-URL:https://osanisinclusion.ca
X-WR-CALDESC:Events for Osanis Inclusion Services Inc.
REFRESH-INTERVAL;VALUE=DURATION:PT1H
X-Robots-Tag:noindex
X-PUBLISHED-TTL:PT1H
BEGIN:VTIMEZONE
TZID:America/Vancouver
BEGIN:DAYLIGHT
TZOFFSETFROM:-0800
TZOFFSETTO:-0700
TZNAME:PDT
DTSTART:20240310T100000
END:DAYLIGHT
BEGIN:STANDARD
TZOFFSETFROM:-0700
TZOFFSETTO:-0800
TZNAME:PST
DTSTART:20241103T090000
END:STANDARD
BEGIN:DAYLIGHT
TZOFFSETFROM:-0800
TZOFFSETTO:-0700
TZNAME:PDT
DTSTART:20250309T100000
END:DAYLIGHT
BEGIN:STANDARD
TZOFFSETFROM:-0700
TZOFFSETTO:-0800
TZNAME:PST
DTSTART:20251102T090000
END:STANDARD
BEGIN:DAYLIGHT
TZOFFSETFROM:-0800
TZOFFSETTO:-0700
TZNAME:PDT
DTSTART:20260308T100000
END:DAYLIGHT
BEGIN:STANDARD
TZOFFSETFROM:-0700
TZOFFSETTO:-0800
TZNAME:PST
DTSTART:20261101T090000
END:STANDARD
END:VTIMEZONE
BEGIN:VEVENT
DTSTART;TZID=America/Vancouver:20250819T093000
DTEND;TZID=America/Vancouver:20250819T113000
DTSTAMP:20260422T224719
CREATED:20250812T224152Z
LAST-MODIFIED:20250812T224152Z
UID:4018-1755595800-1755603000@osanisinclusion.ca
SUMMARY:Make Pinback Buttons
DESCRIPTION:Join us on Tuesday August 19th from 9:30-11:30am\, for a fun peer activity: making pinback buttons! This will be held at the Victoria Disability Resource Centre\, located at 817A Fort Street. \nWe will have pre-printed designs and the materials to make your own design. If you are bringing your own materials or designs\, please make sure the dimensions range between 1-3 inches. \nRegister for the group at the following link: https://forms.gle/rfaMTSmcMQm44LXK7 \nIf you have any questions or require any accommodation\, please email recreation@drcvictoria.com. \nImage Description:  A poster for the Making Pinback Buttons workshop\, with examples of button designs people can make. All relevant info is in the above post.
URL:https://osanisinclusion.ca/event/make-pinback-buttons/
LOCATION:Victoria Disability Resource Centre\, 817A Fort Str.\, Victoria\, BC\, V8W 1H8\, Canada
CATEGORIES:Community Event,Creative Art,In-Person Event,Kids & Family
ATTACH;FMTTYPE=image/jpeg:https://osanisinclusion.ca/wp-content/uploads/2025/08/pinback-buttons.jpg
END:VEVENT
BEGIN:VEVENT
DTSTART;TZID=America/Vancouver:20250820T110000
DTEND;TZID=America/Vancouver:20250820T120000
DTSTAMP:20260422T224719
CREATED:20250808T222046Z
LAST-MODIFIED:20250808T222328Z
UID:3968-1755687600-1755691200@osanisinclusion.ca
SUMMARY:Walking Wednesdays
DESCRIPTION:Who: \nAdults who like to walk\, meet new people and chat. \nWhat: \nWhether you are new to the area or just looking to meet new people\, this is a safe\, friendly space to connect & enjoy a relaxing walk to Saxe Point and back\, followed by coffee & snacks back at Foster’s Centre. \nWhen: \nWednesdays 11am \nWalk 11am-12pm Coffee 12-1pm \nCome once or each week.\n(Weather Dependent) \nWhere:  \nMeet at Esquimalt Neighbourhood House\n511 Constance Ave \nDrop In for this FREE program: \nQuestions? Call 250-385-2635 Ext 201
URL:https://osanisinclusion.ca/event/walking-wednesdays-2/
LOCATION:Esquimalt Neighbourhood House\, 511 Constance Ave\, Victoria\, BC\, V9A 6N5\, Canada
CATEGORIES:Health & wellness,Kids & Family
ATTACH;FMTTYPE=image/jpeg:https://osanisinclusion.ca/wp-content/uploads/2025/08/Walking-Wednesdays.jpg
END:VEVENT
BEGIN:VEVENT
DTSTART;TZID=America/Vancouver:20250821T100000
DTEND;TZID=America/Vancouver:20250821T110000
DTSTAMP:20260422T224719
CREATED:20250710T185715Z
LAST-MODIFIED:20250710T185715Z
UID:3730-1755770400-1755774000@osanisinclusion.ca
SUMMARY:Stories in the Park
DESCRIPTION:Join Esquimalt’s Recreation staff for story time in the park. We will be reading stories from Canadian authors followed by a themed activity. These stories are intended for children ages 2-5\, but all are welcome.\n\n~Meet at the flagpole~\n\nJuly3rd      – A Garden Called Home by Jessica J Lee & Elaine Chen\nJuly 10th   – This is a Tiny Fragile Snake by Nicholas Ruddock\nJuly 17th    – The only Lonely Fairy by Lana Button\nJuly 24th   – Lobster’s Vacation by Michelle Robinson\nJuly 31st    – Class Trip by Robert Munsch\nAug 7th      – Super Small by Tiffany Stone\nAug 14th    – Brave like the Buffalo by Melissa Allen\nAug 21st     – A Bumblebee Sweater by Betty Waterton\nAug 28th    – Emma at the Fair by Magriet Ruurs\n\nTake part in our summer stories passport. Each week you attend you will receive a sticker!
URL:https://osanisinclusion.ca/event/stories-in-the-park-2-2-2-2-2/
LOCATION:Saxe Point Park\, Victoria\, BC\, V9A 6G5\, Canada
CATEGORIES:Community Event,In-Person Event,Kids & Family,Outdoor
ATTACH;FMTTYPE=image/png:https://osanisinclusion.ca/wp-content/uploads/2025/07/Stories-in-the-park-Facebook-Banner.png
END:VEVENT
BEGIN:VEVENT
DTSTART;TZID=America/Vancouver:20250827T110000
DTEND;TZID=America/Vancouver:20250827T120000
DTSTAMP:20260422T224719
CREATED:20250808T222115Z
LAST-MODIFIED:20250808T222241Z
UID:3970-1756292400-1756296000@osanisinclusion.ca
SUMMARY:Walking Wednesdays
DESCRIPTION:Who: \nAdults who like to walk\, meet new people and chat. \nWhat: \nWhether you are new to the area or just looking to meet new people\, this is a safe\, friendly space to connect & enjoy a relaxing walk to Saxe Point and back\, followed by coffee & snacks back at Foster’s Centre. \nWhen: \nWednesdays 11am \nWalk 11am-12pm Coffee 12-1pm \nCome once or each week.\n(Weather Dependent) \nWhere:  \nMeet at Esquimalt Neighbourhood House\n511 Constance Ave \nDrop In for this FREE program: \nQuestions? Call 250-385-2635 Ext 201
URL:https://osanisinclusion.ca/event/walking-wednesdays-2-2/
LOCATION:Esquimalt Neighbourhood House\, 511 Constance Ave\, Victoria\, BC\, V9A 6N5\, Canada
CATEGORIES:Health & wellness,Kids & Family
ATTACH;FMTTYPE=image/jpeg:https://osanisinclusion.ca/wp-content/uploads/2025/08/Walking-Wednesdays.jpg
END:VEVENT
BEGIN:VEVENT
DTSTART;TZID=America/Vancouver:20250828T100000
DTEND;TZID=America/Vancouver:20250828T110000
DTSTAMP:20260422T224719
CREATED:20250710T185741Z
LAST-MODIFIED:20250710T185741Z
UID:3732-1756375200-1756378800@osanisinclusion.ca
SUMMARY:Stories in the Park
DESCRIPTION:Join Esquimalt’s Recreation staff for story time in the park. We will be reading stories from Canadian authors followed by a themed activity. These stories are intended for children ages 2-5\, but all are welcome.\n\n~Meet at the flagpole~\n\nJuly3rd      – A Garden Called Home by Jessica J Lee & Elaine Chen\nJuly 10th   – This is a Tiny Fragile Snake by Nicholas Ruddock\nJuly 17th    – The only Lonely Fairy by Lana Button\nJuly 24th   – Lobster’s Vacation by Michelle Robinson\nJuly 31st    – Class Trip by Robert Munsch\nAug 7th      – Super Small by Tiffany Stone\nAug 14th    – Brave like the Buffalo by Melissa Allen\nAug 21st     – A Bumblebee Sweater by Betty Waterton\nAug 28th    – Emma at the Fair by Magriet Ruurs\n\nTake part in our summer stories passport. Each week you attend you will receive a sticker!
URL:https://osanisinclusion.ca/event/stories-in-the-park-2-2-2-2-2-2/
LOCATION:Saxe Point Park\, Victoria\, BC\, V9A 6G5\, Canada
CATEGORIES:Community Event,In-Person Event,Kids & Family,Outdoor
ATTACH;FMTTYPE=image/png:https://osanisinclusion.ca/wp-content/uploads/2025/07/Stories-in-the-park-Facebook-Banner.png
END:VEVENT
BEGIN:VEVENT
DTSTART;TZID=America/Vancouver:20250903T110000
DTEND;TZID=America/Vancouver:20250903T120000
DTSTAMP:20260422T224719
CREATED:20250808T222203Z
LAST-MODIFIED:20250808T222203Z
UID:3972-1756897200-1756900800@osanisinclusion.ca
SUMMARY:Walking Wednesdays
DESCRIPTION:Who: \nAdults who like to walk\, meet new people and chat. \nWhat: \nWhether you are new to the area or just looking to meet new people\, this is a safe\, friendly space to connect & enjoy a relaxing walk to Saxe Point and back\, followed by coffee & snacks back at Foster’s Centre. \nWhen: \nWednesdays 11am \nWalk 11am-12pm Coffee 12-1pm \nCome once or each week.\n(Weather Dependent) \nWhere:  \nMeet at Esquimalt Neighbourhood House\n511 Constance Ave \nDrop In for this FREE program: \nQuestions? Call 250-385-2635 Ext 201
URL:https://osanisinclusion.ca/event/walking-wednesdays-2-2-2/
LOCATION:Esquimalt Neighbourhood House\, 511 Constance Ave\, Victoria\, BC\, V9A 6N5\, Canada
CATEGORIES:Health & wellness,Kids & Family
ATTACH;FMTTYPE=image/jpeg:https://osanisinclusion.ca/wp-content/uploads/2025/08/Walking-Wednesdays.jpg
END:VEVENT
BEGIN:VEVENT
DTSTART;TZID=America/Vancouver:20250903T110000
DTEND;TZID=America/Vancouver:20250903T150000
DTSTAMP:20260422T224719
CREATED:20250808T232741Z
LAST-MODIFIED:20250808T232741Z
UID:3995-1756897200-1756911600@osanisinclusion.ca
SUMMARY:Family Day Block Party
DESCRIPTION:You’re invited to family day hosted by the Aboriginal Coalition to End Homelessness Society. A dry (alcohol-free) event filled with laughter\, connection\, and fun for all ages! Free entry with can food donations! \nWhen: \nSeptember 3\, 2025 \nTime:  \n11 AM to 3 PM \nWhere: \n7321 Lochside Dr. \, Saanichton BC
URL:https://osanisinclusion.ca/event/family-day-block-party/
LOCATION:Heritage Acres\, 7321 Lochside Dr\, Saanichton\, BC\, V8M 1W4\, Canada
CATEGORIES:Food & Drink,Games,In-Person Event,Kids & Family,Outdoor
ATTACH;FMTTYPE=image/jpeg:https://osanisinclusion.ca/wp-content/uploads/2025/08/family-day-block-party.jpg
END:VEVENT
BEGIN:VEVENT
DTSTART;TZID=America/Vancouver:20250907T110000
DTEND;TZID=America/Vancouver:20250907T150000
DTSTAMP:20260422T224719
CREATED:20250812T042459Z
LAST-MODIFIED:20250812T042459Z
UID:4007-1757242800-1757257200@osanisinclusion.ca
SUMMARY:Let's Celebrate Grandparents
DESCRIPTION:Bring your blankets\, folding chairs\, and the whole family for a delightful day filled with fun\, laughter\, live music\, games\, delicious food\, prizes and so much more! \nEnjoy a delicious FREE meal from the Yo-Bones BBQ Food Truck (while supplies last). Bring your lawn chairs and enjoy a musical performance from Burnaby’s favourite rock band\, Rainshadow! \n\nAs well as…\nFun games and Activities\nLive Music\nDoor Prizes\n50/50 Prize Draw\nCommunity Services Information Tables \n\nSeptember 7\, 2025\n11:00 am – 3:00 pm\nSlocan Park\, 2750 E 29th Ave\nVancouver\, BC\n\n\n\nRSVP TODAY! 
URL:https://osanisinclusion.ca/event/lets-celebrate-grandparents/
LOCATION:Slocan Park\, 2750 E 29th Ave\, Vancouver\, BC\, Canada
CATEGORIES:Community Event,Food & Drink,In-Person Event,Kids & Family,Music
ATTACH;FMTTYPE=image/png:https://osanisinclusion.ca/wp-content/uploads/2025/08/Grandparents-Day-1024x1024-1.png
END:VEVENT
BEGIN:VEVENT
DTSTART;TZID=America/Vancouver:20250917T130000
DTEND;TZID=America/Vancouver:20250917T143000
DTSTAMP:20260422T224719
CREATED:20250909T024526Z
LAST-MODIFIED:20250909T024526Z
UID:4177-1758114000-1758119400@osanisinclusion.ca
SUMMARY:Drop-in Floor Hockey for Individuals with Diverse Abilities
DESCRIPTION:
URL:https://osanisinclusion.ca/event/drop-in-floor-hockey-for-individuals-with-diverse-abilities/
LOCATION:SJ Willis High School\, 923 Topaz Avenue\, Victoria\, BC\, V8T 2M2\, Canada
CATEGORIES:Community Event,Health & wellness,In-Person Event,Indoor,Kids & Family
ATTACH;FMTTYPE=image/jpeg:https://osanisinclusion.ca/wp-content/uploads/2025/09/2025-Poster-Drop-in-hockey-scaled.jpg
END:VEVENT
BEGIN:VEVENT
DTSTART;TZID=America/Vancouver:20250920T100000
DTEND;TZID=America/Vancouver:20250920T120000
DTSTAMP:20260422T224719
CREATED:20250912T222405Z
LAST-MODIFIED:20250912T222405Z
UID:4212-1758362400-1758369600@osanisinclusion.ca
SUMMARY:Book Launch - At Power To Be
DESCRIPTION:
URL:https://osanisinclusion.ca/event/book-launch-at-power-to-be/
LOCATION:Prospect Lake\, 4633 Prospect Lake Rd.\, Victoria\, BC\, Canada
CATEGORIES:Community Event,Creative Art,Education,In-Person Event,Kids & Family
ATTACH;FMTTYPE=image/jpeg:https://osanisinclusion.ca/wp-content/uploads/2025/09/unnamed-3.jpg
END:VEVENT
BEGIN:VEVENT
DTSTART;TZID=America/Vancouver:20250924T130000
DTEND;TZID=America/Vancouver:20250924T143000
DTSTAMP:20260422T224719
CREATED:20250909T024717Z
LAST-MODIFIED:20250909T024717Z
UID:4186-1758718800-1758724200@osanisinclusion.ca
SUMMARY:Drop-in Floor Hockey for Individuals with Diverse Abilities
DESCRIPTION:
URL:https://osanisinclusion.ca/event/drop-in-floor-hockey-for-individuals-with-diverse-abilities-2/
LOCATION:SJ Willis High School\, 923 Topaz Avenue\, Victoria\, BC\, V8T 2M2\, Canada
CATEGORIES:Community Event,Health & wellness,In-Person Event,Indoor,Kids & Family
ATTACH;FMTTYPE=image/jpeg:https://osanisinclusion.ca/wp-content/uploads/2025/09/2025-Poster-Drop-in-hockey-scaled.jpg
END:VEVENT
BEGIN:VEVENT
DTSTART;TZID=America/Vancouver:20251001T130000
DTEND;TZID=America/Vancouver:20251001T143000
DTSTAMP:20260422T224719
CREATED:20251002T221916Z
LAST-MODIFIED:20251002T221916Z
UID:5367-1759323600-1759329000@osanisinclusion.ca
SUMMARY:Drop-in Floor Hockey for Individuals with Diverse Abilities
DESCRIPTION:
URL:https://osanisinclusion.ca/event/drop-in-floor-hockey-for-individuals-with-diverse-abilities-2-2/
LOCATION:SJ Willis High School\, 923 Topaz Avenue\, Victoria\, BC\, V8T 2M2\, Canada
CATEGORIES:Community Event,Health & wellness,In-Person Event,Indoor,Kids & Family
ATTACH;FMTTYPE=image/jpeg:https://osanisinclusion.ca/wp-content/uploads/2025/09/2025-Poster-Drop-in-hockey-scaled.jpg
END:VEVENT
BEGIN:VEVENT
DTSTART;TZID=America/Vancouver:20251008T130000
DTEND;TZID=America/Vancouver:20251008T143000
DTSTAMP:20260422T224719
CREATED:20251002T222005Z
LAST-MODIFIED:20251002T222005Z
UID:5369-1759928400-1759933800@osanisinclusion.ca
SUMMARY:Drop-in Floor Hockey for Individuals with Diverse Abilities
DESCRIPTION:
URL:https://osanisinclusion.ca/event/drop-in-floor-hockey-for-individuals-with-diverse-abilities-2-2-2/
LOCATION:SJ Willis High School\, 923 Topaz Avenue\, Victoria\, BC\, V8T 2M2\, Canada
CATEGORIES:Community Event,Health & wellness,In-Person Event,Indoor,Kids & Family
ATTACH;FMTTYPE=image/jpeg:https://osanisinclusion.ca/wp-content/uploads/2025/09/2025-Poster-Drop-in-hockey-scaled.jpg
END:VEVENT
BEGIN:VEVENT
DTSTART;TZID=America/Vancouver:20251015T130000
DTEND;TZID=America/Vancouver:20251015T143000
DTSTAMP:20260422T224719
CREATED:20251002T222036Z
LAST-MODIFIED:20251002T222036Z
UID:5371-1760533200-1760538600@osanisinclusion.ca
SUMMARY:Drop-in Floor Hockey for Individuals with Diverse Abilities
DESCRIPTION:
URL:https://osanisinclusion.ca/event/drop-in-floor-hockey-for-individuals-with-diverse-abilities-2-2-2-2/
LOCATION:SJ Willis High School\, 923 Topaz Avenue\, Victoria\, BC\, V8T 2M2\, Canada
CATEGORIES:Community Event,Health & wellness,In-Person Event,Indoor,Kids & Family
ATTACH;FMTTYPE=image/jpeg:https://osanisinclusion.ca/wp-content/uploads/2025/09/2025-Poster-Drop-in-hockey-scaled.jpg
END:VEVENT
BEGIN:VEVENT
DTSTART;TZID=America/Vancouver:20251022T130000
DTEND;TZID=America/Vancouver:20251022T143000
DTSTAMP:20260422T224719
CREATED:20251002T222102Z
LAST-MODIFIED:20251002T222102Z
UID:5373-1761138000-1761143400@osanisinclusion.ca
SUMMARY:Drop-in Floor Hockey for Individuals with Diverse Abilities
DESCRIPTION:
URL:https://osanisinclusion.ca/event/drop-in-floor-hockey-for-individuals-with-diverse-abilities-2-2-2-2-2/
LOCATION:SJ Willis High School\, 923 Topaz Avenue\, Victoria\, BC\, V8T 2M2\, Canada
CATEGORIES:Community Event,Health & wellness,In-Person Event,Indoor,Kids & Family
ATTACH;FMTTYPE=image/jpeg:https://osanisinclusion.ca/wp-content/uploads/2025/09/2025-Poster-Drop-in-hockey-scaled.jpg
END:VEVENT
BEGIN:VEVENT
DTSTART;TZID=America/Vancouver:20251029T130000
DTEND;TZID=America/Vancouver:20251029T143000
DTSTAMP:20260422T224719
CREATED:20251002T222125Z
LAST-MODIFIED:20251002T222125Z
UID:5375-1761742800-1761748200@osanisinclusion.ca
SUMMARY:Drop-in Floor Hockey for Individuals with Diverse Abilities
DESCRIPTION:
URL:https://osanisinclusion.ca/event/drop-in-floor-hockey-for-individuals-with-diverse-abilities-2-2-2-2-2-2/
LOCATION:SJ Willis High School\, 923 Topaz Avenue\, Victoria\, BC\, V8T 2M2\, Canada
CATEGORIES:Community Event,Health & wellness,In-Person Event,Indoor,Kids & Family
ATTACH;FMTTYPE=image/jpeg:https://osanisinclusion.ca/wp-content/uploads/2025/09/2025-Poster-Drop-in-hockey-scaled.jpg
END:VEVENT
BEGIN:VEVENT
DTSTART;TZID=America/Vancouver:20251030T150000
DTEND;TZID=America/Vancouver:20251030T163000
DTSTAMP:20260422T224719
CREATED:20251010T021452Z
LAST-MODIFIED:20251010T021452Z
UID:5619-1761836400-1761841800@osanisinclusion.ca
SUMMARY:Esquimalt Halloween Skate
DESCRIPTION:Event location: Archie Browning Sports Centre\nEvent address: 1151 Esquimalt Road \nJoin us for a spooky Everyone Welcome Skate. \nKids in FULL costume get in FREE! \nMore Info
URL:https://osanisinclusion.ca/event/esquimalt-halloween-skate/
LOCATION:Archie Browning Sports Centre\, 1151 Esquimalt Rd.\, Victoria\, BC\, V9A 3N6\, Canada
CATEGORIES:Community Event,Food & Drink,In-Person Event,Kids & Family
ATTACH;FMTTYPE=image/jpeg:https://osanisinclusion.ca/wp-content/uploads/2025/10/unnamed-6.jpg
END:VEVENT
BEGIN:VEVENT
DTSTART;TZID=America/Vancouver:20251129T130000
DTEND;TZID=America/Vancouver:20251129T200000
DTSTAMP:20260422T224719
CREATED:20251105T045539Z
LAST-MODIFIED:20251105T045539Z
UID:6412-1764421200-1764446400@osanisinclusion.ca
SUMMARY:Santa Claus Parade
DESCRIPTION:Join us for the 43rd Peninsula Co-op Santa Claus Parade on Saturday\, November 29th\, and experience the magic of the season in downtown Victoria! \nStart your afternoon at the Bastion Square Christmas Festival presented by Peninsula Co-op between 1:00 PM and 6:00 PM — sip on warm mulled cider\, enjoy delicious holiday treats\, and snap a festive photo with Santa (furry friends are welcome too!). \nThen\, grab your spot along the parade route for the Peninsula Co-op Santa Claus Parade presented by CHEK Media at 5:30 PM\, as dazzling floats\, marching bands\, and holiday cheer light up the streets! \nAnd the magic doesn’t end there — after the parade\, head over to Centennial Square for the spectacular Lights of Wonder opening night\, where thousands of twinkling lights bring the heart of the city to life.
URL:https://osanisinclusion.ca/event/santa-claus-parade/
LOCATION:Belleville & Government to Douglas and Chatham and Bastian Square
CATEGORIES:Community Event,Food & Drink,In-Person Event,Kids & Family,Live Performance,Music,Outdoor,Parade
ATTACH;FMTTYPE=image/webp:https://osanisinclusion.ca/wp-content/uploads/2025/11/Final-SM-2025-Santa_Claus_Parade-Social-1080x1920-1-e1760739139884.webp
END:VEVENT
BEGIN:VEVENT
DTSTART;TZID=America/Vancouver:20251129T140000
DTEND;TZID=America/Vancouver:20251129T163000
DTSTAMP:20260422T224719
CREATED:20251105T035254Z
LAST-MODIFIED:20251105T035254Z
UID:6408-1764424800-1764433800@osanisinclusion.ca
SUMMARY:Holiday Party!
DESCRIPTION:Join us for our annual Holiday Party hosted by the Greater Victoria Down Syndrome Society! Enjoy snacks\, games and songs. After the party\, gather with friends and family to watch the Santa Claus Parade in downtown Victoria. Mark your calendars for November 30th and don’t miss out on this heartwarming event!
URL:https://osanisinclusion.ca/event/holiday-party/
LOCATION:Church of our Lord\, 626 Blanshard Str.\, Victoria\, BC\, V8W 3G6\, Canada
CATEGORIES:Community Event,Creative Art,Food & Drink,Games,In-Person Event,Kids & Family,Seasonal Event
ATTACH;FMTTYPE=image/jpeg:https://osanisinclusion.ca/wp-content/uploads/2025/11/Holiday-Party.jpg
END:VEVENT
END:VCALENDAR