BEGIN:VCALENDAR
VERSION:2.0
PRODID:-//Osanis Inclusion Services Inc. - ECPv6.15.20//NONSGML v1.0//EN
CALSCALE:GREGORIAN
METHOD:PUBLISH
X-WR-CALNAME:Osanis Inclusion Services Inc.
X-ORIGINAL-URL:https://osanisinclusion.ca
X-WR-CALDESC:Events for Osanis Inclusion Services Inc.
REFRESH-INTERVAL;VALUE=DURATION:PT1H
X-Robots-Tag:noindex
X-PUBLISHED-TTL:PT1H
BEGIN:VTIMEZONE
TZID:America/Vancouver
BEGIN:DAYLIGHT
TZOFFSETFROM:-0800
TZOFFSETTO:-0700
TZNAME:PDT
DTSTART:20240310T100000
END:DAYLIGHT
BEGIN:STANDARD
TZOFFSETFROM:-0700
TZOFFSETTO:-0800
TZNAME:PST
DTSTART:20241103T090000
END:STANDARD
BEGIN:DAYLIGHT
TZOFFSETFROM:-0800
TZOFFSETTO:-0700
TZNAME:PDT
DTSTART:20250309T100000
END:DAYLIGHT
BEGIN:STANDARD
TZOFFSETFROM:-0700
TZOFFSETTO:-0800
TZNAME:PST
DTSTART:20251102T090000
END:STANDARD
BEGIN:DAYLIGHT
TZOFFSETFROM:-0800
TZOFFSETTO:-0700
TZNAME:PDT
DTSTART:20260308T100000
END:DAYLIGHT
BEGIN:STANDARD
TZOFFSETFROM:-0700
TZOFFSETTO:-0800
TZNAME:PST
DTSTART:20261101T090000
END:STANDARD
END:VTIMEZONE
BEGIN:VTIMEZONE
TZID:America/Toronto
BEGIN:DAYLIGHT
TZOFFSETFROM:-0500
TZOFFSETTO:-0400
TZNAME:EDT
DTSTART:20240310T070000
END:DAYLIGHT
BEGIN:STANDARD
TZOFFSETFROM:-0400
TZOFFSETTO:-0500
TZNAME:EST
DTSTART:20241103T060000
END:STANDARD
BEGIN:DAYLIGHT
TZOFFSETFROM:-0500
TZOFFSETTO:-0400
TZNAME:EDT
DTSTART:20250309T070000
END:DAYLIGHT
BEGIN:STANDARD
TZOFFSETFROM:-0400
TZOFFSETTO:-0500
TZNAME:EST
DTSTART:20251102T060000
END:STANDARD
BEGIN:DAYLIGHT
TZOFFSETFROM:-0500
TZOFFSETTO:-0400
TZNAME:EDT
DTSTART:20260308T070000
END:DAYLIGHT
BEGIN:STANDARD
TZOFFSETFROM:-0400
TZOFFSETTO:-0500
TZNAME:EST
DTSTART:20261101T060000
END:STANDARD
END:VTIMEZONE
BEGIN:VEVENT
DTSTART;TZID=America/Vancouver:20250904T180000
DTEND;TZID=America/Vancouver:20250925T200000
DTSTAMP:20260422T011837
CREATED:20250825T225416Z
LAST-MODIFIED:20250825T225416Z
UID:4050-1757008800-1758830400@osanisinclusion.ca
SUMMARY:Art Exploration for Grief and Loss
DESCRIPTION:The Sea to Sky Hospice Society is running a 4-week Art Exploration group for grief and loss. This free program is a safe and inclusive space to experiment with art while processing a range of emotional responses to grief. There are 8 spots available. \nJoin volunteer Art Exploration facilitators Grace and Jani for four sessions as they help to “draw out” the expression of grief and loss through the use of mixed art materials. Participants will benefit from facilitated peer support and the opportunity to express grief without words\, in this small group. \nRegistration is required. To register\, please email Jody\, Client Services Coordinator\, at jody.kramer@seatoskyhospicesociety.ca \nLocation: \n55+ Centre Art Room \n1201 Village Green Way \nSquamish\, BC \nThursdays\, September 4 to 25\, 2025\, from 6:00 to 8:00pm
URL:https://osanisinclusion.ca/event/art-grief-loss/
LOCATION:55 Activity Centre\, 1201 Village Way\, Squamish\, BC\, V8B 0R7\, Canada
CATEGORIES:Creative Art,In-Person Event
ATTACH;FMTTYPE=image/png:https://osanisinclusion.ca/wp-content/uploads/2025/08/Screenshot-2025-08-15-at-10.06.01-AM-845x416-1.png
END:VEVENT
BEGIN:VEVENT
DTSTART;TZID=America/Vancouver:20250916T183000
DTEND;TZID=America/Vancouver:20251028T203000
DTSTAMP:20260422T011837
CREATED:20250912T232152Z
LAST-MODIFIED:20250913T005726Z
UID:4228-1758047400-1761683400@osanisinclusion.ca
SUMMARY:Healthy Boundaries
DESCRIPTION:Learn to foster mutual respect and strengthen your family dynamic by setting effective boundaries in a single-parent household. \n 
URL:https://osanisinclusion.ca/event/healthy-boundaries/
LOCATION:Men’s Therapy Center\, 301-3491 Saanich Rd.\, Victoria\, BC\, V8X 1W8\, Canada
CATEGORIES:Education,Health & wellness,In-Person Event
ATTACH;FMTTYPE=image/jpeg:https://osanisinclusion.ca/wp-content/uploads/2025/09/unnamed-8.jpg
ORGANIZER;CN="1Up Victoria Single Parent Resource Centre":MAILTO:info@1-up.ca
END:VEVENT
BEGIN:VEVENT
DTSTART;TZID=America/Vancouver:20250922T090000
DTEND;TZID=America/Vancouver:20250923T170000
DTSTAMP:20260422T011837
CREATED:20250724T014358Z
LAST-MODIFIED:20250724T020245Z
UID:3865-1758531600-1758646800@osanisinclusion.ca
SUMMARY:Community ASIST Workshop individual registration
DESCRIPTION:ASIST is a two-day workshop that provides suicide first aid training to participants. This training provides participants with the competencies needed to prevent suicide by recognizing signs\, providing a skilled intervention\, and developing a safety plan to keep someone alive. \nYou do not need to work in the health or mental health field to take ASIST. We need people in all roles in the community to be ASIST trained to create a suicide-safer community! \nThe cost of the workshop is $325. Student rate is available upon request.\n\nThe workshop will take place at the NEED2 office.\nLunch\, coffee/tea and snacks will be provided\n\nTo register visit our website here\nQuestions; email communityeducation@need2.ca
URL:https://osanisinclusion.ca/event/community-asist-workshop-individual-registration-2-2-2/
LOCATION:Need2 Office\, 2390 Arbutus Road\, Victoria\, BC\, V8N 1V7\, Canada
CATEGORIES:Education,Health & wellness,In-Person Event
ATTACH;FMTTYPE=image/jpeg:https://osanisinclusion.ca/wp-content/uploads/2025/07/Need2_ASIST-Workshop.jpg
END:VEVENT
BEGIN:VEVENT
DTSTART;TZID=America/Vancouver:20250922T100000
DTEND;TZID=America/Vancouver:20250926T110000
DTSTAMP:20260422T011837
CREATED:20250918T011608Z
LAST-MODIFIED:20250918T011608Z
UID:4376-1758535200-1758884400@osanisinclusion.ca
SUMMARY:Lunch and Learn
DESCRIPTION:Truth and Reconciliation Week is coming up September 22 to 26\, followed by National Day for Truth and Reconciliation\, on September 30. \nFor some\, this is a time of new learning. Some may experience feelings of discomfort\, guilt\, shame or shock. For yet others\, this is a difficult time that may resurface trauma and deep grief. We hold space for each person who may be processing the significance of Truth and Reconciliation in their own way. \nThe National Centre for Truth and Reconciliation is offering virtual webinars to support you in un-learning the myths of colonial history. Each day of Truth and Reconciliation Week\, Residential School Survivors and other speakers will share about important topics like the impacts of residential school\, denialism\, and more. \nREGISTER HERE
URL:https://osanisinclusion.ca/event/lunch-and-learn/
CATEGORIES:Education,In-Person Event
ATTACH;FMTTYPE=image/jpeg:https://osanisinclusion.ca/wp-content/uploads/2025/09/lunch-and-learn.jpg
END:VEVENT
BEGIN:VEVENT
DTSTART;TZID=America/Toronto:20250923T060000
DTEND;TZID=America/Toronto:20250925T164500
DTSTAMP:20260422T011837
CREATED:20250613T131306Z
LAST-MODIFIED:20250716T001027Z
UID:3258-1758607200-1758818700@osanisinclusion.ca
SUMMARY:Mental Health for All National Conference
DESCRIPTION:And we’re back! After years of virtual events\, CMHA will host the Mental Health for All Conference September 23-25\, 2025—live and in person. And this time\, you’re invited! \nThis is more than a simple conference—it’s where ideas come to incubate and lead to change. It’s where leaders\, people on the frontlines\, experts\, and champions for mental health come together to make change happen. \nImagine it… a Canada where everyone has access to the mental health and substance use care they need\, wherever they live\, whoever they are. That’s what we’re building\, and you can be part of it. \nCome connect with great minds exchanging great ideas. Come share your story. Or just come and soak it in. Because when you show up for the conference\, you’re showing up for change. Real change. \nPlease join us for the Mental Health for All Conference from September 23–25\, 2025 at the Hilton Toronto. 
URL:https://osanisinclusion.ca/event/mental-health-for-all-national-conference/
LOCATION:Hilton Toronto\, 145 Richmond St W\, Toronto\, ON\, M5H 2L2\, Canada
CATEGORIES:Education,In-Person Event
ATTACH;FMTTYPE=image/jpeg:https://osanisinclusion.ca/wp-content/uploads/2025/06/Conference-scaled.jpg
END:VEVENT
BEGIN:VEVENT
DTSTART;TZID=America/Vancouver:20250923T183000
DTEND;TZID=America/Vancouver:20250923T203000
DTSTAMP:20260422T011837
CREATED:20250915T021026Z
LAST-MODIFIED:20250915T021026Z
UID:4295-1758652200-1758659400@osanisinclusion.ca
SUMMARY:Parents in the Know
DESCRIPTION:For those that prefer a structured program\, parents of teens attend this 10-12 week professionally-facilitated education and support program to learn more about adolescent development\, boundary setting\, healthy communication\, teen mental health\, and other common issues. In a non-judgmental setting\, this program helps parents connect with others experiencing similar issues while developing new skills and knowledge that can help decrease conflict in the home and help parents feel better equipped to parent their teen. \nA more in-depth\, structured group experience focused on parenting teens. \n Start Date: Monday\, September 23\, 2025\n Time: 6:30 PM – 8:30 PM\n Where: In person (Location details provided upon registration)\n Cost: Free\n Register Here: https://bgcsvi.org/programs/parenting/
URL:https://osanisinclusion.ca/event/parents-in-the-know/
CATEGORIES:Education,In-Person Event
ATTACH;FMTTYPE=image/jpeg:https://osanisinclusion.ca/wp-content/uploads/2025/09/people-posing-together-registration-day-scaled-e1740949263276.jpg
END:VEVENT
END:VCALENDAR