BEGIN:VCALENDAR
VERSION:2.0
PRODID:-//Osanis Inclusion Services Inc. - ECPv6.15.20//NONSGML v1.0//EN
CALSCALE:GREGORIAN
METHOD:PUBLISH
X-ORIGINAL-URL:https://osanisinclusion.ca
X-WR-CALDESC:Events for Osanis Inclusion Services Inc.
REFRESH-INTERVAL;VALUE=DURATION:PT1H
X-Robots-Tag:noindex
X-PUBLISHED-TTL:PT1H
BEGIN:VTIMEZONE
TZID:America/Vancouver
BEGIN:DAYLIGHT
TZOFFSETFROM:-0800
TZOFFSETTO:-0700
TZNAME:PDT
DTSTART:20240310T100000
END:DAYLIGHT
BEGIN:STANDARD
TZOFFSETFROM:-0700
TZOFFSETTO:-0800
TZNAME:PST
DTSTART:20241103T090000
END:STANDARD
BEGIN:DAYLIGHT
TZOFFSETFROM:-0800
TZOFFSETTO:-0700
TZNAME:PDT
DTSTART:20250309T100000
END:DAYLIGHT
BEGIN:STANDARD
TZOFFSETFROM:-0700
TZOFFSETTO:-0800
TZNAME:PST
DTSTART:20251102T090000
END:STANDARD
BEGIN:DAYLIGHT
TZOFFSETFROM:-0800
TZOFFSETTO:-0700
TZNAME:PDT
DTSTART:20260308T100000
END:DAYLIGHT
BEGIN:STANDARD
TZOFFSETFROM:-0700
TZOFFSETTO:-0800
TZNAME:PST
DTSTART:20261101T090000
END:STANDARD
BEGIN:DAYLIGHT
TZOFFSETFROM:-0800
TZOFFSETTO:-0700
TZNAME:PDT
DTSTART:20270314T100000
END:DAYLIGHT
BEGIN:STANDARD
TZOFFSETFROM:-0700
TZOFFSETTO:-0800
TZNAME:PST
DTSTART:20271107T090000
END:STANDARD
END:VTIMEZONE
BEGIN:VEVENT
DTSTART;TZID=America/Vancouver:20251126T120000
DTEND;TZID=America/Vancouver:20251126T130000
DTSTAMP:20260423T164416
CREATED:20251119T063358Z
LAST-MODIFIED:20251119T063358Z
UID:8663-1764158400-1764162000@osanisinclusion.ca
SUMMARY:Lunchtime Education Kernel: Mental Health and Developmental Disabilities: Presented by PAC Outreach Program (POP)
DESCRIPTION:We would like to invite you to participate in an upcoming educational session hosted by the PAC Outreach Program. This session will focus on mental health and developmental disabilities\, specifically designed for professionals and individuals who provide support to adults with intellectual disabilities. Your involvement in this important discussion would be greatly valued. \nDate: November 26\, 2025\nTime: 12 pm to 1 pm\nFormat: Virtual via MS Teams \nTo register\, please use this link: Microsoft Virtual Events Powered by Teams
URL:https://osanisinclusion.ca/event/lunchtime-education-kernel-mental-health-and-developmental-disabilities-presented-by-pac-outreach-program-pop/
LOCATION:Virtual Event
CATEGORIES:Education,Health & wellness,Online Event
ATTACH;FMTTYPE=image/jpeg:https://osanisinclusion.ca/wp-content/uploads/2025/11/Mental-Health-Education.jpg
END:VEVENT
BEGIN:VEVENT
DTSTART;TZID=America/Vancouver:20251129T160000
DTEND;TZID=America/Vancouver:20251129T180000
DTSTAMP:20260423T164416
CREATED:20251125T204206Z
LAST-MODIFIED:20251125T204206Z
UID:8909-1764432000-1764439200@osanisinclusion.ca
SUMMARY:The Ripple Effect: How Complex Grief from Suicide Loss Shapes Our Bodies\, Minds\, and Connections (A Webinar)
DESCRIPTION:This online webinar is designed for community members 19 yrs+ who have experienced the loss of suicide. This session will be different from NEED2’s regular peer support group meetings\, as it will be more activity-based and focused on the psychoeducation around grief and loss. \nNovember 29th\, 4-6 pm online \nPlease note: \n– This is a free webinar and will be held online over zoom\n– Spots are limited so please register if you would like to attend\n– Registration will close at 5pm on Nov 27th\n– Registered participants will receive the zoom link for the webinar by email on Friday\, November 28th \nFor questions\, please reach out to supportgroup@need2.ca
URL:https://osanisinclusion.ca/event/the-ripple-effect-how-complex-grief-from-suicide-loss-shapes-our-bodies-minds-and-connections-a-webinar/
LOCATION:Virtual Event
CATEGORIES:Education,Health & wellness,Online Event,Zoom Event
ATTACH;FMTTYPE=image/jpeg:https://osanisinclusion.ca/wp-content/uploads/2025/11/grief.jpg
END:VEVENT
BEGIN:VEVENT
DTSTART;TZID=America/Vancouver:20251208T093000
DTEND;TZID=America/Vancouver:20251208T160000
DTSTAMP:20260423T164416
CREATED:20251022T002933Z
LAST-MODIFIED:20251022T002945Z
UID:5936-1765186200-1765209600@osanisinclusion.ca
SUMMARY:Armstrong/Online: Attend this professional opportunity on grief and loss
DESCRIPTION:This is a one-day workshop for professionals who work with children\, youth and families. The workshop offers practical tools\, insights\, and approaches on supporting young clients navigating experiences of grief and loss. Attend in-person in Armstrong\, BC in November\, or virtually in December. \nLocation: \nSage Cottage  | Armstrong\, BC \nMonday\, November 10\, 2025\, from 9:30 am to 4:00 pm \nVirtual workshop: \nMonday\, December 8\, 2025\, from 9:30 am to 4:00 pm
URL:https://osanisinclusion.ca/event/armstrong-online-attend-this-professional-opportunity-on-grief-and-loss-2/
LOCATION:Virtual Event
CATEGORIES:Education,Health & wellness,Online Event,Zoom Event
ATTACH;FMTTYPE=image/jpeg:https://osanisinclusion.ca/wp-content/uploads/2025/10/unnamed-12.jpg
END:VEVENT
BEGIN:VEVENT
DTSTART;TZID=America/Vancouver:20251209T190000
DTEND;TZID=America/Vancouver:20251209T200000
DTSTAMP:20260423T164416
CREATED:20251127T215116Z
LAST-MODIFIED:20251127T215116Z
UID:9046-1765306800-1765310400@osanisinclusion.ca
SUMMARY:Fed Family Chat
DESCRIPTION:This virtual event is an opportunity to hang out with other youth in and from care and have fun. Together we can shape how we want to spend our time together. \nThis Fed Family Chat will be taking place on \nTues\, Dec 9\, 7-8PM \nSign Up for Fed Family Chat \n\n\nWe are so excited to share space and connect with you!
URL:https://osanisinclusion.ca/event/fed-family-chat-3-2-2-2/
LOCATION:Virtual Event
CATEGORIES:Health & wellness,Online Event,Zoom Event
ATTACH;FMTTYPE=image/jpeg:https://osanisinclusion.ca/wp-content/uploads/2025/07/Fed-Family-Chat.jpg
END:VEVENT
BEGIN:VEVENT
DTSTART;TZID=America/Vancouver:20251210T133000
DTEND;TZID=America/Vancouver:20251210T150000
DTSTAMP:20260423T164416
CREATED:20251126T000320Z
LAST-MODIFIED:20251126T000320Z
UID:8913-1765373400-1765378800@osanisinclusion.ca
SUMMARY:Beyond the headlines: The toxic drug crisis
DESCRIPTION:In the fourth installment of the Beyond the Headlines conversation series\, B.C.’s Human Rights Commissioner\, Kasari Govender\, will sit down with Jonny Morris\, CEO of the Canadian Mental Health Association\, BC Division\, and Lisa Lapointe\, B.C.’s former Chief Coroner\, about one of the most pressing issues in B.C.: the ongoing toxic drug crisis. \nRead more \n \nEvent details\nDate: Wednesday\, December 10\, 2025 \nTime: 1:30 – 3 p.m. PST \nMethod: Via Zoom webinar(opens in a new window) or livestreaming on our website. \nHow to register\nRegistration is not required to watch the conversation. However\, those who register and join via the Zoom webinar option will be able to submit questions during the event and may hear them answered live. \n\nRegister for the Zoom webinar(opens in a new window)\nOr register by contacting engagement@bchumanrights.ca\n\nIf you don’t want to register\, you can still watch the livestream at: bchumanrights.ca/beyond-the-headlines \nA note on accessibility and translation\nClosed captioning will be available at this event. If you have other accessibility requirements\, please contact us at engagement@bchumanrights.ca. \nIf you have a translation request\, please contact us at engagement@bchumanrights.ca at least two weeks prior to the event and we will do our best to accommodate. \n 
URL:https://osanisinclusion.ca/event/beyond-the-headlines-the-toxic-drug-crisis/
LOCATION:Virtual Event
CATEGORIES:Education,Health & wellness,Online Event,Zoom Event
ATTACH;FMTTYPE=image/jpeg:https://osanisinclusion.ca/wp-content/uploads/2025/11/beyond-the-headlines.jpg
END:VEVENT
BEGIN:VEVENT
DTSTART;TZID=America/Vancouver:20251218T183000
DTEND;TZID=America/Vancouver:20251218T200000
DTSTAMP:20260423T164416
CREATED:20251121T012746Z
LAST-MODIFIED:20251121T012746Z
UID:8710-1766082600-1766088000@osanisinclusion.ca
SUMMARY:SEA: For Adults online workshop
DESCRIPTION:A 90 minute online suicide prevention workshop developed by NEED2 to provide foundational information about suicide that is accessible and relevant to adults; no matter their role in the community. \nDecember 18\, 2025 6:30-8pm \nOnce you’ve registered you will receive the zoom link the day before the workshop. \nRegister Here.
URL:https://osanisinclusion.ca/event/sea-for-adults-online-workshop-2-2-2/
LOCATION:Virtual Event
CATEGORIES:Education,Health & wellness,Online Event,Zoom Event
ATTACH;FMTTYPE=image/png:https://osanisinclusion.ca/wp-content/uploads/2025/05/SEA-for-adults.png
END:VEVENT
BEGIN:VEVENT
DTSTART;TZID=America/Vancouver:20251221T080000
DTEND;TZID=America/Vancouver:20251221T170000
DTSTAMP:20260423T164416
CREATED:20251119T032131Z
LAST-MODIFIED:20251119T032131Z
UID:8646-1766304000-1766336400@osanisinclusion.ca
SUMMARY:Indigenous Caregivers Circle
DESCRIPTION:We welcome you here to connect and share with other Indigenous caregivers in a culturally safe and respectful space. We acknowledge and celebrate different perspectives around disability\, while recognizing the unique barriers that Indigenous families with disabilities face in a colonial society. \nThis group is for any Indigenous caregiver (First Nations\, Métis or Inuit) who cares for a loved one with any disability\, with or without a diagnosis\, regardless of their age or gender\, calling in from anywhere in BC. Remember: It takes a village to raise a child. Maybe you’ll find part of your village here. \nThis Family Hangout launches on December 21\, the day of the Winter Solstice. \nSunday\, December 21\, 2025\, at 6:00 pm \nThis Family Hangout will take place every month\, on the 3rd Sunday of the month. \nREGISTER HERE
URL:https://osanisinclusion.ca/event/indigenous-caregivers-circle/
LOCATION:Virtual Event
CATEGORIES:Cultural Event,Education,Health & wellness,Online Event,Zoom Event
ATTACH;FMTTYPE=image/jpeg:https://osanisinclusion.ca/wp-content/uploads/2025/11/indigenous-caregivers.jpg
END:VEVENT
BEGIN:VEVENT
DTSTART;TZID=America/Vancouver:20260119T090000
DTEND;TZID=America/Vancouver:20260120T170000
DTSTAMP:20260423T164416
CREATED:20251127T214837Z
LAST-MODIFIED:20251127T214837Z
UID:9043-1768813200-1768928400@osanisinclusion.ca
SUMMARY:Community ASIST Workshop individual registration
DESCRIPTION:ASIST is a two-day workshop that provides suicide first aid training to participants. This training provides participants with the competencies needed to prevent suicide by recognizing signs\, providing a skilled intervention\, and developing a safety plan to keep someone alive. \nYou do not need to work in the health or mental health field to take ASIST. We need people in all roles in the community to be ASIST trained to create a suicide-safer community! \nThe cost of the workshop is $325. Student rate is available upon request.\n\nThe workshop will take place at the NEED2 office (9 am to 5 pm)\n\nTo register visit our website here\nQuestions; email communityeducation@need2.ca
URL:https://osanisinclusion.ca/event/community-asist-workshop-individual-registration-2-2-2-2-2-2/
LOCATION:Need2 Office\, 2390 Arbutus Road\, Victoria\, BC\, V8N 1V7\, Canada
CATEGORIES:Education,Health & wellness,In-Person Event
ATTACH;FMTTYPE=image/jpeg:https://osanisinclusion.ca/wp-content/uploads/2025/01/Community-ASIST.jpg
END:VEVENT
BEGIN:VEVENT
DTSTART;TZID=America/Vancouver:20260120T174500
DTEND;TZID=America/Vancouver:20260310T194500
DTSTAMP:20260423T164416
CREATED:20251105T013142Z
LAST-MODIFIED:20251105T013444Z
UID:6342-1768931100-1773171900@osanisinclusion.ca
SUMMARY:Mental Wellness - Y Mind Teen (13-18) & Youth (18-30)
DESCRIPTION:Mental health challenges shouldn’t get in the way of doing what you love. Our programs help overcome barriers and get you on the right track to where you’d like to be. \nOur free mental wellness programs\, Y Mind and Mind Medicine\, help participants learn how to manage stress and mild-to-moderate anxiety (individuals experiencing severe anxiety and stress that significantly impacts their ability to perform daily activities likely require more support than what Y Mind is intended to provide). Our programs are evidence-based and teach Acceptance and Commitment Therapy (ACT) and mindfulness.\nTo participate\, you may self-refer\, you do not need a diagnosis of anxiety\, and you do not need to be a Y member. \nY MIND TEEN – AGES 13-18\nY Mind Teen is a free seven-week program delivered across BC. This program supports teens ages 13 to 18 who are experiencing symptoms of stress and worry to learn and practice evidence-based strategies to cope with stress. Y Mind Teen is led by trained mental health professionals and educators and gives teens the chance to connect with others who are experiencing similar thoughts and feelings. \nRegistration Information: \nThe Y Mind Groups are being offered in-person in Spring 2026. Please contact us at mindfulness@vancouverislandy.ca so we can support you in accessing a group (either in person or virtual) in your area. \nThe registration process for Y Mind Teen includes attendance at an Information Session (either online or in person\, depending on the site) and a brief intake meeting with one of our facilitators to determine if the group is a best fit for the teen. \nREGISTER ONLINE \nY MIND YOUTH – AGES 18 – 30\nThe Y Mind Youth programs are delivered in person\, in Victoria. Online groups are available with enough interest or through our partner sites on Vancouver Island as well as other Y’s across BC. \nIf stress is impacting your life and preventing you from doing what you want or need to do\, this group is for you. Y Mind Youth is a free seven-week program delivered across BC. Y Mind Youth supports people ages 18-30 who are experiencing symptoms of mild to moderate anxiety/stress to learn and practice evidence-based strategies to increase coping. This group is led by trained mental health professionals and gives young adults the chance to connect with others who are experiencing similar thoughts and feelings. \nThe Y Mind Groups are offered in-person in Winter 2026 (Location TBD). \nWe are also offering a virtual Youth group for anyone living in the Vancouver Island area. \nAll participants must register and attend one of our information sessions and a one-on-one intake to register for the program.  The dates and times for our next Victoria information sessions and a registration link are below: \nDowntown Y In Person Information Session: \nWednesday January 14\, 2026\, at 6 pm @ Location TBD \nor \nWednesday January 21\, 2026\, at 6 pm @ Location TBD \nDowntown Y In Person Program Sessions: \nWednesdays January 28 – March 11\, 2026\, 6pm – 8:30pm @ Location TBD \n  \nVirtual Information Session: \nTuesday January 20\, 2026\, at 6 pm on Zoom \nor \nTuesday January 27\, 2026\, at 6 pm on Zoom \nVirtual Program Sessions: \nTuesdays February 3 – March 17\, 2026\, 6pm – 8:30pm on Zoom \nY Mind Youth is being offered in the Westshore by Pacific Centre Family Services at 324 Goldstream Ave. If you are interested in that group\, please contact Julia at jleggett@pcfsa.org \nREGISTER ONLINE \n 
URL:https://osanisinclusion.ca/event/vancouver-island-y-mental-wellness-2-2-2-2/
LOCATION:BC
CATEGORIES:Education,Health & wellness,In-Person Event,Online Event,Zoom Event
ATTACH;FMTTYPE=image/png:https://osanisinclusion.ca/wp-content/uploads/2025/11/YMind-Youth-Poster-WINTER-2024.png
END:VEVENT
END:VCALENDAR