BEGIN:VCALENDAR
VERSION:2.0
PRODID:-//Osanis Inclusion Services Inc. - ECPv6.15.20//NONSGML v1.0//EN
CALSCALE:GREGORIAN
METHOD:PUBLISH
X-ORIGINAL-URL:https://osanisinclusion.ca
X-WR-CALDESC:Events for Osanis Inclusion Services Inc.
REFRESH-INTERVAL;VALUE=DURATION:PT1H
X-Robots-Tag:noindex
X-PUBLISHED-TTL:PT1H
BEGIN:VTIMEZONE
TZID:America/Vancouver
BEGIN:DAYLIGHT
TZOFFSETFROM:-0800
TZOFFSETTO:-0700
TZNAME:PDT
DTSTART:20230312T100000
END:DAYLIGHT
BEGIN:STANDARD
TZOFFSETFROM:-0700
TZOFFSETTO:-0800
TZNAME:PST
DTSTART:20231105T090000
END:STANDARD
BEGIN:DAYLIGHT
TZOFFSETFROM:-0800
TZOFFSETTO:-0700
TZNAME:PDT
DTSTART:20240310T100000
END:DAYLIGHT
BEGIN:STANDARD
TZOFFSETFROM:-0700
TZOFFSETTO:-0800
TZNAME:PST
DTSTART:20241103T090000
END:STANDARD
BEGIN:DAYLIGHT
TZOFFSETFROM:-0800
TZOFFSETTO:-0700
TZNAME:PDT
DTSTART:20250309T100000
END:DAYLIGHT
BEGIN:STANDARD
TZOFFSETFROM:-0700
TZOFFSETTO:-0800
TZNAME:PST
DTSTART:20251102T090000
END:STANDARD
END:VTIMEZONE
BEGIN:VEVENT
DTSTART;TZID=America/Vancouver:20241115T193000
DTEND;TZID=America/Vancouver:20241115T210000
DTSTAMP:20260423T044200
CREATED:20241109T043239Z
LAST-MODIFIED:20241109T043239Z
UID:2487-1731699000-1731704400@osanisinclusion.ca
SUMMARY:Concert for Hope. Help. Home. with Ria Mae
DESCRIPTION:Friday\, November 15th at the Royal McPherson Playhouse. \nGet your tickets here: https://www.rmts.bc.ca/production-detail-pages/2024-mcpherson-playhouse/ria-mae/ \nSince the June 2016 release of Mae’s full length\, self-titled debut album\, the three-time JUNO nominee has toured Europe with Tegan & Sara\, North America with Dido\, and Canada with Scott Helman and many other incredible musicians. She has performed with k.d. lang\, Melissa Etheridge\, Elle King\, Xavier Rudd\, Shawn Hook\, Family of the Year\, Francesco Yates\, Coleman Hell and more. She has performed at various PRIDE festivals and events in Halifax\, Vancouver\, Calgary\, Ottawa\, and Montreal. \nAbout Community Living Victoria \nCommunity Living Victoria has been dedicated to supporting individuals with intellectual disabilities\, their families\, and the community for an impressive 69 years. Since its establishment on December 16\, 1955\, by a group of committed parents\, Community Living Victoria has grown to become the largest not-for-profit community living service provider on Vancouver Island. \nAt Community Living Victoria\, the primary focus is on promoting full citizenship and enhancing the quality of life for individuals with intellectual disabilities. The organization offers a wide range of support services to children\, youth\, and adults with intellectual disabilities\, as well as their families. \nThe core values of Community Living Victoria revolve around the principles of community living. These principles include respecting the uniqueness\, dignity\, and worth of each individual. The organization recognizes the importance of self determination\, personal happiness\, and satisfaction for every person they support. They strive to create a meaningful life for individuals where their gifts and contributions are valued. \nCommunity Living Victoria firmly believes that quality of life matters for everyone they serve. Our services are designed to empower individuals and provide them with access to a full range of life choices. By upholding these principles and values\, Community Living Victoria continues to make a positive impact in the lives of individuals with intellectual disabilities and their communities. \n 
URL:https://osanisinclusion.ca/event/concert-for-hope-help-home-with-ria-mae/
LOCATION:Royal & McPherson\, 805 Broughton Str.\, Victoria\, BC\, V8W 1E5\, Canada
CATEGORIES:Food & Drink,In-Person Event,Live Performance,Music
ATTACH;FMTTYPE=image/png:https://osanisinclusion.ca/wp-content/uploads/2024/11/Ria-Mae.png
END:VEVENT
END:VCALENDAR