BEGIN:VCALENDAR
VERSION:2.0
PRODID:-//Osanis Inclusion Services Inc. - ECPv6.15.20//NONSGML v1.0//EN
CALSCALE:GREGORIAN
METHOD:PUBLISH
X-ORIGINAL-URL:https://osanisinclusion.ca
X-WR-CALDESC:Events for Osanis Inclusion Services Inc.
REFRESH-INTERVAL;VALUE=DURATION:PT1H
X-Robots-Tag:noindex
X-PUBLISHED-TTL:PT1H
BEGIN:VTIMEZONE
TZID:America/Vancouver
BEGIN:DAYLIGHT
TZOFFSETFROM:-0800
TZOFFSETTO:-0700
TZNAME:PDT
DTSTART:20240310T100000
END:DAYLIGHT
BEGIN:STANDARD
TZOFFSETFROM:-0700
TZOFFSETTO:-0800
TZNAME:PST
DTSTART:20241103T090000
END:STANDARD
BEGIN:DAYLIGHT
TZOFFSETFROM:-0800
TZOFFSETTO:-0700
TZNAME:PDT
DTSTART:20250309T100000
END:DAYLIGHT
BEGIN:STANDARD
TZOFFSETFROM:-0700
TZOFFSETTO:-0800
TZNAME:PST
DTSTART:20251102T090000
END:STANDARD
BEGIN:DAYLIGHT
TZOFFSETFROM:-0800
TZOFFSETTO:-0700
TZNAME:PDT
DTSTART:20260308T100000
END:DAYLIGHT
BEGIN:STANDARD
TZOFFSETFROM:-0700
TZOFFSETTO:-0800
TZNAME:PST
DTSTART:20261101T090000
END:STANDARD
END:VTIMEZONE
BEGIN:VEVENT
DTSTART;TZID=America/Vancouver:20250106T100000
DTEND;TZID=America/Vancouver:20250112T180000
DTSTAMP:20260421T184533
CREATED:20250109T212906Z
LAST-MODIFIED:20250109T221735Z
UID:2720-1736157600-1736704800@osanisinclusion.ca
SUMMARY:Community Days
DESCRIPTION:Community Days are back at the Royal BC Museum!\nFrom January 6–12\, enjoy admission-by-donation and explore the galleries. \n\nIgnite conversation about the everyday products you grew up with Canadian Modern – a stunning exhibition of Canadian mid-century design 🖼️\nCheck out Forgotten Landscapes – a new exhibit featuring beautiful recently rediscovered paintings from the early 1900s\nRediscover old favorites like Old Town\, New Approach and HMS Discovery\nImmerse yourself in the coastal rainforest\, visit the tide pools and see who’s living in the Ocean Station\n\nPlus\, join us for Letter Writing Week (Jan 9–13) and relax at various wellness stations in collaboration with Destination Greater Victoria for ‘A Wellness Getaway in Victoria” \nDon’t miss this chance to rediscover your provincial museum and support the important work that we do.
URL:https://osanisinclusion.ca/event/community-days/
LOCATION:Royal BC Museum\, 675 Belleville Str\, Victoria\, B.C.\, V8W 9W2
CATEGORIES:Community Event,Creative Art,Cultural Event,Education,In-Person Event,Kids & Family
ATTACH;FMTTYPE=image/jpeg:https://osanisinclusion.ca/wp-content/uploads/2025/01/RBCM_community-day-header_2025.jpg
END:VEVENT
BEGIN:VEVENT
DTSTART;TZID=America/Vancouver:20250107T120000
DTEND;TZID=America/Vancouver:20250311T133000
DTSTAMP:20260421T184533
CREATED:20241212T042547Z
LAST-MODIFIED:20241212T042950Z
UID:2694-1736251200-1741699800@osanisinclusion.ca
SUMMARY:Connect Parenting Program
DESCRIPTION:Connect Parenting Program:  is an evidence-based 10-week attachment-based program that helps parents support youth. This program is for families and caregivers of children ages 8-15 with depression\, anxiety\, and/or intense emotional difficulties. Or children who are getting into trouble and having severe behavioral difficulties.\n\n\nDates & Times: Tuesdays Jan 7 through to and including March 11 from 12-130pm in person\nInformation:https://www.connectattachmentprograms.org/\nTo Register: Sylvia Mason: smason@thrivevictoria.org  or Haley Kimmel: hkimmel@thrivevictoria.org\nCost: Free
URL:https://osanisinclusion.ca/event/connect-parenting-program/
CATEGORIES:Community Event,Education,In-Person Event
ATTACH;FMTTYPE=image/jpeg:https://osanisinclusion.ca/wp-content/uploads/2024/12/Connect-Parents.jpg
END:VEVENT
END:VCALENDAR