BEGIN:VCALENDAR
VERSION:2.0
PRODID:-//Osanis Inclusion Services Inc. - ECPv6.15.20//NONSGML v1.0//EN
CALSCALE:GREGORIAN
METHOD:PUBLISH
X-WR-CALNAME:Osanis Inclusion Services Inc.
X-ORIGINAL-URL:https://osanisinclusion.ca
X-WR-CALDESC:Events for Osanis Inclusion Services Inc.
REFRESH-INTERVAL;VALUE=DURATION:PT1H
X-Robots-Tag:noindex
X-PUBLISHED-TTL:PT1H
BEGIN:VTIMEZONE
TZID:America/Vancouver
BEGIN:DAYLIGHT
TZOFFSETFROM:-0800
TZOFFSETTO:-0700
TZNAME:PDT
DTSTART:20230312T100000
END:DAYLIGHT
BEGIN:STANDARD
TZOFFSETFROM:-0700
TZOFFSETTO:-0800
TZNAME:PST
DTSTART:20231105T090000
END:STANDARD
BEGIN:DAYLIGHT
TZOFFSETFROM:-0800
TZOFFSETTO:-0700
TZNAME:PDT
DTSTART:20240310T100000
END:DAYLIGHT
BEGIN:STANDARD
TZOFFSETFROM:-0700
TZOFFSETTO:-0800
TZNAME:PST
DTSTART:20241103T090000
END:STANDARD
BEGIN:DAYLIGHT
TZOFFSETFROM:-0800
TZOFFSETTO:-0700
TZNAME:PDT
DTSTART:20250309T100000
END:DAYLIGHT
BEGIN:STANDARD
TZOFFSETFROM:-0700
TZOFFSETTO:-0800
TZNAME:PST
DTSTART:20251102T090000
END:STANDARD
END:VTIMEZONE
BEGIN:VEVENT
DTSTART;TZID=America/Vancouver:20240912T183000
DTEND;TZID=America/Vancouver:20240912T194500
DTSTAMP:20260422T021715
CREATED:20240905T002958Z
LAST-MODIFIED:20240905T002958Z
UID:2161-1726165800-1726170300@osanisinclusion.ca
SUMMARY:VDRC 34th Annual General Meeting (AGM)
DESCRIPTION:It’s Time for the Victoria Disability Resource Centre’s Virtual 34th Annual General Meeting\nJoin us via Zoom on Thursday\, September 12th\, 2024 at 6:30 PM! \nOur guest speaker is Michael J. Prince\, a Lansdowne Professor of Social Policy at UVic\, political scientist\, disability advocate\, media pundit\, and award winning author. \nLearn all about what we\, as an organization\, have experienced over the last year\, including the successes and the lessons learned. You will also have the opportunity to vote for your board of directors! \nTo join with your computer\, tablet or smart phone\, click this link: https://us02web.zoom.us/j/85727309475 \nTo join by telephone\, call 1-778-907-2071 and use Meeting ID: 857 2730 9475 \nTo download the AGM Package\, please visit our website here: https://drcvictoria.com/news-events/join-us-on-thursday-september-12th-at-630-for-our-34th-annual-general-meeting-via-zoom/?highlight=agm \nIf you would like the package mailed or emailed to you\, or if you require the package in a different format\, please contact Wendy at 250-595-0044 ext. 107 or director@drcvictoria.com. \nLive caption via Rev will be available. \nASL will be provided. \nFor other accommodation requests\, please contact Wendy at 250-595-0044 ext. 107 or by email at director@drcvictoria.com
URL:https://osanisinclusion.ca/event/vdrc-34th-annual-general-meeting-agm/
LOCATION:Virtual Event
CATEGORIES:Community Event,Education,Online Event
ATTACH;FMTTYPE=image/jpeg:https://osanisinclusion.ca/wp-content/uploads/2024/09/Victoria-Disability-Resource-Centre.jpg
END:VEVENT
BEGIN:VEVENT
DTSTART;TZID=America/Vancouver:20240918T120000
DTEND;TZID=America/Vancouver:20240918T133000
DTSTAMP:20260422T021715
CREATED:20240907T001355Z
LAST-MODIFIED:20240907T003205Z
UID:2197-1726660800-1726666200@osanisinclusion.ca
SUMMARY:Beyond Behaviours: When Is It More? What It Looks Like at Ages 4 - 8
DESCRIPTION:ONLINE EVENT:  Beyond Behaviours: When Is It More? What It Looks Like at Ages 4 – 8 \nWhy can it feel so tricky to tell if our kids are on track\, going through a phase\, as opposed to struggling with something more\, or beyond behaviours? Listen to a parent and counsellor talk about the developmental stages of 4 to 8 year old children. \nVictoria Keddis hosts a conversation with Karen Peters\, a Registered Clinical Counsellor. \nCome together and watch a video presentation and stay for a facilitated conversation by our Family Peer Support Workers. \n12:00pm – 1:30pm Pacific Daylight Time (British Columbia)\n1:00pm – 2:30pm Mountain Standard Time (Alberta) \nThese events are funded for parents and caregivers living in the Province of British Columbia and for CASA families in Alberta. If you are from another province or territory\, or live outside of Canada\, we welcome you to visit our video library at www.familysmart.ca/videos and use our resources. Thank you. \nRegister here: https://familysmart.ca/event/beyond-behaviours-when-is-it-more-what-it-looks-like-at-ages-4-8/
URL:https://osanisinclusion.ca/event/beyond-behaviours-when-is-it-more-what-it-looks-like-at-ages-4-8/
LOCATION:Virtual Event
CATEGORIES:Community Event,Education,Online Event
ATTACH;FMTTYPE=image/png:https://osanisinclusion.ca/wp-content/uploads/2024/09/FS_Itk_OnlineEvent_Small.png
END:VEVENT
BEGIN:VEVENT
DTSTART;TZID=America/Vancouver:20240919T183000
DTEND;TZID=America/Vancouver:20240919T200000
DTSTAMP:20260422T021715
CREATED:20240907T002704Z
LAST-MODIFIED:20240907T003033Z
UID:2203-1726770600-1726776000@osanisinclusion.ca
SUMMARY:Connecting With Our Kids When Anxiety Leads to Social Isolation
DESCRIPTION:ONLINE EVENT:  Connecting with Our Kids When Anxiety Leads to Social Isolation \nWhen kids spend a lot of time alone because of their anxiety\, it can be frustrating and challenging for parents. In this video\, a parent and counsellor talk about the hard stuff and some strategies that can help us connect with our kids when they are socially isolated. \nVictoria Keddis hosts a conversation with Diane Evans\, a parent with lived experience and Christine Yu\, MA & RCC and a Doctoral member of Anxiety Canada’s Scientific Advisory Committee. \nCome together and watch a video presentation and stay for a facilitated conversation by our Family Peer Support Workers. \n6:30pm-8:00 pm Pacific Daylight Time (British Columbia)\n7:30pm-9:00 Mountain Standard Time (Alberta) \nThese events are funded for parents and caregivers living in the Province of British Columbia and for CASA families in Alberta. If you are from another province or territory\, or live outside of Canada\, we welcome you to visit our video library at www.familysmart.ca/videos and use our resources. Thank you. \nRegister here: https://familysmart.ca/event/connecting-with-our-kids-when-anxiety-leads-to-social-isolation/
URL:https://osanisinclusion.ca/event/beyond-behaviours-when-is-it-more-what-it-looks-like-at-ages-4-8-2-2/
LOCATION:Virtual Event
CATEGORIES:Community Event,Education,Online Event
ATTACH;FMTTYPE=image/png:https://osanisinclusion.ca/wp-content/uploads/2024/09/FS_Itk_OnlineEvent_Small.png
END:VEVENT
BEGIN:VEVENT
DTSTART;TZID=America/Vancouver:20240924T183000
DTEND;TZID=America/Vancouver:20240924T200000
DTSTAMP:20260422T021715
CREATED:20240907T001930Z
LAST-MODIFIED:20240907T003116Z
UID:2200-1727202600-1727208000@osanisinclusion.ca
SUMMARY:Beyond Behaviours: When Is It More? What It Looks Like at Ages 4 - 8
DESCRIPTION:ONLINE EVENT:  Beyond Behaviours: When Is It More? What It Looks Like at Ages 4 – 8 \nWhy can it feel so tricky to tell if our kids are on track\, going through a phase\, as opposed to struggling with something more\, or beyond behaviours? Listen to a parent and counsellor talk about the developmental stages of 4 to 8 year old children. \nVictoria Keddis hosts a conversation with Karen Peters\, a Registered Clinical Counsellor. \nCome together and watch a video presentation and stay for a facilitated conversation by our Family Peer Support Workers. \n6:30pm – 8:00pm Pacific Daylight Time (British Columbia)\n7:30pm – 9:00pm Mountain Standard Time (Alberta) \nThese events are funded for parents and caregivers living in the Province of British Columbia and for CASA families in Alberta. If you are from another province or territory\, or live outside of Canada\, we welcome you to visit our video library at www.familysmart.ca/videos and use our resources. Thank you. \nRegister here: https://familysmart.ca/event/beyond-behaviours-when-is-it-more-what-it-looks-like-at-ages-4-8-2/
URL:https://osanisinclusion.ca/event/beyond-behaviours-when-is-it-more-what-it-looks-like-at-ages-4-8-2/
LOCATION:Virtual Event
CATEGORIES:Community Event,Education,Online Event
ATTACH;FMTTYPE=image/png:https://osanisinclusion.ca/wp-content/uploads/2024/09/FS_Itk_OnlineEvent_Small.png
END:VEVENT
BEGIN:VEVENT
DTSTART;TZID=America/Vancouver:20240925T183000
DTEND;TZID=America/Vancouver:20240925T200000
DTSTAMP:20260422T021715
CREATED:20240907T002823Z
LAST-MODIFIED:20240907T002949Z
UID:2205-1727289000-1727294400@osanisinclusion.ca
SUMMARY:Connecting With Our Kids When Anxiety Leads to Social Isolation
DESCRIPTION:ONLINE EVENT:  Connecting with Our Kids When Anxiety Leads to Social Isolation \nWhen kids spend a lot of time alone because of their anxiety\, it can be frustrating and challenging for parents. In this video\, a parent and counsellor talk about the hard stuff and some strategies that can help us connect with our kids when they are socially isolated. \nVictoria Keddis hosts a conversation with Diane Evans\, a parent with lived experience and Christine Yu\, MA & RCC and a Doctoral member of Anxiety Canada’s Scientific Advisory Committee. \nCome together and watch a video presentation and stay for a facilitated conversation by our Family Peer Support Workers. \n6:30pm-8:00 pm Pacific Daylight Time (British Columbia)\n7:30pm-9:00 Mountain Standard Time (Alberta) \nThese events are funded for parents and caregivers living in the Province of British Columbia and for CASA families in Alberta. If you are from another province or territory\, or live outside of Canada\, we welcome you to visit our video library at www.familysmart.ca/videos and use our resources. Thank you. \nRegister Here: https://familysmart.ca/event/connecting-with-our-kids-when-anxiety-leads-to-social-isolation-2/
URL:https://osanisinclusion.ca/event/beyond-behaviours-when-is-it-more-what-it-looks-like-at-ages-4-8-2-2-2/
LOCATION:Virtual Event
CATEGORIES:Community Event,Education,Online Event
ATTACH;FMTTYPE=image/png:https://osanisinclusion.ca/wp-content/uploads/2024/09/FS_Itk_OnlineEvent_Small.png
END:VEVENT
END:VCALENDAR