BEGIN:VCALENDAR
VERSION:2.0
PRODID:-//Osanis Inclusion Services Inc. - ECPv6.15.20//NONSGML v1.0//EN
CALSCALE:GREGORIAN
METHOD:PUBLISH
X-ORIGINAL-URL:https://osanisinclusion.ca
X-WR-CALDESC:Events for Osanis Inclusion Services Inc.
REFRESH-INTERVAL;VALUE=DURATION:PT1H
X-Robots-Tag:noindex
X-PUBLISHED-TTL:PT1H
BEGIN:VTIMEZONE
TZID:America/Vancouver
BEGIN:DAYLIGHT
TZOFFSETFROM:-0800
TZOFFSETTO:-0700
TZNAME:PDT
DTSTART:20240310T100000
END:DAYLIGHT
BEGIN:STANDARD
TZOFFSETFROM:-0700
TZOFFSETTO:-0800
TZNAME:PST
DTSTART:20241103T090000
END:STANDARD
BEGIN:DAYLIGHT
TZOFFSETFROM:-0800
TZOFFSETTO:-0700
TZNAME:PDT
DTSTART:20250309T100000
END:DAYLIGHT
BEGIN:STANDARD
TZOFFSETFROM:-0700
TZOFFSETTO:-0800
TZNAME:PST
DTSTART:20251102T090000
END:STANDARD
BEGIN:DAYLIGHT
TZOFFSETFROM:-0800
TZOFFSETTO:-0700
TZNAME:PDT
DTSTART:20260308T100000
END:DAYLIGHT
BEGIN:STANDARD
TZOFFSETFROM:-0700
TZOFFSETTO:-0800
TZNAME:PST
DTSTART:20261101T090000
END:STANDARD
END:VTIMEZONE
BEGIN:VEVENT
DTSTART;TZID=America/Vancouver:20251203T080000
DTEND;TZID=America/Vancouver:20251203T170000
DTSTAMP:20260421T144638
CREATED:20251130T212518Z
LAST-MODIFIED:20251130T212518Z
UID:9238-1764748800-1764781200@osanisinclusion.ca
SUMMARY:These Four Walls - Film by PFC
DESCRIPTION:December 3 is the International Day of Persons with Disabilities. To celebrate this day\, People First of Canada chapters are showing the documentary These Four Walls in their communities. \nThese Four Walls was released by PFC in 2025. The film takes the viewer through the lives of people with intellectual disabilities who were forced to live in the Manitoba Developmental Centre\, or MDC\, a large institution for people with disabilities in the prairie province. The film also follows a class action lawsuit lead by David Weremy against the Government of Manitoba. \n“The goal of the film was to show the world how people were treated in institutions and to advocate for a future where institutions would be permanently closed\,” said Donna Brown\, President of PFC. \nYou can join People First members watching the film in your community\, or you can request the film by emailing info@peoplefirstofcanada.ca \nVisit the People First of Canada Facebook page for more details or links to showings.
URL:https://osanisinclusion.ca/event/these-four-walls-film-by-pfc/
LOCATION:BC
CATEGORIES:Creative Art,In-Person Event,Indoor
ATTACH;FMTTYPE=image/jpeg:https://osanisinclusion.ca/wp-content/uploads/2025/11/these-four-walls.jpg
END:VEVENT
BEGIN:VEVENT
DTSTART;TZID=America/Vancouver:20251211T103000
DTEND;TZID=America/Vancouver:20251211T113000
DTSTAMP:20260421T144638
CREATED:20251010T015131Z
LAST-MODIFIED:20251010T015131Z
UID:5611-1765449000-1765452600@osanisinclusion.ca
SUMMARY:Joy of Music - by West Coast Reach Association
DESCRIPTION:A lively\, monthly music program for those with diverse-abilities (and their caregivers). – On the second Thursday morning each month at McTavish Academy of Art in North Saanich.  For more detailed information see below.  Questions?  – Call 250-882-4339 or send us a an email message addressed to: westcoastreach@gmail.com (or click on the following button.\n\nDownload Flyer Here
URL:https://osanisinclusion.ca/event/joy-of-music-by-west-coast-reach-association-2-2/
LOCATION:McTavish Academy of Art (Gymnasium)\, 1720 McTavish Rd\, North Saanich\, BC\, V8L 5T9\, Canada
CATEGORIES:Community Event,Creative Art,In-Person Event,Live Performance,Music
ATTACH;FMTTYPE=image/png:https://osanisinclusion.ca/wp-content/uploads/2025/10/Joy-of-music.png
END:VEVENT
END:VCALENDAR