BEGIN:VCALENDAR
VERSION:2.0
PRODID:-//Osanis Inclusion Services Inc. - ECPv6.15.20//NONSGML v1.0//EN
CALSCALE:GREGORIAN
METHOD:PUBLISH
X-WR-CALNAME:Osanis Inclusion Services Inc.
X-ORIGINAL-URL:https://osanisinclusion.ca
X-WR-CALDESC:Events for Osanis Inclusion Services Inc.
REFRESH-INTERVAL;VALUE=DURATION:PT1H
X-Robots-Tag:noindex
X-PUBLISHED-TTL:PT1H
BEGIN:VTIMEZONE
TZID:America/Vancouver
BEGIN:DAYLIGHT
TZOFFSETFROM:-0800
TZOFFSETTO:-0700
TZNAME:PDT
DTSTART:20240310T100000
END:DAYLIGHT
BEGIN:STANDARD
TZOFFSETFROM:-0700
TZOFFSETTO:-0800
TZNAME:PST
DTSTART:20241103T090000
END:STANDARD
BEGIN:DAYLIGHT
TZOFFSETFROM:-0800
TZOFFSETTO:-0700
TZNAME:PDT
DTSTART:20250309T100000
END:DAYLIGHT
BEGIN:STANDARD
TZOFFSETFROM:-0700
TZOFFSETTO:-0800
TZNAME:PST
DTSTART:20251102T090000
END:STANDARD
BEGIN:DAYLIGHT
TZOFFSETFROM:-0800
TZOFFSETTO:-0700
TZNAME:PDT
DTSTART:20260308T100000
END:DAYLIGHT
BEGIN:STANDARD
TZOFFSETFROM:-0700
TZOFFSETTO:-0800
TZNAME:PST
DTSTART:20261101T090000
END:STANDARD
END:VTIMEZONE
BEGIN:VEVENT
DTSTART;TZID=America/Vancouver:20250319T120000
DTEND;TZID=America/Vancouver:20250319T130000
DTSTAMP:20260421T224226
CREATED:20250219T100307Z
LAST-MODIFIED:20250219T100517Z
UID:2908-1742385600-1742389200@osanisinclusion.ca
SUMMARY:Vicarious Trauma in the Workplace
DESCRIPTION:Is Your Workplace Prepared for Vicarious Trauma? Learn How to Build a Trauma-Informed Culture\nVicarious trauma can quietly impact your team\, but you can take action. Join our webinar on March 19th as we explore how understanding vicarious trauma can help you create a healthier\, more resilient workplace. Learn to recognize the signs\, implement strategies like the Stress Pain Container\, and develop a trauma-informed culture that supports your team’s well-being. \nRegister now to secure your spot and protect both individuals and your organization!
URL:https://osanisinclusion.ca/event/vicarious-trauma-in-the-workplace/
LOCATION:Virtual Event
CATEGORIES:Community Event,Education,Online Event,Zoom Event
ATTACH;FMTTYPE=image/png:https://osanisinclusion.ca/wp-content/uploads/2025/02/Vicarious-Trauma.png
END:VEVENT
END:VCALENDAR