BEGIN:VCALENDAR
VERSION:2.0
PRODID:-//Osanis Inclusion Services Inc. - ECPv6.15.20//NONSGML v1.0//EN
CALSCALE:GREGORIAN
METHOD:PUBLISH
X-ORIGINAL-URL:https://osanisinclusion.ca
X-WR-CALDESC:Events for Osanis Inclusion Services Inc.
REFRESH-INTERVAL;VALUE=DURATION:PT1H
X-Robots-Tag:noindex
X-PUBLISHED-TTL:PT1H
BEGIN:VTIMEZONE
TZID:America/Vancouver
BEGIN:DAYLIGHT
TZOFFSETFROM:-0800
TZOFFSETTO:-0700
TZNAME:PDT
DTSTART:20240310T100000
END:DAYLIGHT
BEGIN:STANDARD
TZOFFSETFROM:-0700
TZOFFSETTO:-0800
TZNAME:PST
DTSTART:20241103T090000
END:STANDARD
BEGIN:DAYLIGHT
TZOFFSETFROM:-0800
TZOFFSETTO:-0700
TZNAME:PDT
DTSTART:20250309T100000
END:DAYLIGHT
BEGIN:STANDARD
TZOFFSETFROM:-0700
TZOFFSETTO:-0800
TZNAME:PST
DTSTART:20251102T090000
END:STANDARD
BEGIN:DAYLIGHT
TZOFFSETFROM:-0800
TZOFFSETTO:-0700
TZNAME:PDT
DTSTART:20260308T100000
END:DAYLIGHT
BEGIN:STANDARD
TZOFFSETFROM:-0700
TZOFFSETTO:-0800
TZNAME:PST
DTSTART:20261101T090000
END:STANDARD
END:VTIMEZONE
BEGIN:VEVENT
DTSTART;VALUE=DATE:20250620
DTEND;VALUE=DATE:20250907
DTSTAMP:20260421T085051
CREATED:20250710T190356Z
LAST-MODIFIED:20250710T190356Z
UID:3734-1750377600-1757203199@osanisinclusion.ca
SUMMARY:Colour Your Summer with GVPL's 2025 BC Summer Reading Club!
DESCRIPTION:Join us for a summer of reading\, creativity\, and connection. The 2025 Summer Reading Club (SRC) runs from Friday\, June 20 to Saturday\, September 6\, and is open to children aged 14 and under. \n \nPick up your SRC reading record starting Friday\, June 20 at any GVPL branch. \n\nHow It Works\n \n• Visit any GVPL branch to pick up your free SRC package\, which includes your reading record and everything you need to get started. \n• Read—or be read to—for 20 minutes or more each day. You can read in any format\, in any language\, and in any location.\n \n• Track your progress on your reading record. One number equals one day of reading.\n \n• Return to the library each week to collect your sticker and prize.\n \n• Complete seven weeks of reading to earn a medal and celebrate your achievement. \n \n\nPrograms and Activities\n\nOur goal this summer is to encourage kids and families to connect with their local branch and enjoy all the BC Summer Reading Club has to offer. Program highlights include: \n \nVirtual Programs  \nCreative Colouring Workshop with Lauren Achtem\nTuesday\, June 24 | 3:30–4:30 pm | Online via Microsoft Teams | Ages 8–13\nJoin this year’s BC SRC artist Lauren Achtem to design and draw a habitat for the SRC critters.\n \n  \nTo register\, email programs@gvpl.ca with “Lauren Achtem” in the subject line. Include your child’s name and library card number. Registration closes June 23. \n \nIn-Person Programs \nMagic Mango Monsters with Meneka Repka\nFriday\, July 25 | 11:00 am–12:00 pm | Juan de Fuca Branch | Ages 8–12\nCreate your own monster bookmark and learn about book illustration. Includes a reading of The Mango Monster by Derek Mascarenhas. \nTo register\, email programs@gvpl.ca with “Meneka Repka” in the subject line. Include your child’s name and library card number. Limited drop-in space may be available. \n \nComic Camp with Seraji\nAugust 11–15 | Esquimalt Branch\n• Kids’ Camp (Ages 8–12): 10:30–11:30 am\n• Tween/Teen Camp (Ages 13–18): 1:00–3:00 pm\nJoin comic artist Seraji for a week-long workshop and create your own mini-comic. \nTo register\, email programs@gvpl.ca with “Comic Camp” in the subject line. Include your child’s name and library card number.
URL:https://osanisinclusion.ca/event/colour-your-summer-with-gvpls-2025-bc-summer-reading-club/
LOCATION:Greater Victoria Library
CATEGORIES:Community Event,Creative Art,Education,In-Person Event,Indoor,Kids & Family
ATTACH;FMTTYPE=image/jpeg:https://osanisinclusion.ca/wp-content/uploads/2025/07/Colour-Your-Summer.jpg
END:VEVENT
BEGIN:VEVENT
DTSTART;TZID=America/Vancouver:20250708T153000
DTEND;TZID=America/Vancouver:20250826T173000
DTSTAMP:20260421T085051
CREATED:20250710T015627Z
LAST-MODIFIED:20250710T015627Z
UID:3712-1751988600-1756229400@osanisinclusion.ca
SUMMARY:Summer of Love
DESCRIPTION:Calling all teens! Come to the Fernwood NH this summer on Tuesdays to make art- free of cost\, with snacks and supplies provided!  Contact us for any questions around age range or accessibility.This program was made possible by Zoë Cassidy’s creative legacy and the generosity of his friends and family.
URL:https://osanisinclusion.ca/event/summer-of-love/
LOCATION:FNH Studio\, 1240 Gladstone Ave\, Victoria\, BC\, V8T 1G6\, Canada
CATEGORIES:Community Event,In-Person Event,Seasonal Event
ATTACH;FMTTYPE=image/jpeg:https://osanisinclusion.ca/wp-content/uploads/2025/07/unnamed-18.jpg
END:VEVENT
BEGIN:VEVENT
DTSTART;TZID=America/Vancouver:20250801T130000
DTEND;TZID=America/Vancouver:20250801T150000
DTSTAMP:20260421T085051
CREATED:20250715T022838Z
LAST-MODIFIED:20250715T022838Z
UID:3806-1754053200-1754060400@osanisinclusion.ca
SUMMARY:VDRC - Art Group
DESCRIPTION:Our Art Group for persons with disabilities is going twice monthly this summer! Create a unique masterpiece with paints\, markers or whatever helps express yourself! \nWe will provide supplies\, including colouring books\, canvases\, felts\, paint \nWhen:     July 18th\, August 1st\, and August 15th\nTime:      1:00pm to 3:00pm\nWhere:  817A Fort Street
URL:https://osanisinclusion.ca/event/vdrc-art-group-2/
LOCATION:Victoria Disability Resource Centre\, 817A Fort Str.\, Victoria\, BC\, V8W 1H8\, Canada
CATEGORIES:Community Event,Creative Art,In-Person Event,Kids & Family
ATTACH;FMTTYPE=image/jpeg:https://osanisinclusion.ca/wp-content/uploads/2025/07/VDRC-Art.jpg
END:VEVENT
BEGIN:VEVENT
DTSTART;TZID=America/Vancouver:20250807T100000
DTEND;TZID=America/Vancouver:20250807T110000
DTSTAMP:20260421T085051
CREATED:20250710T185533Z
LAST-MODIFIED:20250710T185533Z
UID:3726-1754560800-1754564400@osanisinclusion.ca
SUMMARY:Stories in the Park
DESCRIPTION:Join Esquimalt’s Recreation staff for story time in the park. We will be reading stories from Canadian authors followed by a themed activity. These stories are intended for children ages 2-5\, but all are welcome.\n\n~Meet at the flagpole~\n\nJuly3rd      – A Garden Called Home by Jessica J Lee & Elaine Chen\nJuly 10th   – This is a Tiny Fragile Snake by Nicholas Ruddock\nJuly 17th    – The only Lonely Fairy by Lana Button\nJuly 24th   – Lobster’s Vacation by Michelle Robinson\nJuly 31st    – Class Trip by Robert Munsch\nAug 7th      – Super Small by Tiffany Stone\nAug 14th    – Brave like the Buffalo by Melissa Allen\nAug 21st     – A Bumblebee Sweater by Betty Waterton\nAug 28th    – Emma at the Fair by Magriet Ruurs\n\nTake part in our summer stories passport. Each week you attend you will receive a sticker!
URL:https://osanisinclusion.ca/event/stories-in-the-park-2-2-2/
LOCATION:Saxe Point Park\, Victoria\, BC\, V9A 6G5\, Canada
CATEGORIES:Community Event,In-Person Event,Kids & Family,Outdoor
ATTACH;FMTTYPE=image/png:https://osanisinclusion.ca/wp-content/uploads/2025/07/Stories-in-the-park-Facebook-Banner.png
END:VEVENT
BEGIN:VEVENT
DTSTART;TZID=America/Vancouver:20250809T130000
DTEND;TZID=America/Vancouver:20250809T150000
DTSTAMP:20260421T085051
CREATED:20250717T011915Z
LAST-MODIFIED:20250717T011915Z
UID:3833-1754744400-1754751600@osanisinclusion.ca
SUMMARY:Annual Community BBQ – You're Invited!
DESCRIPTION:📅 Saturday\, August 9th \n🕐 1:00–3:00 PM  \n📍 Fernwood Community Centre \nJoin us for an afternoon of good food\, great music\, and even better company at our annual Community BBQ! \nCome together with friends old and new to celebrate community\, connection\, and the joy of summer. \n🎶 Live Music\n🌭 Delicious BBQ & Refreshments\n💬 Meet new people & reconnect with friends \nThis free\, all-ages event is open to everyone — whether you’ve been to our gatherings before or you’re brand new\, we can’t wait to welcome you. \nCome hungry\, leave happy!
URL:https://osanisinclusion.ca/event/annual-community-bbq-youre-invited/
LOCATION:Fernwood Community Centre\, 1240 Gladstone Ave\, Victoria\, BC\, V8T 1G6\, Canada
CATEGORIES:Community Event,Food & Drink,In-Person Event,Kids & Family,Live Performance,Music,Outdoor,Seasonal Event
ATTACH;FMTTYPE=image/png:https://osanisinclusion.ca/wp-content/uploads/2025/07/SGP-BBQ-Socials-Graphic.png
END:VEVENT
BEGIN:VEVENT
DTSTART;TZID=America/Vancouver:20250811T110000
DTEND;TZID=America/Vancouver:20250811T123000
DTSTAMP:20260421T085051
CREATED:20250808T224106Z
LAST-MODIFIED:20250808T224931Z
UID:3979-1754910000-1754915400@osanisinclusion.ca
SUMMARY:Play Time!
DESCRIPTION:When: \n\nAugust 11\, 11:00 am – 12:30 pm \n\n\n\n\n\n\n\nJoin us at the park for some fun outdoor activities. We will have lawn games\, light sports equipment\, etc. Come spend some time with us in the fresh air and sun! \nThis is a FREE park activity \n  \n\n\n\n\n\n\n\nRelated links\n\nFollow our Facebook Event for updates\n\n\n\nContact phone\n250-412-8518\n\n\nContact email\nevents@esquimalt.ca\n\n\nContact name\nTara Silva\n\n\n\n\n\n\n\n 
URL:https://osanisinclusion.ca/event/play-time/
LOCATION:Memorial Park\, 1200 Esquimalt Rd\, Esquimalt\, BC\, V9A 3N8\, Canada
CATEGORIES:Community Event,Health & wellness,In-Person Event,Kids & Family
ATTACH;FMTTYPE=image/jpeg:https://osanisinclusion.ca/wp-content/uploads/2025/08/Play-Time.jpg
END:VEVENT
BEGIN:VEVENT
DTSTART;TZID=America/Vancouver:20250814T100000
DTEND;TZID=America/Vancouver:20250814T110000
DTSTAMP:20260421T085051
CREATED:20250710T185647Z
LAST-MODIFIED:20250710T185647Z
UID:3728-1755165600-1755169200@osanisinclusion.ca
SUMMARY:Stories in the Park
DESCRIPTION:Join Esquimalt’s Recreation staff for story time in the park. We will be reading stories from Canadian authors followed by a themed activity. These stories are intended for children ages 2-5\, but all are welcome.\n\n~Meet at the flagpole~\n\nJuly3rd      – A Garden Called Home by Jessica J Lee & Elaine Chen\nJuly 10th   – This is a Tiny Fragile Snake by Nicholas Ruddock\nJuly 17th    – The only Lonely Fairy by Lana Button\nJuly 24th   – Lobster’s Vacation by Michelle Robinson\nJuly 31st    – Class Trip by Robert Munsch\nAug 7th      – Super Small by Tiffany Stone\nAug 14th    – Brave like the Buffalo by Melissa Allen\nAug 21st     – A Bumblebee Sweater by Betty Waterton\nAug 28th    – Emma at the Fair by Magriet Ruurs\n\nTake part in our summer stories passport. Each week you attend you will receive a sticker!
URL:https://osanisinclusion.ca/event/stories-in-the-park-2-2-2-2/
LOCATION:Saxe Point Park\, Victoria\, BC\, V9A 6G5\, Canada
CATEGORIES:Community Event,In-Person Event,Kids & Family,Outdoor
ATTACH;FMTTYPE=image/png:https://osanisinclusion.ca/wp-content/uploads/2025/07/Stories-in-the-park-Facebook-Banner.png
END:VEVENT
BEGIN:VEVENT
DTSTART;TZID=America/Vancouver:20250815T130000
DTEND;TZID=America/Vancouver:20250815T150000
DTSTAMP:20260421T085051
CREATED:20250715T022906Z
LAST-MODIFIED:20250715T022906Z
UID:3808-1755262800-1755270000@osanisinclusion.ca
SUMMARY:VDRC - Art Group
DESCRIPTION:Our Art Group for persons with disabilities is going twice monthly this summer! Create a unique masterpiece with paints\, markers or whatever helps express yourself! \nWe will provide supplies\, including colouring books\, canvases\, felts\, paint \nWhen:     July 18th\, August 1st\, and August 15th\nTime:      1:00pm to 3:00pm\nWhere:  817A Fort Street
URL:https://osanisinclusion.ca/event/vdrc-art-group-3/
LOCATION:Victoria Disability Resource Centre\, 817A Fort Str.\, Victoria\, BC\, V8W 1H8\, Canada
CATEGORIES:Community Event,Creative Art,In-Person Event,Kids & Family
ATTACH;FMTTYPE=image/jpeg:https://osanisinclusion.ca/wp-content/uploads/2025/07/VDRC-Art.jpg
END:VEVENT
BEGIN:VEVENT
DTSTART;TZID=America/Vancouver:20250819T093000
DTEND;TZID=America/Vancouver:20250819T113000
DTSTAMP:20260421T085051
CREATED:20250812T224152Z
LAST-MODIFIED:20250812T224152Z
UID:4018-1755595800-1755603000@osanisinclusion.ca
SUMMARY:Make Pinback Buttons
DESCRIPTION:Join us on Tuesday August 19th from 9:30-11:30am\, for a fun peer activity: making pinback buttons! This will be held at the Victoria Disability Resource Centre\, located at 817A Fort Street. \nWe will have pre-printed designs and the materials to make your own design. If you are bringing your own materials or designs\, please make sure the dimensions range between 1-3 inches. \nRegister for the group at the following link: https://forms.gle/rfaMTSmcMQm44LXK7 \nIf you have any questions or require any accommodation\, please email recreation@drcvictoria.com. \nImage Description:  A poster for the Making Pinback Buttons workshop\, with examples of button designs people can make. All relevant info is in the above post.
URL:https://osanisinclusion.ca/event/make-pinback-buttons/
LOCATION:Victoria Disability Resource Centre\, 817A Fort Str.\, Victoria\, BC\, V8W 1H8\, Canada
CATEGORIES:Community Event,Creative Art,In-Person Event,Kids & Family
ATTACH;FMTTYPE=image/jpeg:https://osanisinclusion.ca/wp-content/uploads/2025/08/pinback-buttons.jpg
END:VEVENT
BEGIN:VEVENT
DTSTART;TZID=America/Vancouver:20250821T100000
DTEND;TZID=America/Vancouver:20250821T110000
DTSTAMP:20260421T085051
CREATED:20250710T185715Z
LAST-MODIFIED:20250710T185715Z
UID:3730-1755770400-1755774000@osanisinclusion.ca
SUMMARY:Stories in the Park
DESCRIPTION:Join Esquimalt’s Recreation staff for story time in the park. We will be reading stories from Canadian authors followed by a themed activity. These stories are intended for children ages 2-5\, but all are welcome.\n\n~Meet at the flagpole~\n\nJuly3rd      – A Garden Called Home by Jessica J Lee & Elaine Chen\nJuly 10th   – This is a Tiny Fragile Snake by Nicholas Ruddock\nJuly 17th    – The only Lonely Fairy by Lana Button\nJuly 24th   – Lobster’s Vacation by Michelle Robinson\nJuly 31st    – Class Trip by Robert Munsch\nAug 7th      – Super Small by Tiffany Stone\nAug 14th    – Brave like the Buffalo by Melissa Allen\nAug 21st     – A Bumblebee Sweater by Betty Waterton\nAug 28th    – Emma at the Fair by Magriet Ruurs\n\nTake part in our summer stories passport. Each week you attend you will receive a sticker!
URL:https://osanisinclusion.ca/event/stories-in-the-park-2-2-2-2-2/
LOCATION:Saxe Point Park\, Victoria\, BC\, V9A 6G5\, Canada
CATEGORIES:Community Event,In-Person Event,Kids & Family,Outdoor
ATTACH;FMTTYPE=image/png:https://osanisinclusion.ca/wp-content/uploads/2025/07/Stories-in-the-park-Facebook-Banner.png
END:VEVENT
BEGIN:VEVENT
DTSTART;TZID=America/Vancouver:20250826T183000
DTEND;TZID=America/Vancouver:20250826T200000
DTSTAMP:20260421T085051
CREATED:20250730T015400Z
LAST-MODIFIED:20250730T015400Z
UID:3897-1756233000-1756238400@osanisinclusion.ca
SUMMARY:YOUth Showcase
DESCRIPTION:Help Us Celebrate YOUth! \nWe are excited to be hosting our sixth annual Fed Family Summer Celebration\, featuring our first YOUth Showcase: \nTues Aug 26\, 2025\, from 6:30 to 8PM. \nJoin us for an evening that celebrates the Fed’s amazing volunteers\, 2-year members\, and the accomplishments of our Fed Family. \nShare Your Success \nAre you a young person (ages 14-28) with care experience? Did you achieve a milestone recently? Send us your achievements to be celebrated during the YOUth Showcase! \nWe’ll be spotlighting achievements both big and small (e.g. receiving your first paycheck\, buying a book you’ve wanted\, learning to make a new dish\, etc.). Submissions can be in written or visual format and the deadline to submit is August 22 at 9AM. \n 
URL:https://osanisinclusion.ca/event/youth-showcase/
CATEGORIES:Community Event,In-Person Event
ATTACH;FMTTYPE=image/png:https://osanisinclusion.ca/wp-content/uploads/2025/07/Youth-Showcase.png
END:VEVENT
BEGIN:VEVENT
DTSTART;TZID=America/Vancouver:20250828T100000
DTEND;TZID=America/Vancouver:20250828T110000
DTSTAMP:20260421T085051
CREATED:20250710T185741Z
LAST-MODIFIED:20250710T185741Z
UID:3732-1756375200-1756378800@osanisinclusion.ca
SUMMARY:Stories in the Park
DESCRIPTION:Join Esquimalt’s Recreation staff for story time in the park. We will be reading stories from Canadian authors followed by a themed activity. These stories are intended for children ages 2-5\, but all are welcome.\n\n~Meet at the flagpole~\n\nJuly3rd      – A Garden Called Home by Jessica J Lee & Elaine Chen\nJuly 10th   – This is a Tiny Fragile Snake by Nicholas Ruddock\nJuly 17th    – The only Lonely Fairy by Lana Button\nJuly 24th   – Lobster’s Vacation by Michelle Robinson\nJuly 31st    – Class Trip by Robert Munsch\nAug 7th      – Super Small by Tiffany Stone\nAug 14th    – Brave like the Buffalo by Melissa Allen\nAug 21st     – A Bumblebee Sweater by Betty Waterton\nAug 28th    – Emma at the Fair by Magriet Ruurs\n\nTake part in our summer stories passport. Each week you attend you will receive a sticker!
URL:https://osanisinclusion.ca/event/stories-in-the-park-2-2-2-2-2-2/
LOCATION:Saxe Point Park\, Victoria\, BC\, V9A 6G5\, Canada
CATEGORIES:Community Event,In-Person Event,Kids & Family,Outdoor
ATTACH;FMTTYPE=image/png:https://osanisinclusion.ca/wp-content/uploads/2025/07/Stories-in-the-park-Facebook-Banner.png
END:VEVENT
END:VCALENDAR