BEGIN:VCALENDAR
VERSION:2.0
PRODID:-//Osanis Inclusion Services Inc. - ECPv6.15.20//NONSGML v1.0//EN
CALSCALE:GREGORIAN
METHOD:PUBLISH
X-WR-CALNAME:Osanis Inclusion Services Inc.
X-ORIGINAL-URL:https://osanisinclusion.ca
X-WR-CALDESC:Events for Osanis Inclusion Services Inc.
REFRESH-INTERVAL;VALUE=DURATION:PT1H
X-Robots-Tag:noindex
X-PUBLISHED-TTL:PT1H
BEGIN:VTIMEZONE
TZID:America/Vancouver
BEGIN:DAYLIGHT
TZOFFSETFROM:-0800
TZOFFSETTO:-0700
TZNAME:PDT
DTSTART:20240310T100000
END:DAYLIGHT
BEGIN:STANDARD
TZOFFSETFROM:-0700
TZOFFSETTO:-0800
TZNAME:PST
DTSTART:20241103T090000
END:STANDARD
BEGIN:DAYLIGHT
TZOFFSETFROM:-0800
TZOFFSETTO:-0700
TZNAME:PDT
DTSTART:20250309T100000
END:DAYLIGHT
BEGIN:STANDARD
TZOFFSETFROM:-0700
TZOFFSETTO:-0800
TZNAME:PST
DTSTART:20251102T090000
END:STANDARD
BEGIN:DAYLIGHT
TZOFFSETFROM:-0800
TZOFFSETTO:-0700
TZNAME:PDT
DTSTART:20260308T100000
END:DAYLIGHT
BEGIN:STANDARD
TZOFFSETFROM:-0700
TZOFFSETTO:-0800
TZNAME:PST
DTSTART:20261101T090000
END:STANDARD
END:VTIMEZONE
BEGIN:VEVENT
DTSTART;TZID=America/Vancouver:20250520T140000
DTEND;TZID=America/Vancouver:20250610T150000
DTSTAMP:20260421T124224
CREATED:20250516T231625Z
LAST-MODIFIED:20250516T231625Z
UID:3148-1747749600-1749567600@osanisinclusion.ca
SUMMARY:Step into Nature: A Community Walking Group for Wellness
DESCRIPTION:Tuesdays\, May 20 – June 10\n 2:00–3:00 PM\nMeeting in James Bay (exact location shared upon registration) \nJoin us for a free four-week walking group supported by ParticipAction! Each week\, we’ll take a gentle\, peer-guided stroll through the scenic neighbourhoods of James Bay\, exploring Beacon Hill Park and the Dallas Road waterfront. This is a great way to move your body\, meet new people\, and enjoy the fresh air in a supportive\, low-pressure environment. \n All abilities welcome\n No cost to participate\n Register at: hello@socialgatheringplace.ca \n \nLet’s walk\, connect\, and feel good—together.
URL:https://osanisinclusion.ca/event/step-into-nature-a-community-walking-group-for-wellness/
LOCATION:James Bay
CATEGORIES:Community Event,Health & wellness,In-Person Event,Kids & Family
ATTACH;FMTTYPE=image/png:https://osanisinclusion.ca/wp-content/uploads/2025/05/SGP-Walking-Group.png
END:VEVENT
BEGIN:VEVENT
DTSTART;TZID=America/Vancouver:20250605T163000
DTEND;TZID=America/Vancouver:20250605T173000
DTSTAMP:20260421T124224
CREATED:20250528T122933Z
LAST-MODIFIED:20250528T122933Z
UID:3182-1749141000-1749144600@osanisinclusion.ca
SUMMARY:Balance & Breathe - A Mindful Movement Workshop
DESCRIPTION:We’re excited to introduce our next wellness offering — Balance & Breathe: A Mindful Movement Workshop\, starting Thursday\, June 5th\, from 4:30–5:30 PM at Island Community Mental Health (125 Skinner Street). \nThis free\, four-week series is designed to help you slow down\, move gently\, and tune into the wisdom of your body. Guided by our wonderful facilitator Lindsay\, each session will include a combination of light stretching\, guided flow\, and free-form movement. No experience needed — just come as you are. \n Open to all bodies and all abilities\n A safe and supportive space\n Register by emailing: hello@socialgatheringplace.ca \nSpots are limited\, so be sure to save yours soon. Let’s breathe\, balance\, and move together.
URL:https://osanisinclusion.ca/event/balance-breathe-a-mindful-movement-workshop/
LOCATION:Island Community Mental Health\, 125 Skinner Street\, Victoria\, B.C.\, V9A 6X4\, Canada
CATEGORIES:Community Event,Health & wellness,In-Person Event,Kids & Family,Sports & Fitness
ATTACH;FMTTYPE=image/png:https://osanisinclusion.ca/wp-content/uploads/2025/05/Happy.png
END:VEVENT
BEGIN:VEVENT
DTSTART;TZID=America/Vancouver:20250608T100000
DTEND;TZID=America/Vancouver:20250608T140000
DTSTAMP:20260421T124224
CREATED:20250506T183506Z
LAST-MODIFIED:20250506T183506Z
UID:3105-1749376800-1749391200@osanisinclusion.ca
SUMMARY:Walk and Fun Fair for Down Syndrome Awareness
DESCRIPTION:Walk for Down Syndrome Awareness\n\n\nJune 8 @ 10:00 am – 2:00 pm\n\nOn Sunday\, June 8th\, we’re hosting our annual Walk for Down Syndrome Awareness and Family Fun Fair at Beckwith Park in Saanich. This is a fantastic community event you won’t want to miss! \nThe fun runs from 10am to 2pm: \n\n10:00 AM – 11:30 AM: Get ready for the walk with fun activities\, games and bouncy castles for all ages! There will also be snacks and pizza.\n11:30 AM: Lace up your shoes and join us for a walk to raise awareness for Down syndrome.\n\nPlus\, we have some special surprises in store! There might just be an appearance from your favorite superheroes or princesses! This is our biggest fundraiser of the year\, so stay tuned for information on how you can help spread the word and raise critical funds to support programming for the Greater Victoria Down Syndrome community. \nDonate\, create teams or join as an individual.
URL:https://osanisinclusion.ca/event/walk-and-fun-fair-for-down-syndrome-awareness/
LOCATION:Beckwith Park\, 857 Beckwith Avenue\, Victoria\, BC\, V8X 3S3\, Canada
CATEGORIES:Community Event,Health & wellness,In-Person Event,Kids & Family
ATTACH;FMTTYPE=image/jpeg:https://osanisinclusion.ca/wp-content/uploads/2025/05/walk-and-fun-fair-for-down-syndrome-awareness.jpg
END:VEVENT
BEGIN:VEVENT
DTSTART;TZID=America/Vancouver:20250610T190000
DTEND;TZID=America/Vancouver:20250610T200000
DTSTAMP:20260421T124224
CREATED:20250603T110421Z
LAST-MODIFIED:20250603T110421Z
UID:3185-1749582000-1749585600@osanisinclusion.ca
SUMMARY:Fed Family Chat
DESCRIPTION:This virtual event is an opportunity to hang out with other youth in and from care and have fun. Together we can shape how we want to spend our time together. \nThis Fed Family Chat will be taking place on \nTues\, June 10 from 7-8PM. \n\nSign Up for Fed Family Chat\n\nWe are so excited to share space and connect with you!
URL:https://osanisinclusion.ca/event/fed-family-chat/
LOCATION:Virtual Event
CATEGORIES:Community Event,Kids & Family,Online Event
ATTACH;FMTTYPE=image/jpeg:https://osanisinclusion.ca/wp-content/uploads/2025/06/unnamed-7.jpg
END:VEVENT
BEGIN:VEVENT
DTSTART;TZID=America/Vancouver:20250611T183000
DTEND;TZID=America/Vancouver:20250611T200000
DTSTAMP:20260421T124224
CREATED:20250528T115540Z
LAST-MODIFIED:20250528T115540Z
UID:3178-1749666600-1749672000@osanisinclusion.ca
SUMMARY:Mental Health and Preparing for the Transition to Post Secondary
DESCRIPTION:After high school\, post-secondary education for our youth can be exciting but also stressful if they have struggled with their mental health. You’re not alone. Discover some ways we can prepare our youth for school and support their mental health and independence while they are at school. \nLearn from Dawn Schell from the University of Victoria\, Melissa Feddersen from the University of British Columbia (Okanagan) and Victoria Keddis\, a parent with lived experience. \nJoin us to watch a video presentation together and stay for a facilitated conversation by our Family Peer Support Workers. \n6:30pm-8:00pm Pacific Time (most of British Columbia)\n7:30pm-9:00pm Mountain Time (Alberta) \nThese events are funded for parents and caregivers living in the Province of British Columbia and for CASA families in Alberta. If you are from another province or territory\, or live outside of Canada\, we welcome you to visit our video library at www.familysmart.ca/videos and use our resources. Thank you. \n\n\nRegister
URL:https://osanisinclusion.ca/event/mental-health-and-preparing-for-the-transition-to-post-secondary/
LOCATION:Virtual Event
CATEGORIES:Community Event,Online Event,Zoom Event
ATTACH;FMTTYPE=image/png:https://osanisinclusion.ca/wp-content/uploads/2025/05/FS_Itk_OnlineEvent_Small.png
END:VEVENT
BEGIN:VEVENT
DTSTART;TZID=America/Vancouver:20250615T140000
DTEND;TZID=America/Vancouver:20250615T160000
DTSTAMP:20260421T124224
CREATED:20250606T004351Z
LAST-MODIFIED:20250606T004351Z
UID:3236-1749996000-1750003200@osanisinclusion.ca
SUMMARY:Family Sunday: Family Pride Day
DESCRIPTION:Our Pride Family Sunday is bursting with colour and joy! \nCreate huge\, vibrant flowers to add to our rainbow arch\, experience the excitement of portrait drawing in our exhibition spaces\, and discover how to make art in response to poetry. \nFamily Sundays are included with admission. \nAdmission is always free for the following groups: \n\nVisitors age 25 and under\nAGGV Members and See Art Pass holders\nIndigenous peoples\nSupport workers\n\nFamily Sunday happens every third (and sometimes fourth) Sunday of the month from October – June\, and is an afternoon of exploring hands-on art-making and ideas for all ages. This recurring program often features special guests like storytellers\, artists\, performers or musicians. \nLEARN MORE 
URL:https://osanisinclusion.ca/event/family-sunday-family-pride-day/
LOCATION:Art Gallery of Greater Victoria\, 1040 Moss Street\, Victoria\, BC\, Canada
CATEGORIES:Community Event,Creative Art,In-Person Event
ATTACH;FMTTYPE=image/png:https://osanisinclusion.ca/wp-content/uploads/2025/06/Intersex-inclusive_pride_flag-768x488-1.png
END:VEVENT
BEGIN:VEVENT
DTSTART;TZID=America/Vancouver:20250615T140000
DTEND;TZID=America/Vancouver:20250622T160000
DTSTAMP:20260421T124224
CREATED:20250603T160918Z
LAST-MODIFIED:20250603T160918Z
UID:3214-1749996000-1750608000@osanisinclusion.ca
SUMMARY:Paraplay Days on the Dock
DESCRIPTION:Engage in a variety of sports coached by various athletes and coaches! Get a chance to meet international level para athletes and coaches! Program will be hosted on Sunday’s\, time of day will vary based on scheduled sports. Program is hosted at PISE & various locations throughout the Greater Victoria Area. Registration for each program closes the Friday prior to program. Program is possible through funding from OneAbility Questions? Email play@pise.ca \n\nQuestions? \nFor inquiries about Kids and Youth programs\, email us at: play@pise.ca \nFor inquiries about Adult Programs email us at: programs@pise.ca \n\n\nTime:         2:00pm – 4:00pm\nLocation:  Gorge Narrow Rowing Club\nCost:          FREE\nReg:           #7705\nNote:         Para Rowing with Gorge Narrows Rowing Club\n\nRegister Now
URL:https://osanisinclusion.ca/event/paraplay-days-on-the-dock/
LOCATION:Gorge Narrows Rowing Club\, 2940 Jutland Rd #105\, Victoria\, BC\, V8T 5J9\, Canada
CATEGORIES:Community Event,Health & wellness,In-Person Event,Kids & Family,Sports & Fitness
ATTACH;FMTTYPE=image/jpeg:https://osanisinclusion.ca/wp-content/uploads/2025/06/unnamed-11.jpg
END:VEVENT
BEGIN:VEVENT
DTSTART;TZID=America/Vancouver:20250617T183000
DTEND;TZID=America/Vancouver:20250617T200000
DTSTAMP:20260421T124224
CREATED:20250528T115642Z
LAST-MODIFIED:20250528T115642Z
UID:3180-1750185000-1750190400@osanisinclusion.ca
SUMMARY:Mental Health and Preparing for the Transition to Post Secondary
DESCRIPTION:After high school\, post-secondary education for our youth can be exciting but also stressful if they have struggled with their mental health. You’re not alone. Discover some ways we can prepare our youth for school and support their mental health and independence while they are at school. \nLearn from Dawn Schell from the University of Victoria\, Melissa Feddersen from the University of British Columbia (Okanagan) and Victoria Keddis\, a parent with lived experience. \nJoin us to watch a video presentation together and stay for a facilitated conversation by our Family Peer Support Workers. \n6:30pm-8:00pm Pacific Time (most of British Columbia)\n7:30pm-9:00pm Mountain Time (Alberta) \nThese events are funded for parents and caregivers living in the Province of British Columbia and for CASA families in Alberta. If you are from another province or territory\, or live outside of Canada\, we welcome you to visit our video library at www.familysmart.ca/videos and use our resources. Thank you. \n\n\nRegister
URL:https://osanisinclusion.ca/event/mental-health-and-preparing-for-the-transition-to-post-secondary-2/
LOCATION:Virtual Event
CATEGORIES:Community Event,Online Event,Zoom Event
ATTACH;FMTTYPE=image/png:https://osanisinclusion.ca/wp-content/uploads/2025/05/FS_Itk_OnlineEvent_Small.png
END:VEVENT
BEGIN:VEVENT
DTSTART;VALUE=DATE:20250620
DTEND;VALUE=DATE:20250907
DTSTAMP:20260421T124224
CREATED:20250710T190356Z
LAST-MODIFIED:20250710T190356Z
UID:3734-1750377600-1757203199@osanisinclusion.ca
SUMMARY:Colour Your Summer with GVPL's 2025 BC Summer Reading Club!
DESCRIPTION:Join us for a summer of reading\, creativity\, and connection. The 2025 Summer Reading Club (SRC) runs from Friday\, June 20 to Saturday\, September 6\, and is open to children aged 14 and under. \n \nPick up your SRC reading record starting Friday\, June 20 at any GVPL branch. \n\nHow It Works\n \n• Visit any GVPL branch to pick up your free SRC package\, which includes your reading record and everything you need to get started. \n• Read—or be read to—for 20 minutes or more each day. You can read in any format\, in any language\, and in any location.\n \n• Track your progress on your reading record. One number equals one day of reading.\n \n• Return to the library each week to collect your sticker and prize.\n \n• Complete seven weeks of reading to earn a medal and celebrate your achievement. \n \n\nPrograms and Activities\n\nOur goal this summer is to encourage kids and families to connect with their local branch and enjoy all the BC Summer Reading Club has to offer. Program highlights include: \n \nVirtual Programs  \nCreative Colouring Workshop with Lauren Achtem\nTuesday\, June 24 | 3:30–4:30 pm | Online via Microsoft Teams | Ages 8–13\nJoin this year’s BC SRC artist Lauren Achtem to design and draw a habitat for the SRC critters.\n \n  \nTo register\, email programs@gvpl.ca with “Lauren Achtem” in the subject line. Include your child’s name and library card number. Registration closes June 23. \n \nIn-Person Programs \nMagic Mango Monsters with Meneka Repka\nFriday\, July 25 | 11:00 am–12:00 pm | Juan de Fuca Branch | Ages 8–12\nCreate your own monster bookmark and learn about book illustration. Includes a reading of The Mango Monster by Derek Mascarenhas. \nTo register\, email programs@gvpl.ca with “Meneka Repka” in the subject line. Include your child’s name and library card number. Limited drop-in space may be available. \n \nComic Camp with Seraji\nAugust 11–15 | Esquimalt Branch\n• Kids’ Camp (Ages 8–12): 10:30–11:30 am\n• Tween/Teen Camp (Ages 13–18): 1:00–3:00 pm\nJoin comic artist Seraji for a week-long workshop and create your own mini-comic. \nTo register\, email programs@gvpl.ca with “Comic Camp” in the subject line. Include your child’s name and library card number.
URL:https://osanisinclusion.ca/event/colour-your-summer-with-gvpls-2025-bc-summer-reading-club/
LOCATION:Greater Victoria Library
CATEGORIES:Community Event,Creative Art,Education,In-Person Event,Indoor,Kids & Family
ATTACH;FMTTYPE=image/jpeg:https://osanisinclusion.ca/wp-content/uploads/2025/07/Colour-Your-Summer.jpg
END:VEVENT
BEGIN:VEVENT
DTSTART;TZID=America/Vancouver:20250622T140000
DTEND;TZID=America/Vancouver:20250622T160000
DTSTAMP:20260421T124224
CREATED:20250605T235858Z
LAST-MODIFIED:20250605T235858Z
UID:3219-1750600800-1750608000@osanisinclusion.ca
SUMMARY:Paraplay Days on the Dock
DESCRIPTION:Engage in a variety of sports coached by various athletes and coaches! Get a chance to meet international level para athletes and coaches! Program will be hosted on Sunday’s\, time of day will vary based on scheduled sports. Program is hosted at PISE & various locations throughout the Greater Victoria Area. Registration for each program closes the Friday prior to program. Program is possible through funding from OneAbility Questions? Email play@pise.ca \n\nQuestions? \nFor inquiries about Kids and Youth programs\, email us at: play@pise.ca \nFor inquiries about Adult Programs email us at: programs@pise.ca \n\n\nTime:         2:00pm – 4:00pm\nLocation:  Gorge Narrow Rowing Club\nCost:          FREE\nReg:           #7705\nNote:         Para Rowing with Gorge Narrows Rowing Club\n\nRegister Now
URL:https://osanisinclusion.ca/event/paraplay-days-on-the-dock-2/
LOCATION:Gorge Narrows Rowing Club\, 2940 Jutland Rd #105\, Victoria\, BC\, V8T 5J9\, Canada
CATEGORIES:Community Event,Health & wellness,In-Person Event,Kids & Family,Sports & Fitness
ATTACH;FMTTYPE=image/jpeg:https://osanisinclusion.ca/wp-content/uploads/2025/06/unnamed-11.jpg
END:VEVENT
BEGIN:VEVENT
DTSTART;TZID=America/Vancouver:20250626T140000
DTEND;TZID=America/Vancouver:20250626T150000
DTSTAMP:20260421T124224
CREATED:20250619T231041Z
LAST-MODIFIED:20250619T231041Z
UID:3317-1750946400-1750950000@osanisinclusion.ca
SUMMARY:Fed 101 Presentation
DESCRIPTION:Interested in learning more about who we are and what we do? \nJoin us for a Fed 101 Presentation! \nWho can attend:\nOpen to young people in and from care\, service providers\, caregivers and allies across the province \nWhen: \nThurs\, June 26\, 2-3PM \nWhere: \nVirtual – Teams \nLearn more about the programs and services we offer\, from our Youth Retreats to our Fed Family celebrations\, and much more! \nSign me up! \nAre you a young person interested in co – facilitating a Fed presentation or workshop? For more info on these volunteer opportunities contact Bailey. \nEmail: bailey.ingramjohnson@fbcyicn.ca \nPhone: 778-951-3401
URL:https://osanisinclusion.ca/event/fed-101-presentation/
LOCATION:Virtual Event
CATEGORIES:Community Event,Kids & Family,Online Event
ATTACH;FMTTYPE=image/jpeg:https://osanisinclusion.ca/wp-content/uploads/2025/06/FED.jpg
END:VEVENT
END:VCALENDAR