BEGIN:VCALENDAR
VERSION:2.0
PRODID:-//Osanis Inclusion Services Inc. - ECPv6.15.20//NONSGML v1.0//EN
CALSCALE:GREGORIAN
METHOD:PUBLISH
X-WR-CALNAME:Osanis Inclusion Services Inc.
X-ORIGINAL-URL:https://osanisinclusion.ca
X-WR-CALDESC:Events for Osanis Inclusion Services Inc.
REFRESH-INTERVAL;VALUE=DURATION:PT1H
X-Robots-Tag:noindex
X-PUBLISHED-TTL:PT1H
BEGIN:VTIMEZONE
TZID:America/Vancouver
BEGIN:DAYLIGHT
TZOFFSETFROM:-0800
TZOFFSETTO:-0700
TZNAME:PDT
DTSTART:20230312T100000
END:DAYLIGHT
BEGIN:STANDARD
TZOFFSETFROM:-0700
TZOFFSETTO:-0800
TZNAME:PST
DTSTART:20231105T090000
END:STANDARD
BEGIN:DAYLIGHT
TZOFFSETFROM:-0800
TZOFFSETTO:-0700
TZNAME:PDT
DTSTART:20240310T100000
END:DAYLIGHT
BEGIN:STANDARD
TZOFFSETFROM:-0700
TZOFFSETTO:-0800
TZNAME:PST
DTSTART:20241103T090000
END:STANDARD
BEGIN:DAYLIGHT
TZOFFSETFROM:-0800
TZOFFSETTO:-0700
TZNAME:PDT
DTSTART:20250309T100000
END:DAYLIGHT
BEGIN:STANDARD
TZOFFSETFROM:-0700
TZOFFSETTO:-0800
TZNAME:PST
DTSTART:20251102T090000
END:STANDARD
END:VTIMEZONE
BEGIN:VEVENT
DTSTART;TZID=America/Vancouver:20240912T103000
DTEND;TZID=America/Vancouver:20241212T113000
DTSTAMP:20260422T180230
CREATED:20241004T002304Z
LAST-MODIFIED:20241004T002304Z
UID:2317-1726137000-1734003000@osanisinclusion.ca
SUMMARY:Joy of Music - by West Coast Reach Association
DESCRIPTION:A lively\, monthly music program for those with diverse-abilities (and their caregivers). – On the second Thursday morning of each month starting Sept. 12th\, 2024\, at McTavish Academy of Art in North Saanich.
URL:https://osanisinclusion.ca/event/joy-of-music-by-west-coast-reach-association/
LOCATION:McTavish Academy of Art (Gymnasium)\, 1720 McTavish Rd\, North Saanich\, BC\, V8L 5T9\, Canada
CATEGORIES:Community Event,Creative Art,In-Person Event,Live Performance,Music
ATTACH;FMTTYPE=image/png:https://osanisinclusion.ca/wp-content/uploads/2024/10/unnamed-2-1.png
END:VEVENT
BEGIN:VEVENT
DTSTART;TZID=America/Vancouver:20241121T100000
DTEND;TZID=America/Vancouver:20241121T113000
DTSTAMP:20260422T180230
CREATED:20241115T042703Z
LAST-MODIFIED:20241115T042703Z
UID:2527-1732183200-1732188600@osanisinclusion.ca
SUMMARY:Accessible Workplaces: Supporting People with Disabilities: In-Person & Online
DESCRIPTION:This key note will provide everyone with a better understanding of how to communicate\, support and  work with people with various types of disabilities. \nMarco will share some of his personal lived experiences as a person with a disability in the workforce and include specific tips on how to navigate some of the barriers that have been experienced by staff and the community both in-person and online.  \n Topics Covered:    \n\nUnderstanding Disability – General language\, definitions and the use of Person First Language \n\n\nBreaking Down Attitudinal Barriers – My first job and the importance of innovation \n\n\nOvercoming Physical and Virtual Barriers – How simple changes can make all the difference \n\n\nCommunicating with Confidence – Tips on language and interacting with people with disabilities \n\n\nCreating Authentic Connections – Getting to know your team and community members in a meaningful and authentic way \n\n\nWhat you can do to support inclusion – As managers and team members \n\n\nQ & A Period – Time Answer Your Questions\n\n\nDate: November 21st\, 2024 \nTime: 10:00AM – 11:30 AM (PST) \nLocation: Virtual session via Zoom \n*Once registered the link to the session will be sent out the day prior to the event. \nRegistration closes two days before the event at 4:00 PM. To ensure your participation\, please register before this deadline. \nTo Register: \nVisit our website at www.homesharingbc.ca\, under the “Events” tab from the main menu\, and click on the session link to sign up. \nWHO IS MARCO? \nMarco Pasqua is an award-winning Entrepreneur\, Accessibility Consultant and Inspirational Speaker. After graduating from the Art Institute of Vancouver\, he spent 5 years in the video game industry. During the recession of 2010\, he lost his job\, which turned out to be the biggest blessing in disguise. Marco decided it was time to use his voice to make a positive impact on the world\, so he built his own brand as a professional speaker and entrepreneur. As an entrepreneur\, he has remained focused on social impact\, keeping a philanthropic approach to the work that he does. Some of his most memorable talks include TEDxStanleyPark\, The United Way as an impact speaker and The Duke of Edinburgh Awards. Throughout his life\, Marco has also been involved with a number of organizations as a spokesperson\, helping to spread advocacy for persons with disabilities across Canada. \nAs an Accessibility and Inclusion Consultant\, he has worked with some of BC’s biggest change-driven business leaders who are champions for more accessible\, inclusive workplaces. It’s through these experiences that he is helping to pave the way for all Canadians to have universal access to the programs\, services and places that they live\, work and play. \n 
URL:https://osanisinclusion.ca/event/accessible-workplaces-supporting-people-with-disabilities-in-person-online/
CATEGORIES:Education,In-Person Event,Online Event,Zoom Event
ATTACH;FMTTYPE=image/png:https://osanisinclusion.ca/wp-content/uploads/2024/11/Marco-Pasqua.png
END:VEVENT
BEGIN:VEVENT
DTSTART;TZID=America/Vancouver:20241121T160000
DTEND;TZID=America/Vancouver:20241121T173000
DTSTAMP:20260422T180230
CREATED:20241115T033557Z
LAST-MODIFIED:20241115T033557Z
UID:2492-1732204800-1732210200@osanisinclusion.ca
SUMMARY:Teens In Control
DESCRIPTION:This workshop is for youth ages 13 – 18 years old who have a family member or friend with a mental illness or substance use disorder. Each session gives youth the opportunity to connect with peers who share similar experiences while learning about mental illness\, self-care techniques\, and skills for communicating with a loved one with mental illness. \n\n\nDates:  Thursday\, November 21 &  2024 \nThursday\, November 28\, 2024 \nTime: 4:00 pm – 5:30 pm \nLocation: Esquimalt Neighbourhood House Society \n\n\nRVSP: Mary Beth Hall: manager@bcssyouth.org | 236-335-0917 
URL:https://osanisinclusion.ca/event/teens-in-control/
LOCATION:Esquimalt Neighbourhood House Society\, 511 Constance Avenue\, Victoria\, BC\, Canada
CATEGORIES:Education,In-Person Event
ATTACH;FMTTYPE=image/jpeg:https://osanisinclusion.ca/wp-content/uploads/2024/11/Teens-in-Control.jpg
END:VEVENT
BEGIN:VEVENT
DTSTART;TZID=America/Vancouver:20241121T190000
DTEND;TZID=America/Vancouver:20241121T200000
DTSTAMP:20260422T180230
CREATED:20241109T034205Z
LAST-MODIFIED:20241109T034205Z
UID:2463-1732215600-1732219200@osanisinclusion.ca
SUMMARY:SASS Monthly Caregiver Support Meeting
DESCRIPTION:SASS MONTHLY CAREGIVER SUPPORT MEETING – Thursday\, November 21 at 7 pm @ the Seaparc Boardroom (with new dimmer switch for better lighting) \nSpecial Topic: Sexual Health & Education – For All Ages \nGuest Speaker: Lexi Kosick\, M.Ed.\, BCBA FIVE Behaviourial \nA big THANK YOU to our meeting sponsor this month Bosley’s Pets who has graciously donated a Gift Certificate for our Door Prize : ) \nWe will be distributing the  Holiday Craft & Care Packages at this meeting \nThere will be Final Registration for Sensory Santa in December which takes place on Friday\, December 13 from 5:00 pm – 8:30 pm \n  \nSASS FESTIVAL OF TREES FAMILY EVENT – Sunday\, November 24 from 10:00 am – 1:00 pm @ Seaparc \nCome help us decorate the SASS-sponsored Tree at the Festival of Trees \nAlso enjoy a Family Swim or Skate compliments of SASS!
URL:https://osanisinclusion.ca/event/sass-monthly-caregiver-support-meeting/
LOCATION:Sooke Autism Support Society\, 6489 Beechwood Place\, Sooke\, BC\, V9Z 0Y7\, Canada
CATEGORIES:Community Event,In-Person Event
ATTACH;FMTTYPE=image/jpeg:https://osanisinclusion.ca/wp-content/uploads/2024/11/SASS.jpg
END:VEVENT
END:VCALENDAR