BEGIN:VCALENDAR
VERSION:2.0
PRODID:-//Osanis Inclusion Services Inc. - ECPv6.15.20//NONSGML v1.0//EN
CALSCALE:GREGORIAN
METHOD:PUBLISH
X-WR-CALNAME:Osanis Inclusion Services Inc.
X-ORIGINAL-URL:https://osanisinclusion.ca
X-WR-CALDESC:Events for Osanis Inclusion Services Inc.
REFRESH-INTERVAL;VALUE=DURATION:PT1H
X-Robots-Tag:noindex
X-PUBLISHED-TTL:PT1H
BEGIN:VTIMEZONE
TZID:America/Vancouver
BEGIN:DAYLIGHT
TZOFFSETFROM:-0800
TZOFFSETTO:-0700
TZNAME:PDT
DTSTART:20230312T100000
END:DAYLIGHT
BEGIN:STANDARD
TZOFFSETFROM:-0700
TZOFFSETTO:-0800
TZNAME:PST
DTSTART:20231105T090000
END:STANDARD
BEGIN:DAYLIGHT
TZOFFSETFROM:-0800
TZOFFSETTO:-0700
TZNAME:PDT
DTSTART:20240310T100000
END:DAYLIGHT
BEGIN:STANDARD
TZOFFSETFROM:-0700
TZOFFSETTO:-0800
TZNAME:PST
DTSTART:20241103T090000
END:STANDARD
BEGIN:DAYLIGHT
TZOFFSETFROM:-0800
TZOFFSETTO:-0700
TZNAME:PDT
DTSTART:20250309T100000
END:DAYLIGHT
BEGIN:STANDARD
TZOFFSETFROM:-0700
TZOFFSETTO:-0800
TZNAME:PST
DTSTART:20251102T090000
END:STANDARD
END:VTIMEZONE
BEGIN:VEVENT
DTSTART;TZID=America/Vancouver:20240912T103000
DTEND;TZID=America/Vancouver:20241212T113000
DTSTAMP:20260422T180226
CREATED:20241004T002304Z
LAST-MODIFIED:20241004T002304Z
UID:2317-1726137000-1734003000@osanisinclusion.ca
SUMMARY:Joy of Music - by West Coast Reach Association
DESCRIPTION:A lively\, monthly music program for those with diverse-abilities (and their caregivers). – On the second Thursday morning of each month starting Sept. 12th\, 2024\, at McTavish Academy of Art in North Saanich.
URL:https://osanisinclusion.ca/event/joy-of-music-by-west-coast-reach-association/
LOCATION:McTavish Academy of Art (Gymnasium)\, 1720 McTavish Rd\, North Saanich\, BC\, V8L 5T9\, Canada
CATEGORIES:Community Event,Creative Art,In-Person Event,Live Performance,Music
ATTACH;FMTTYPE=image/png:https://osanisinclusion.ca/wp-content/uploads/2024/10/unnamed-2-1.png
END:VEVENT
BEGIN:VEVENT
DTSTART;TZID=America/Vancouver:20240924T130000
DTEND;TZID=America/Vancouver:20241015T150000
DTSTAMP:20260422T180226
CREATED:20240910T002328Z
LAST-MODIFIED:20241004T182203Z
UID:2218-1727182800-1729004400@osanisinclusion.ca
SUMMARY:Therapeutic Photography Workshop
DESCRIPTION:In partnership with MHRP SI and supported by the CRD IDEAS grant\, join Rachel for 4 weeks of therapeutic photography. \nCome out and meet like-minded people\, have fun and learn the basics of photography skills like the rule of thirds and composition using your smartphone or camera! \nThe first meeting with be held at the MHRP SI Boardroom (941 Kings Rd) Tuesday\, Sept 24th 1-3pm\, followed by 2 community outings to spark creativity and capture scenes in some of our cities most beautiful spots. \nOn the last meeting\, we will return to the MHRP SI Boardroom to share and celebrate the photographs taken throughout our journey together. \nPlease bring with you a smart phone or camera – final prints will be provided by Social Gathering Place. \nTo register\, please email hello@socialgatheringplace.ca
URL:https://osanisinclusion.ca/event/therapeutic-photography-workshop/
LOCATION:MHRPI SI Boardroom\, 941 Kings Rd\, Victoria\, BC\, V8T1W7\, Canada
CATEGORIES:Community Event,Creative Art
ATTACH;FMTTYPE=image/png:https://osanisinclusion.ca/wp-content/uploads/2024/09/WorkshopFlyersocialpost.png
END:VEVENT
BEGIN:VEVENT
DTSTART;TZID=America/Vancouver:20241002T154500
DTEND;TZID=America/Vancouver:20241023T163000
DTSTAMP:20260422T180226
CREATED:20240906T230358Z
LAST-MODIFIED:20241004T182122Z
UID:2168-1727883900-1729701000@osanisinclusion.ca
SUMMARY:Dance Together with Tiffany & Erin
DESCRIPTION:Dance Together with Tiffany & Erin \nWe’ve heard your requests and it’s finally here: A friends and family class! This intergenerational class is designed for individuals of all abilities to get moving together. It’s a space for friends and family to playfully connect through dance and music based activities. \nProgram Details \n\nWednesday afternoons from 3:45pm to 4:30pm\nOctober 2nd\, 9th\, 16th\, and 23rd\nThis intergenerational program is open for individuals of all abilities ages 6 and up. \nDancers under the age of 14 are asked to attend with a family member or support.\nAt Theatre SKAM (846 Broughton St.)\nFree Program\n\nRegister here: https://docs.google.com/forms/d/e/1FAIpQLScVBcMTEb7m1hGqLOPRPYmayEA6OAY_YO7udOpG8VGFgU21Qg/viewform
URL:https://osanisinclusion.ca/event/dance-together-with-tiffany-erin/
LOCATION:Theatre SKAM\, 846 Broughton St.\, Victoria\, BC\, V8W 1E4\, Canada
CATEGORIES:Community Event,Creative Art,Kids & Family
ATTACH;FMTTYPE=image/jpeg:https://osanisinclusion.ca/wp-content/uploads/2024/09/embrace1.jpg
END:VEVENT
BEGIN:VEVENT
DTSTART;TZID=America/Vancouver:20241003T183000
DTEND;TZID=America/Vancouver:20241023T200000
DTSTAMP:20260422T180226
CREATED:20241003T235901Z
LAST-MODIFIED:20241003T235901Z
UID:2309-1727980200-1729713600@osanisinclusion.ca
SUMMARY:Connect and Learn - Monthly Events
DESCRIPTION:Monthly events for families and caring adults who are parenting a child or youth with mental health and/or substance use challenges. \nRegistration Required. \nVisit: https://familysmart.ca/monthly-events/
URL:https://osanisinclusion.ca/event/connect-and-learn-monthly-events/
CATEGORIES:Community Event,Education,In-Person Event,Zoom Event
ATTACH;FMTTYPE=image/png:https://osanisinclusion.ca/wp-content/uploads/2024/10/unnamed-3.png
END:VEVENT
BEGIN:VEVENT
DTSTART;TZID=America/Vancouver:20241005T090000
DTEND;TZID=America/Vancouver:20241005T160000
DTSTAMP:20260422T180226
CREATED:20240615T012125Z
LAST-MODIFIED:20240624T200213Z
UID:1641-1728118800-1728144000@osanisinclusion.ca
SUMMARY:Survive Strive Thrive 2024
DESCRIPTION:Welcome to Survive Strive Thrive 2024! \nJoin us for an exciting event filled with inspiration\, motivation\, and growth. This in-person gathering will take place at the Michele Pujol Room\, Student Union Building. Get ready to connect with like-minded individuals\, learn valuable insights\, and take your personal and professional development to the next level. \nWhether you’re looking to overcome challenges\, set new goals\, or simply network with others on a similar journey\, Survive Strive Thrive 2024 is the place to be. Don’t miss out on this opportunity to thrive and make meaningful connections. Mark your calendars and get ready for an unforgettable experience! \nDownload the “conf.app” app on the App Store or Play Store and use access code “SST”.
URL:https://osanisinclusion.ca/event/survive-strive-thrive-2024/
LOCATION:Michele Pujol Room\, Student Union Building\, 3800 Finnerty Road\, Victoria\, BC\, V8P 5C2
CATEGORIES:Community Event,Health & wellness
ATTACH;FMTTYPE=image/jpeg:https://osanisinclusion.ca/wp-content/uploads/2024/06/https___cdn.evbuc_.com_images_755135509_50380222084_1_original.jpeg
END:VEVENT
BEGIN:VEVENT
DTSTART;TZID=America/Vancouver:20241005T103000
DTEND;TZID=America/Vancouver:20241005T114500
DTSTAMP:20260422T180226
CREATED:20241003T231103Z
LAST-MODIFIED:20241003T231401Z
UID:2305-1728124200-1728128700@osanisinclusion.ca
SUMMARY:Virtual Yoga (hosted by CAN) for Autistic Youth & Adults
DESCRIPTION:Join us for Yoga with Mel! Open to all levels of yoga experience\, this class focuses on breath\, movement\, and relaxation. This is a safe and welcoming for individuals of all abilities to explore the benefits of yoga. \nPROGRAM REQUIREMENTS: \n• A formal autism diagnosis is NOT required; participants can self-identify as Autistic. \n• Participants must have a CAN account. \n• Participants must be of the correct age when the program starts. \n  \nREGISTRATION INFO: \n• Registration is first-come\, first-served. Open while availability lasts. \n• Waitlist option will appear once the session is full.
URL:https://osanisinclusion.ca/event/virtual-yoga-hosted-by-can-for-autistic-youth-adults/
LOCATION:Virtual Event
CATEGORIES:Community Event,Health & wellness,Online Event
ATTACH;FMTTYPE=image/png:https://osanisinclusion.ca/wp-content/uploads/2024/10/unnamed-2.png
END:VEVENT
END:VCALENDAR